Workbook

Sheet 전체집계표
A1: 전 체 편 입 용 지 집 계 표
A2: 0
A3: 지 목 | C3: 총 계 | F3: 국 유 지 | I3: 사 유 지 | L3: 비 고
C5: 필 지 / 면 적 | F5: 필 지 / 면 적 | I5: 필 지 / 면 적
A6: 총 계 | C6: =SUM(C7:C16) -> 213 | D6: ／ | E6: =SUM(E7:E16) -> 199392 | F6: =SUM(F7:F16) -> 0 | G6: ／ | H6: =SUM(H7:H16) -> 0 | I6: =SUM(I7:I16) -> 0 | J6: ／ | K6: =SUM(K7:K16) -> 0
A7: 전 | C7: =COUNTIF('용지조서-전체'!$D$4:$D$506,"전") -> 87 | D7: ／ | E7: =SUMIF('용지조서-전체'!$D$4:$D$506,"전",'용지조서-전체'!$F$4:$F$506) -> 48779 | F7: =COUNTIF('용지조서-전체'!R4:R506,"국전") -> 0 | G7: ／ | H7: =SUMIF('용지조서-전체'!R4:R506,"국전",'용지조서-전체'!F4:F506) -> 0 | I7: =COUNTIF('용지조서-전체'!R4:R506,"사전") -> 0 | J7: ／ | K7: =SUMIF('용지조서-전체'!R4:R506,"사전",'용지조서-전체'!F4:F506) -> 0
A8: 답 | C8: =COUNTIF('용지조서-전체'!$D$4:$D$506,"답") -> 79 | D8: ／ | E8: =SUMIF('용지조서-전체'!$D$4:$D$506,"답",'용지조서-전체'!$F$4:$F$506) -> 95083 | F8: =COUNTIF('용지조서-전체'!R4:R506,"국답") -> 0 | G8: ／ | H8: =SUMIF('용지조서-전체'!R4:R506,"국답",'용지조서-전체'!F4:F506) -> 0 | I8: =COUNTIF('용지조서-전체'!R4:R506,"사답") -> 0 | J8: ／ | K8: =SUMIF('용지조서-전체'!R4:R506,"사답",'용지조서-전체'!F4:F506) -> 0
A9: 대 지 | C9: =COUNTIF('용지조서-전체'!$D$4:$D$506,"대") -> 8 | D9: ／ | E9: =SUMIF('용지조서-전체'!$D$4:$D$506,"대",'용지조서-전체'!$F$4:$F$506) -> 15265 | F9: =COUNTIF('용지조서-전체'!R4:R506,"국대") -> 0 | G9: ／ | H9: =SUMIF('용지조서-전체'!R4:R506,"국대",'용지조서-전체'!F4:F506) -> 0 | I9: =COUNTIF('용지조서-전체'!R4:R506,"사대") -> 0 | J9: ／ | K9: =SUMIF('용지조서-전체'!R4:R506,"사대",'용지조서-전체'!F4:F506) -> 0
A10: 도 로 | C10: =COUNTIF('용지조서-전체'!$D$4:$D$506,"도") -> 20 | D10: ／ | E10: =SUMIF('용지조서-전체'!$D$4:$D$506,"도",'용지조서-전체'!$F$4:$F$506) -> 26707 | F10: =COUNTIF('용지조서-전체'!R4:R506,"국도") -> 0 | G10: ／ | H10: =SUMIF('용지조서-전체'!R4:R506,"국도",'용지조서-전체'!F4:F506) -> 0 | I10: =COUNTIF('용지조서-전체'!R4:R506,"사도") -> 0 | J10: ／ | K10: =SUMIF('용지조서-전체'!R4:R506,"사도",'용지조서-전체'!F4:F506) -> 0
A11: 임 야 | C11: =COUNTIF('용지조서-전체'!$D$4:$D$506,"임") -> 16 | D11: ／ | E11: =SUMIF('용지조서-전체'!$D$4:$D$506,"임",'용지조서-전체'!$F$4:$F$506) -> 13048 | F11: =COUNTIF('용지조서-전체'!R4:R506,"국임") -> 0 | G11: ／ | H11: =SUMIF('용지조서-전체'!R4:R506,"국임",'용지조서-전체'!F4:F506) -> 0 | I11: =COUNTIF('용지조서-전체'!R4:R506,"사임") -> 0 | J11: ／ | K11: =SUMIF('용지조서-전체'!R4:R506,"사임",'용지조서-전체'!F4:F506) -> 0
A12: 구 거 | C12: =COUNTIF('용지조서-전체'!$D$4:$D$506,"구") -> 2 | D12: ／ | E12: =SUMIF('용지조서-전체'!$D$4:$D$506,"구",'용지조서-전체'!$F$4:$F$506) -> 427 | F12: =COUNTIF('용지조서-전체'!R4:R506,"국구") -> 0 | G12: ／ | H12: =SUMIF('용지조서-전체'!R4:R506,"국구",'용지조서-전체'!F4:F506) -> 0 | I12: =COUNTIF('용지조서-전체'!R4:R506,"사구") -> 0 | J12: ／ | K12: =SUMIF('용지조서-전체'!R4:R506,"사구",'용지조서-전체'!F4:F506) -> 0
A13: 공 원 | C13: =COUNTIF('용지조서-전체'!$D$4:$D$506,"공") -> 0 | D13: ／ | E13: =SUMIF('용지조서-전체'!$D$4:$D$506,"공",'용지조서-전체'!$F$4:$F$506) -> 0 | F13: =COUNTIF('용지조서-전체'!R4:R506,"국공") -> 0 | G13: ／ | H13: =SUMIF('용지조서-전체'!R4:R506,"국공",'용지조서-전체'!F4:F506) -> 0 | I13: =COUNTIF('용지조서-전체'!R4:R506,"공") -> 0 | J13: ／ | K13: =SUMIF('용지조서-전체'!R4:R506,"사공",'용지조서-전체'!F4:F506) -> 0
A14: 잡종지 | C14: =COUNTIF('용지조서-전체'!$D$4:$D$506,"잡") -> 1 | D14: ／ | E14: =SUMIF('용지조서-전체'!$D$4:$D$506,"잡",'용지조서-전체'!$F$4:$F$506) -> 83 | F14: =COUNTIF('용지조서-전체'!R4:R506,"국잡") -> 0 | G14: ／ | H14: =SUMIF('용지조서-전체'!R4:R506,"국잡",'용지조서-전체'!F4:F506) -> 0 | I14: =COUNTIF('용지조서-전체'!R4:R506,"사잡") -> 0 | J14: ／ | K14: =SUMIF('용지조서-전체'!R4:R506,"사잡",'용지조서-전체'!F4:F506) -> 0

Sheet 용지조서-전체
A1: 순번 | B1: 소재지 | C1: 지번 | D1: 지목 | E1: 공부상면적 | F1: 편입면적 | G1: 소 유 자 | I1: 이해관계인의 주소ㆍ성명 | L1: 편 입 지장물 | M1: 규 격 | N1: 단위 | O1: 수량 | P1: 비고
E3: (m2) | F3: (m2) | G3: 성 명 | H3: 주 소 | I3: 권리의 종류 | J3: 성명 | K3: 주소
A4: 1 | B4: 영암읍 교동리 | C4: 49-6 | D4: 전 | E4: 112 | F4: 112 | G4: 전라남도
A5: 2 | B5: 영암읍 교동리 | C5: 49-8 | D5: 전 | E5: 48 | F5: 48 | G5: 김*숙 | H5: 영암읍 서남리 136
A6: 3 | B6: 영암읍 교동리 | C6: 49-11 | D6: 전 | E6: 55 | F6: 55 | G6: 전라남도
A7: 4 | B7: 영암읍 교동리 | C7: 52-2 | D7: 전 | E7: 30 | F7: 30 | G7: 전라남도
A8: 5 | B8: 영암읍 교동리 | C8: 71-2 | D8: 도로 | E8: 126 | F8: =E8 -> 126 | G8: 전라남도
A9: 6 | B9: 영암읍 교동리 | C9: 71-3 | D9: 답 | E9: 2586 | F9: 2586 | G9: 박*규 | H9: 영암읍 교동리 199-1 | I9: 근저당 지상권 | J9: 영암축산업 협동조합 | K9: 영암읍 월출로 6 | L9: 매화나무 | N9: 148 | O9: 주
L10: 뽕나무 | N10: 3 | O10: 주
L11: 감나무 | N11: 5 | O11: 주
L12: 느티나무 | N12: 10 | O12: 주
L13: 두릎 | N13: 1 | O13: 주
L14: 표시석 | N14: 1 | O14: 식
A15: 7 | B15: 영암읍 교동리 | C15: 72-2 | D15: 답 | E15: 568 | F15: 568 | G15: 김*열 | H15: 순천시 장천동 234-10 진성아파트202 | I15: 근정당 | J15: 영암농업 협동조합 | K15: 영암읍 낭주로 132
A16: 8 | B16: 영암읍 교동리 | C16: 73-1 | D16: 답 | E16: 42 | F16: 42 | G16: 정*수 | H16: 영암읍 영암로 1526
A17: 9 | B17: 영암읍 교동리 | C17: 73-3 | D17: 답 | E17: 8 | F17: 8 | G17: 전라남도
A18: 10 | B18: 영암읍 교동리 | C18: 74-3 | D18: 답 | E18: 1722 | F18: 1722 | G18: 김*식 | H18: 영암읍 서남리 82 | L18: 감나무 | N18: 155 | O18: 주
L19: 대추나무 | N19: 1 | O19: 주
L20: 배나무 | N20: 1 | O20: 주
L21: 소사 | N21: 1 | O21: 주
A22: 11 | B22: 영암읍 교동리 | C22: 74-4 | D22: 답 | E22: 916 | F22: 916 | G22: 정*수 | H22: 영암읍 영암로 1413 | I22: 근저당 | J22: 농업은행 주식회사 | K22: 서울특별시 중구 통일로 120 영암군지부
B23: 영암읍 교동리 | C23: 74-6 | D23: 주 | E23: 32 | F23: 32 | G23: 전라남도
A24: 12 | B24: 영암읍 교동리 | C24: 74-7 | D24: 답 | E24: 361 | F24: 361 | G24: 전라남도
A25: 13 | B25: 영암읍 교동리 | C25: 75-2 | D25: 답 | E25: 398 | F25: 398 | G25: 전라남도
A26: 14 | B26: 영암읍 교동리 | C26: 77-1 | D26: 도로 | E26: 949 | F26: 949 | G26: 영암군
A27: 15 | B27: 영암읍 교동리 | C27: 77-2 | D27: 전 | E27: 33 | F27: 33 | G27: 영암군
A28: 16 | B28: 영암읍 교동리 | C28: 77-8 | D28: 전 | E28: 17 | F28: 17 | G28: 영암군
A29: 17 | B29: 영암읍 교동리 | C29: 74-1 | D29: 주유 | E29: 1691 | F29: =E29 -> 1691 | G29: 정*수 | H29: 영암읍 영암로 1526 | I29: 근저당 | J29: 농업은행 주식회사 | K29: 서울특별시 중구 통일로 120 영암군지부 | L29: 주택 및 사무소 | M29: 철근콘크리트조 스레트지붕2층 | N29: 372.87 | O29: m2
A30: 18 | B30: 영암읍 교동리 | C30: 78 | D30: 주유 | E30: 1348 | F30: =E30 -> 1348 | G30: 정*수 | H30: 영암읍 영암로 1526 | I30: 근저당 | J30: 농업은행 주식회사 | K30: 서울특별시 중구 통일로 120 영암군지부 | L30: 수리점 | M30: 철근콘크리트지붕 스라브지붕 | N30: 62.37 | O30: m2
A31: 19 | B31: 영암읍 교동리 | C31: 78-2 | D31: 주 | E31: 18 | F31: 18 | G31: 전라남도
A32: 20 | B32: 영암읍 교동리 | C32: 79 | D32: 주유 | E32: 562 | F32: =E32 -> 562 | G32: 정*수 | H32: 영암읍 영암로 1526 | I32: 근저당 | J32: 농업은행 주식회사 | K32: 서울특별시 중구 통일로 120 영암군지부 | L32: 케노비 | M32: 철골조 | N32: 77 | O32: m2
L33: 가추 | M33: 철파이프조 강판지붕 | N33: 37.8 | O33: m2
L34: 주차용도 | M34: 철파이프조 천막위 아크릴지붕 | N34: 22.2 | O34: m2
L35: 차양 | M35: 철파이프 차양지붕 | N35: 70 | O35: m2
L36: 세차장 | M36: 철파이프 아크릴지붕 | N36: 29.6 | O36: m2
L37: 기계실 | M37: 판넬조 강판지붕 | N37: 21.7 | O37: m2
L38: 컨테이너 | M38: 3*6 | N38: 1 | O38: 식
L39: 기계일체 | M39: 주유시, 세차기, 탱크 등 | N39: 1 | O39: 식
L40: 담장 | M40: 콘크리트 | N40: 98 | O40: m
L41: 담장 | M41: 강판 | N41: 17 | O41: m
...
