Workbook

Sheet 전체집계표
A1: 전 체 편 입 용 지 집 계 표
A2: 0
A3: 지 목 | C3: 총 계 | F3: 국 유 지 | I3: 사 유 지 | L3: 비 고
C5: 필 지 / 면 적 | F5: 필 지 / 면 적 | I5: 필 지 / 면 적
A6: 총 계 | C6: =SUM(C7:C16) -> 213 | D6: ／ | E6: =SUM(E7:E16) -> 199392 | F6: =SUM(F7:F16) -> 0 | G6: ／ | H6: =SUM(H7:H16) -> 0 | I6: =SUM(I7:I16) -> 0 | J6: ／ | K6: =SUM(K7:K16) -> 0
A7: 전 | C7: =COUNTIF('용지조서-전체'!$D$4:$D$506,"전") -> 87 | D7: ／ | E7: =SUMIF('용지조서-전체'!$D$4:$D$506,"전",'용지조서-전체'!$F$4:$F$506) -> 48779 | F7: =COUNTIF('용지조서-전체'!R4:R506,"국전") -> 0 | G7: ／ | H7: =SUMIF('용지조서-전체'!R4:R506,"국전",'용지조서-전체'!F4:F506) -> 0 | I7: =COUNTIF('용지조서-전체'!R4:R506,"사전") -> 0 | J7: ／ | K7: =SUMIF('용지조서-전체'!R4:R506,"사전",'용지조서-전체'!F4:F506) -> 0
A8: 답 | C8: =COUNTIF('용지조서-전체'!$D$4:$D$506,"답") -> 79 | D8: ／ | E8: =SUMIF('용지조서-전체'!$D$4:$D$506,"답",'용지조서-전체'!$F$4:$F$506) -> 95083 | F8: =COUNTIF('용지조서-전체'!R4:R506,"국답") -> 0 | G8: ／ | H8: =SUMIF('용지조서-전체'!R4:R506,"국답",'용지조서-전체'!F4:F506) -> 0 | I8: =COUNTIF('용지조서-전체'!R4:R506,"사답") -> 0 | J8: ／ | K8: =SUMIF('용지조서-전체'!R4:R506,"사답",'용지조서-전체'!F4:F506) -> 0
A9: 대 지 | C9: =COUNTIF('용지조서-전체'!$D$4:$D$506,"대") -> 8 | D9: ／ | E9: =SUMIF('용지조서-전체'!$D$4:$D$506,"대",'용지조서-전체'!$F$4:$F$506) -> 15265 | F9: =COUNTIF('용지조서-전체'!R4:R506,"국대") -> 0 | G9: ／ | H9: =SUMIF('용지조서-전체'!R4:R506,"국대",'용지조서-전체'!F4:F506) -> 0 | I9: =COUNTIF('용지조서-전체'!R4:R506,"사대") -> 0 | J9: ／ | K9: =SUMIF('용지조서-전체'!R4:R506,"사대",'용지조서-전체'!F4:F506) -> 0
A10: 도 로 | C10: =COUNTIF('용지조서-전체'!$D$4:$D$506,"도") -> 20 | D10: ／ | E10: =SUMIF('용지조서-전체'!$D$4:$D$506,"도",'용지조서-전체'!$F$4:$F$506) -> 26707 | F10: =COUNTIF('용지조서-전체'!R4:R506,"국도") -> 0 | G10: ／ | H10: =SUMIF('용지조서-전체'!R4:R506,"국도",'용지조서-전체'!F4:F506) -> 0 | I10: =COUNTIF('용지조서-전체'!R4:R506,"사도") -> 0 | J10: ／ | K10: =SUMIF('용지조서-전체'!R4:R506,"사도",'용지조서-전체'!F4:F506) -> 0
A11: 임 야 | C11: =COUNTIF('용지조서-전체'!$D$4:$D$506,"임") -> 16 | D11: ／ | E11: =SUMIF('용지조서-전체'!$D$4:$D$506,"임",'용지조서-전체'!$F$4:$F$506) -> 13048 | F11: =COUNTIF('용지조서-전체'!R4:R506,"국임") -> 0 | G11: ／ | H11: =SUMIF('용지조서-전체'!R4:R506,"국임",'용지조서-전체'!F4:F506) -> 0 | I11: =COUNTIF('용지조서-전체'!R4:R506,"사임") -> 0 | J11: ／ | K11: =SUMIF('용지조서-전체'!R4:R506,"사임",'용지조서-전체'!F4:F506) -> 0
A12: 구 거 | C12: =COUNTIF('용지조서-전체'!$D$4:$D$506,"구") -> 2 | D12: ／ | E12: =SUMIF('용지조서-전체'!$D$4:$D$506,"구",'용지조서-전체'!$F$4:$F$506) -> 427 | F12: =COUNTIF('용지조서-전체'!R4:R506,"국구") -> 0 | G12: ／ | H12: =SUMIF('용지조서-전체'!R4:R506,"국구",'용지조서-전체'!F4:F506) -> 0 | I12: =COUNTIF('용지조서-전체'!R4:R506,"사구") -> 0 | J12: ／ | K12: =SUMIF('용지조서-전체'!R4:R506,"사구",'용지조서-전체'!F4:F506) -> 0
A13: 공 원 | C13: =COUNTIF('용지조서-전체'!$D$4:$D$506,"공") -> 0 | D13: ／ | E13: =SUMIF('용지조서-전체'!$D$4:$D$506,"공",'용지조서-전체'!$F$4:$F$506) -> 0 | F13: =COUNTIF('용지조서-전체'!R4:R506,"국공") -> 0 | G13: ／ | H13: =SUMIF('용지조서-전체'!R4:R506,"국공",'용지조서-전체'!F4:F506) -> 0 | I13: =COUNTIF('용지조서-전체'!R4:R506,"공") -> 0 | J13: ／ | K13: =SUMIF('용지조서-전체'!R4:R506,"사공",'용지조서-전체'!F4:F506) -> 0
A14: 잡종지 | C14: =COUNTIF('용지조서-전체'!$D$4:$D$506,"잡") -> 1 | D14: ／ | E14: =SUMIF('용지조서-전체'!$D$4:$D$506,"잡",'용지조서-전체'!$F$4:$F$506) -> 83 | F14: =COUNTIF('용지조서-전체'!R4:R506,"국잡") -> 0 | G14: ／ | H14: =SUMIF('용지조서-전체'!R4:R506,"국잡",'용지조서-전체'!F4:F506) -> 0 | I14: =COUNTIF('용지조서-전체'!R4:R506,"사잡") -> 0 | J14: ／ | K14: =SUMIF('용지조서-전체'!R4:R506,"사잡",'용지조서-전체'!F4:F506) -> 0

Sheet 용지조서-전체
A1: 순번 | B1: 소재지 | C1: 지번 | D1: 지목 | E1: 공부상면적 | F1: 편입면적 | G1: 소 유 자 | I1: 이해관계인의 주소ㆍ성명 | L1: 편 입 지장물 | M1: 규 격 | N1: 단위 | O1: 수량 | P1: 비고
E3: (m2) | F3: (m2) | G3: 성 명 | H3: 주 소 | I3: 권리의 종류 | J3: 성명 | K3: 주소
A4: 1 | B4: 영암읍 교동리 | C4: 49-6 | D4: 전 | E4: 112 | F4: 112 | G4: 전라남도
A5: 2 | B5: 영암읍 교동리 | C5: 49-8 | D5: 전 | E5: 48 | F5: 48 | G5: 김*숙 | H5: 영암읍 서남리 136
A6: 3 | B6: 영암읍 교동리 | C6: 49-11 | D6: 전 | E6: 55 | F6: 55 | G6: 전라남도
A7: 4 | B7: 영암읍 교동리 | C7: 52-2 | D7: 전 | E7: 30 | F7: 30 | G7: 전라남도
A8: 5 | B8: 영암읍 교동리 | C8: 71-2 | D8: 도로 | E8: 126 | F8: =E8 -> 126 | G8: 전라남도
A9: 6 | B9: 영암읍 교동리 | C9: 71-3 | D9: 답 | E9: 2586 | F9: 2586 | G9: 박*규 | H9: 영암읍 교동리 199-1 | I9: 근저당 지상권 | J9: 영암축산업 협동조합 | K9: 영암읍 월출로 6 | L9: 매화나무 | N9: 148 | O9: 주
L10: 뽕나무 | N10: 3 | O10: 주
L11: 감나무 | N11: 5 | O11: 주
L12: 느티나무 | N12: 10 | O12: 주
L13: 두릎 | N13: 1 | O13: 주
L14: 표시석 | N14: 1 | O14: 식
A15: 7 | B15: 영암읍 교동리 | C15: 72-2 | D15: 답 | E15: 568 | F15: 568 | G15: 김*열 | H15: 순천시 장천동 234-10 진성아파트202 | I15: 근정당 | J15: 영암농업 협동조합 | K15: 영암읍 낭주로 132
A16: 8 | B16: 영암읍 교동리 | C16: 73-1 | D16: 답 | E16: 42 | F16: 42 | G16: 정*수 | H16: 영암읍 영암로 1526
A17: 9 | B17: 영암읍 교동리 | C17: 73-3 | D17: 답 | E17: 8 | F17: 8 | G17: 전라남도
A18: 10 | B18: 영암읍 교동리 | C18: 74-3 | D18: 답 | E18: 1722 | F18: 1722 | G18: 김*식 | H18: 영암읍 서남리 82 | L18: 감나무 | N18: 155 | O18: 주
L19: 대추나무 | N19: 1 | O19: 주
L20: 배나무 | N20: 1 | O20: 주
L21: 소사 | N21: 1 | O21: 주
A22: 11 | B22: 영암읍 교동리 | C22: 74-4 | D22: 답 | E22: 916 | F22: 916 | G22: 정*수 | H22: 영암읍 영암로 1413 | I22: 근저당 | J22: 농업은행 주식회사 | K22: 서울특별시 중구 통일로 120 영암군지부
B23: 영암읍 교동리 | C23: 74-6 | D23: 주 | E23: 32 | F23: 32 | G23: 전라남도
A24: 12 | B24: 영암읍 교동리 | C24: 74-7 | D24: 답 | E24: 361 | F24: 361 | G24: 전라남도
A25: 13 | B25: 영암읍 교동리 | C25: 75-2 | D25: 답 | E25: 398 | F25: 398 | G25: 전라남도
A26: 14 | B26: 영암읍 교동리 | C26: 77-1 | D26: 도로 | E26: 949 | F26: 949 | G26: 영암군
A27: 15 | B27: 영암읍 교동리 | C27: 77-2 | D27: 전 | E27: 33 | F27: 33 | G27: 영암군
A28: 16 | B28: 영암읍 교동리 | C28: 77-8 | D28: 전 | E28: 17 | F28: 17 | G28: 영암군
A29: 17 | B29: 영암읍 교동리 | C29: 74-1 | D29: 주유 | E29: 1691 | F29: =E29 -> 1691 | G29: 정*수 | H29: 영암읍 영암로 1526 | I29: 근저당 | J29: 농업은행 주식회사 | K29: 서울특별시 중구 통일로 120 영암군지부 | L29: 주택 및 사무소 | M29: 철근콘크리트조 스레트지붕2층 | N29: 372.87 | O29: m2
A30: 18 | B30: 영암읍 교동리 | C30: 78 | D30: 주유 | E30: 1348 | F30: =E30 -> 1348 | G30: 정*수 | H30: 영암읍 영암로 1526 | I30: 근저당 | J30: 농업은행 주식회사 | K30: 서울특별시 중구 통일로 120 영암군지부 | L30: 수리점 | M30: 철근콘크리트지붕 스라브지붕 | N30: 62.37 | O30: m2
A31: 19 | B31: 영암읍 교동리 | C31: 78-2 | D31: 주 | E31: 18 | F31: 18 | G31: 전라남도
A32: 20 | B32: 영암읍 교동리 | C32: 79 | D32: 주유 | E32: 562 | F32: =E32 -> 562 | G32: 정*수 | H32: 영암읍 영암로 1526 | I32: 근저당 | J32: 농업은행 주식회사 | K32: 서울특별시 중구 통일로 120 영암군지부 | L32: 케노비 | M32: 철골조 | N32: 77 | O32: m2
L33: 가추 | M33: 철파이프조 강판지붕 | N33: 37.8 | O33: m2
L34: 주차용도 | M34: 철파이프조 천막위 아크릴지붕 | N34: 22.2 | O34: m2
L35: 차양 | M35: 철파이프 차양지붕 | N35: 70 | O35: m2
L36: 세차장 | M36: 철파이프 아크릴지붕 | N36: 29.6 | O36: m2
L37: 기계실 | M37: 판넬조 강판지붕 | N37: 21.7 | O37: m2
L38: 컨테이너 | M38: 3*6 | N38: 1 | O38: 식
L39: 기계일체 | M39: 주유시, 세차기, 탱크 등 | N39: 1 | O39: 식
L40: 담장 | M40: 콘크리트 | N40: 98 | O40: m
L41: 담장 | M41: 강판 | N41: 17 | O41: m
L42: 간판 | M42: 입간판 외 | N42: 3 | O42: 식
L43: 바닥 | M43: 콘크리트 외 | N43: 2545.4 | O43: m2
L44: 대문 | M44: 철재 | N44: 1 | O44: 식
... L47: 컨테이너 | M47: 3*6 | N47: 2 | O47: 식
L48: 감나무 | N48: 9 | O48: 주
L49: 동백 | N49: 2 | O49: 주
L50: 종려 | N50: 1 | O50: 주
L51: 대추나무 | N51: 2 | O51: 주
L52: 석류 | N52: 1 | O52: 주
A53: 21 | B53: 영암읍 교동리 | C53: 77-9 | D53: 도로 | E53: 126 | F53: 126 | G53: 영암군
A54: 22 | B54: 영암읍 교동리 | C54: 80 | D54: 답 | E54: 493 | F54: 493 | G54: 최*례 | H54: 영암읍 영암로 1526
A55: 23 | B55: 영암읍 교동리 | C55: 81 | D55: 답 | E55: 1317 | F55: 1317 | G55: 김*승 | H55: 서울 광진구 광나루로56길 29, 5동 3002호
A56: 24 | B56: 영암읍 교동리 | C56: 81-1 | D56: 답 | E56: 164 | F56: 164 | G56: 영*군
A57: 25 | B57: 영암읍 교동리 | C57: 82-1 | D57: 전 | E57: 674 | F57: =E57 -> 674 | G57: 김*중 | H57: 인천 서구 건지로 402, 107동 803호
A58: 26 | B58: 영암읍 교동리 | C58: 82-2 | D58: 구거 | E58: 390 | F58: =E58 -> 390 | G58: 정*성 | H58: 영암읍 교동리 385 | P58: 미등기
A59: 27 | B59: 영암읍 교동리 | C59: 82-3 | D59: 전 | E59: 274 | F59: =E59 -> 274 | G59: 김*중 | H59: 인천 서구 건지로 402, 107동 803호 | L59: 석류나무 | N59: 3 | O59: 주
L60: 단풍나무 | N60: 1 | O60: 주
L61: 감나무 | N61: 1 | O61: 주
L62: 가이스카 | N62: 2 | O62: 주
L63: 편백 | N63: 3 | O63: 주
L64: 분묘 | N64: 2 | O64: 기
A65: 28 | B65: 영암읍 교동리 | C65: 83 | D65: 전 | E65: 357 | F65: =E65 -> 357 | G65: 김*휘 | H65: 영암읍 교동리 254 | L65: 동백 | N65: 2 | O65: 주
L66: 오가피 | N66: 3 | O66: 주
L67: 감나무 | N67: 5 | O67: 주
L68: 매실 | N68: 2 | O68: 주
L69: 복숭아 | N69: 1 | O69: 주
L70: 석류 | N70: 1 | O70: 주
L71: 무화과 | N71: 3 | O71: 주
L72: 묘목 | N72: 1 | O72: 주
L73: 울타리 | M73: 철조망 | N73: 48 | O73: M
A74: 29 | B74: 영암읍 교동리 | C74: 84 | D74: 전 | E74: 539 | F74: =E74 -> 539 | G74: 전주**** 영농조합법인 | H74: 영암읍 낭산로 10-41
A75: 30 | B75: 영암읍 교동리 | C75: 84-1 | D75: 답 | E75: 1332 | F75: =E75 -> 1332 | G75: 전주**** 영농조합법인 | H75: 영암읍 낭산로 10-41
A76: 31 | B76: 영암읍 교동리 | C76: 84-2 | D76: 구 | E76: 298 | F76: =E76 -> 298 | G76: 최*제 | H76: 덕진면 영보리 297
A77: 32 | B77: 영암읍 교동리 | C77: 84-3 | D77: 전 | E77: 506 | F77: =E77 -> 506 | G77: 전주**** 영농조합법인 | H77: 영암읍 낭산로 10-41
A78: 33 | B78: 영암읍 교동리 | C78: 84-4 | D78: 구거 | E78: 258 | F78: =E78 -> 258 | G78: 최*제 | H78: 덕진면 영보리 297
B79: 영암읍 교동리 | C79: 84-5 | D79: 종교 | E79: 737 | F79: 737 | G79: 최*제 | H79: 덕진면 영보리 297
A80: 34 | B80: 영암읍 교동리 | C80: 85-1 | D80: 답 | E80: 5818 | F80: =E80 -> 5818 | G80: 이*단 | H80: 영암읍 교동리 317
A81: 35 | B81: 영암읍 교동리 | C81: 85-2 | D81: 도로 | E81: 112 | F81: 112 | G81: 김*오(1/3) 김*연(1/3) 김*식(1/3) | H81: 경기도 수원시 권선구 세권로 304번길47, 515동 401호 경기도 오산시 수목원로 577-15,204동 1202호 경기도 화성시 동탄대로 22길 30, 610동 1401호
A82: 36 | B82: 영암읍 교동리 | C82: 86 | D82: 답 | E82: 2945 | F82: =E82 -> 2945 | G82: 김*중 | H82: 인천 서구 건지로 402, 107동 803호
A83: 37 | B83: 영암읍 교동리 | C83: 87-1 | D83: 답 | E83: 1498 | F83: =E83 -> 1498 | G83: 김*렬 | H83: 순천시 장천동 234-10 진성아파트202 | I83: 지상권 근저당 | J83: 영암농업 협동조합 | K83: 영암읍 낭주로 132
A84: 38 | B84: 영암읍 교동리 | C84: 87-2 | D84: 도로 | E84: 109 | F84: =E84 -> 109 | G84: 영암군
A85: 39 | B85: 영암읍 교동리 | C85: 87-3 | D85: 답 | E85: 7 | F85: =E85 -> 7 | G85: 조*원 김*형 | H85: 도포면 수산리 18 도포면 수산리 18 | P85: 미등기
A86: 40 | B86: 영암읍 교동리 | C86: 88-1 | D86: 답 | E86: 4841 | F86: =E86 -> 4841 | G86: 정*수 | H86: 영암읍 영암로 1526
A87: 41 | B87: 영암읍 교동리 | C87: 88-2 | D87: 답 | E87: 1507 | F87: =E87 -> 1507 | G87: 강*열 | H87: 서울 도봉구 도봉동 641 서원@108-703
A88: 42 | B88: 영암읍 교동리 | C88: 88-3 | D88: 도로 | E88: 69 | F88: =E88 -> 69 | G88: 강*성 | H88: 영암읍 서남리 41 | P88: 미등기
A89: 43 | B89: 영암읍 교동리 | C89: 89 | D89: 답 | E89: 1815 | F89: =E89 -> 1815 | G89: 김*주 | H89: 영암군 영암읍 성밖로 18, 102동 509호
A90: 44 | B90: 영암읍 교동리 | C90: 89-1 | D90: 답 | E90: 2172 | F90: =E90 -> 2172 | G90: 임*부 | H90: 광주 서구 풍암2로53번길 22 | I90: 근저당 | J90: 광주농업 협동조합 | K90: 광주 북구 동문대로 161 | L90: 감나무 | N90: 56 | O90: 주
L91: 자두 | N91: 1 | O91: 주
L92: 기타수목 | N92: 8 | O92: 주
A93: 45 | B93: 영암읍 교동리 | C93: 89-2 | D93: 답 | E93: 860 | F93: =E93 -> 860 | G93: 한*자 | H93: 영암읍 교동리 246
A94: 46 | B94: 영암읍 교동리 | C94: 89-3 | D94: 도로 | E94: 26 | F94: 26 | G94: 최*건 | H94: 영암읍 교동리 386 | I94: 가압류 | J94: 영암농업 협동조합 | K94: 영암읍 역리 290
A95: 47 | B95: 영암읍 교동리 | C95: 89-4 | D95: 도로 | E95: 53 | F95: =E95 -> 53 | G95: 김*례 | H95: 영암읍 교동리 2-1
A96: 48 | B96: 영암읍 교동리 | C96: 90-3 | D96: 답 | E96: 549 | F96: =E96 -> 549 | G96: 천*숙 | H96: 광주 북구 우치로347번길 15, 101동 312 | L96: 감나무 | N96: 66 | O96: 주
L97: 사과나무 | N97: 1 | O97: 주
L98: 헛개나무 | N98: 1 | O98: 주
A99: 49 | B99: 영암읍 교동리 | C99: 90-5 | D99: 도로 | E99: 28 | F99: =E99 -> 28 | G99: 전라남도
A100: 50 | B100: 영암읍 교동리 | C100: 90-7 | D100: 답 | E100: 107 | F100: =E100 -> 107 | G100: 박*수 | H100: 경상남도 창원시 의창구 도계로 17번길 10-7
A101: 51 | B101: 영암읍 교동리 | C101: 90-9 | D101: 답 | E101: 467 | F101: =E101 -> 467 | G101: 천*주 | H101: 목포시 미항로 206, 103동 1302호 | L101: 감나무 | N101: 57 | O101: 주
A102: 52 | B102: 영암읍 교동리 | C102: 90-13 | D102: 답 | E102: 140 | F102: =E102 -> 140 | G102: 전라남도
A103: 53 | B103: 영암읍 교동리 | C103: 91 | D103: 답 | E103: 1210 | F103: =E103 -> 1210 | G103: 김*남 | H103: 학산면 매월리 287
...
