Workbook
Name _BUN1: #N/A
Name _BUN2: #REF!
Name _BUN3: #REF!
Name _BUN4: #REF!
Name _SUN1: #REF!
Name _SUN2: #N/A
Name \p: #REF!
Name a: #REF!
Name aa: '[2]부동산(물건 등)의 표시 및 청구내역'!$BT$4:$BU$65
Name AC12_: #N/A
Name AKD: #REF!
Name AREA: #N/A
Name bb: #REF!
Name BIGO: #N/A
Name DANGA: #REF!
Name data: #REF!
Name dfhhgh: #REF!
Name dhgdfhfd: #REF!
Name dsfgsdgdf: #REF!
Name fdhfdhgfd: #REF!
Name fdhgdfhdf: #REF!
Name fgdhdfhgdfhh: #REF!
Name fghf: #REF!
Name gh: #REF!
Name GIMOK: #N/A
Name GUBUN: #N/A
Name hdfghdfhg: #REF!
Name hfghdh: #REF!
Name hfhgh: #REF!
Name i: '[3]여주,이천(명세)'!$A:$IV
Name JSCODE: #N/A
Name k: #REF!
Name KDKD: #REF!
Name kkk: #REF!
Name KUMAEK: #N/A
Name n: #REF!
Name pool: #REF!
Name PRINT_AREA_MI: #REF!
Name RLARK: #REF!
Name RLAWJD: #REF!
Name Sammi_2_제1압연_List: #REF!
Name sdgfdsg: #REF!
Name sdgfdsgf: #REF!
Name sdgfdsgfd: #REF!
Name sgddsgdfdsg: #REF!
Name sgdsg: #REF!
Name sgfddsgfd: #REF!
Name sgfdsg: #REF!
Name sgfdsgfd: #REF!
Name wsgwegre: #REF!
Name ㄱㄱ: [4]일반자료!$D$29
Name 가격시점: #REF!
Name 가평군: #REF!
Name 감정: #REF!
Name 감정표: #REF!
Name 강화군: #REF!
Name 개별공시지가__원_㎡: #REF!
Name 개인이름: [5]일반자료!$D$2
Name 개인전화번호: [5]일반자료!$D$4
Name 개인주민등록번호: [5]일반자료!$D$3

Sheet 총괄표
A1: 토 지 총 괄 표
A2: 구분 | B2: 합 계 | E2: 사 유 지 | H2: 공 유 지 | Q2: 국 유 지 | W2: 비고
H3: 합 계 | K3: 아산시 | N3: 충청남도 | Q3: 합 계 | T3: 국토교통부
B4: 전체면적 (㎡) | C4: 편입면적 (㎡) | D4: 필지수 | E4: 전체면적 (㎡) | F4: 편입면적 (㎡) | G4: 필지수 | H4: 전체면적 (㎡) | I4: 편입면적 (㎡) | J4: 필지수 | K4: 전체면적 (㎡) | L4: 편입면적 (㎡) | M4: 필지수 | N4: 전체면적 (㎡) | O4: 편입면적 (㎡) | P4: 필지수 | Q4: 전체면적 (㎡) | R4: 편입면적 (㎡) | S4: 필지수 | T4: 전체면적 (㎡) | U4: 편입면적 (㎡) | V4: 필지수
A5: 계 | B5: =SUM(B6:B11) -> 10560 | C5: =SUM(C6:C11) -> 1244 | D5: =SUM(D6:D11) -> 12 | E5: =SUM(E6:E11) -> 214 | F5: =SUM(F6:F11) -> 16 | G5: =SUM(G6:G11) -> 1 | H5: =SUM(H6:H11) -> 8758 | I5: =SUM(I6:I11) -> 1205 | ... V5: =SUM(V6:V11) -> 3
A6: 전 | B6: =E6+H6+Q6 -> 0 | C6: =F6+I6+R6 -> 0 | D6: =G6+J6+S6 -> 0 | E6: =SUMIF('토지조서(사유지)'!$E$7:$E$7,총괄표!$A6,'토지조서(사유지)'!$F$7) -> 0 | F6: =SUMIF('토지조서(사유지)'!$E$7:$E$7,총괄표!$A6,'토지조서(사유지)'!$G$7) -> 0 | G6: =COUNTIF('토지조서(사유지)'!$E$7:$E$7,총괄표!A6) -> 0 | H6: =K6+N6 -> 0 | I6: =L6+O6 -> 0 | J6: =M6+P6 -> 0 | K6: 0 | L6: 0 | M6: 0 | N6: 0 | O6: 0 | P6: 0 | Q6: =T6 -> 0 | R6: =U6 -> 0 | S6: =V6 -> 0 | T6: 0 | U6: 0 | V6: 0
A7: 답 | B7: =E7+H7+Q7 -> 0 | C7: =F7+I7+R7 -> 0 | D7: =G7+J7+S7 -> 0 | E7: =SUMIF('토지조서(사유지)'!$E$7:$E$7,총괄표!$A7,'토지조서(사유지)'!$F$7) -> 0 | F7: =SUMIF('토지조서(사유지)'!$E$7:$E$7,총괄표!$A7,'토지조서(사유지)'!$G$7) -> 0 | G7: =COUNTIF('토지조서(사유지)'!$E$7:$E$7,총괄표!A7) -> 0 | H7: =K7+N7 -> 0 | I7: =L7+O7 -> 0 | J7: =M7+P7 -> 0 | N7: 0 | O7: 0 | P7: 0 | Q7: =T7 -> 0 | R7: =U7 -> 0 | S7: =V7 -> 0 | T7: 0 | U7: 0 | V7: 0
A8: 목 | B8: =E8+H8+Q8 -> 0 | C8: =F8+I8+R8 -> 0 | D8: =G8+J8+S8 -> 0 | E8: =SUMIF('토지조서(사유지)'!$E$7:$E$7,총괄표!$A8,'토지조서(사유지)'!$F$7) -> 0 | F8: =SUMIF('토지조서(사유지)'!$E$7:$E$7,총괄표!$A8,'토지조서(사유지)'!$G$7) -> 0 | G8: =COUNTIF('토지조서(사유지)'!$E$7:$E$7,총괄표!A8) -> 0 | H8: =K8+N8 -> 0 | I8: =L8+O8 -> 0 | J8: =M8+P8 -> 0 | K8: 0 | L8: 0 | M8: 0 | N8: 0 | O8: 0 | P8: 0 | Q8: =T8 -> 0 | R8: =U8 -> 0 | S8: =V8 -> 0 | T8: 0 | U8: 0 | V8: 0
A9: 임 | B9: =E9+H9+Q9 -> 214 | C9: =F9+I9+R9 -> 16 | D9: =G9+J9+S9 -> 1 | E9: =SUMIF('토지조서(사유지)'!$E$7:$E$7,총괄표!$A9,'토지조서(사유지)'!$F$7) -> 214 | F9: =SUMIF('토지조서(사유지)'!$E$7:$E$7,총괄표!$A9,'토지조서(사유지)'!$G$7) -> 16 | G9: =COUNTIF('토지조서(사유지)'!$E$7:$E$7,총괄표!A9) -> 1 | H9: =K9+N9 -> 0 | I9: =L9+O9 -> 0 | J9: =M9+P9 -> 0 | N9: 0 | O9: 0 | P9: 0 | Q9: =T9 -> 0 | R9: =U9 -> 0 | S9: =V9 -> 0 | T9: 0 | U9: 0 | V9: 0
A10: 도 | B10: =E10+H10+Q10 -> 10346 | C10: =F10+I10+R10 -> 1228 | D10: =G10+J10+S10 -> 11 | E10: =SUMIF('토지조서(사유지)'!$E$7:$E$7,총괄표!$A10,'토지조서(사유지)'!$F$7) -> 0 | F10: =SUMIF('토지조서(사유지)'!$E$7:$E$7,총괄표!$A10,'토지조서(사유지)'!$G$7) -> 0 | G10: =COUNTIF('토지조서(사유지)'!$E$7:$E$7,총괄표!A10) -> 0 | H10: =K10+N10 -> 8758 | I10: =L10+O10 -> 1205 | J10: 8 | N10: ='토지조서(공유지)'!F6 -> 8758 | O10: ='토지조서(공유지)'!G6 -> 1205 | P10: 12 | Q10: =T10 -> 1588 | R10: =U10 -> 23 | S10: =V10 -> 3 | T10: ='토지조서(국유지)'!F6 -> 1588 | U10: ='토지조서(국유지)'!G6 -> 23 | V10: 3
A11: 구 | B11: =E11+H11+Q11 -> 0 | C11: =F11+I11+R11 -> 0 | D11: =G11+J11+S11 -> 0 | E11: =SUMIF('토지조서(사유지)'!$E$7:$E$7,총괄표!$A11,'토지조서(사유지)'!$F$7) -> 0 | F11: =SUMIF('토지조서(사유지)'!$E$7:$E$7,총괄표!$A11,'토지조서(사유지)'!$G$7) -> 0 | G11: =COUNTIF('토지조서(사유지)'!$E$7:$E$7,총괄표!A11) -> 0 | H11: =K11+N11 -> 0 | I11: =L11+O11 -> 0 | J11: =M11+P11 -> 0 | K11: 0 | L11: 0 | M11: 0 | N11: 0 | O11: 0 | P11: 0 | Q11: =T11 -> 0 | R11: =U11 -> 0 | S11: =V11 -> 0 | T11: 0 | U11: 0 | V11: 0

Sheet 토지조서(전체)
A1: ■ 지방도 624호 (탕정초-탕정농협) 보도설치공사
A2: - | B2: 수용 또는 사용할 토지조서
A4: 구분 (전체) | B4: 소재지 | C4: 지번 | D4: 지목 | E4: 공부면적 | F4: 편입면적 | G4: 지분 | H4: 소 유 자 | J4: 관 계 인 | M4: 비고
H5: 소유자명 | I5: 주소 | J5: 권리구분 | K5: 권리자명 | L5: 권리자주소
E6: 전체 | F6: 보도설치
A7: 합계(12필지) | E7: =SUM(E8:E19) -> 10560 | F7: =SUM(F8:F19) -> 1244
A8: 1 | B8: 탕정면 갈산리 | C8: 산51-3 | D8: 임 | E8: 3137 | F8: 350 | G8: 1 | H8: 충청남도
A9: 2 | B9: 탕정면 갈산리 | C9: 769 | D9: 도 | E9: 198 | F9: 17 | G9: 1 | H9: 국토교통부
A10: 3 | B10: 탕정면 갈산리 | C10: 60-2 | D10: 답 | E10: 929 | F10: 103 | G10: 1 | H10: 충청남도
A11: 4 | B11: 탕정면 갈산리 | C11: 산46-1 | D11: 임 | E11: 1646 | F11: 135 | G11: 1 | H11: 충청남도
A12: 5 | B12: 탕정면 갈산리 | C12: 산48-1 | D12: 임 | E12: 580 | F12: 68 | G12: 1 | H12: 충청남도
A13: 6 | B13: 탕정면 호산리 | C13: 산61-3 | D13: 임 | E13: 2000 | F13: 327 | G13: 1 | H13: 충청남도
A14: 7 | B14: 탕정면 호산리 | C14: 528-4 | D14: 전 | E14: 139 | F14: 82 | G14: 1 | H14: 충청남도
A15: 8 | B15: 탕정면 호산리 | C15: 산61-4 | D15: 임 | E15: 214 | F15: 16 | G15: 1 | H15: 박정순 | I15: 경기도 화성시 병점동 866 다정마을아파트 104-1201 | J15: 근저당 | K15: 천안축산업협동조합 | L15: 천안시 동남구 영성동 67-2
A16: 9 | B16: 탕정면 호산리 | C16: 586 | D16: 도 | E16: 797 | F16: 1 | G16: 1 | H16: 국토교통부
A17: 10 | B17: 탕정면 호산리 | C17: 530-4 | D17: 답 | E17: 269 | F17: 112 | G17: 1 | H17: 충청남도
A18: 11 | B18: 탕정면 호산리 | C18: 531-3 | D18: 도 | E18: 58 | F18: 28 | G18: 1 | H18: 충청남도 | I18: 아산시 인주면 현대로727번길 20
A19: 12 | B19: 탕정면 호산리 | C19: 산51-4 | D19: 구 | E19: 593 | F19: 5 | G19: 1 | H19: 국토교통부

Sheet 토지조서(사유지)
A1: ■ 지방도 624호(탕정초~탕정농협) 보도설치공사-사유지
A3: 구분 | B3: 행정구역 | D3: 지번 | E3: 지목 | F3: 면 적(㎡) | I3: 공시지가 (2019/01) | J3: 주민등록번호 | K3: 소 유 자 | M3: 관 계 인 | P3: 비고 | Q3: 2.5
B4: 읍 | C4: 리 | F4: 공부면적 | G4: 편입면적
G5: 계 | H5: 보도설치 | K5: 소유자명 | L5: 주소 | M5: 권리구분 | N5: 권리자명 | O5: 권리자주소 | Q5: 공시지가 2.5배
A6: 합계(1필지) | F6: =SUM(F7:F7) -> 214 | G6: =H6 -> 16 | H6: =SUM(H7:H7) -> 16 | Q6: =SUM(Q7:Q7) -> 2200000
A7: 1 | B7: 탕정면 | C7: 호산리 | D7: 산61-4 | E7: 임 | F7: 214 | G7: =H7 -> 16 | H7: 16 | I7: 55000 | K7: 박정순 | L7: 경기도 화성시 병점동 866 다정마을아파트 104-1201 | M7: 근저당 | N7: 천안축산업협동조합 | O7: 천안시 동남구 영성동 67-2 | Q7: =I7*G7*$Q$3 -> 2200000

Sheet 토지조서(공유지)
A1: ■ 지방도 624호(탕정초~탕정농협) 보도설치공사-공유지
A3: 구분 | B3: 행정구역 | D3: 지번 | E3: 지목 | F3: 면 적(㎡) | I3: 공시지가 (2019/01) | J3: 주민등록번호 | K3: 소 유 자 | M3: 관 계 인 | P3: 비고 | Q3: 2.5
B4: 면 | C4: 리 | F4: 공부면적 | G4: 편입면적
G5: 계 | H5: 보도설치 | K5: 소유자명 | L5: 주소 | M5: 권리구분 | N5: 권리자명 | O5: 권리자주소 | Q5: 공시지가 2.5배
A6: 합계(8필지) | F6: =SUM(F7:F14) -> 8758 | G6: =H6 -> 1205 | H6: =SUM(H7:H14) -> 1205 | Q6: =SUM(Q7:Q14) -> 230664000
A7: 1 | B7: 탕정면 | C7: 갈산리 | D7: 산51-3 | E7: 답 | F7: 3137 | G7: =H7 -> 350 | H7: 350 | I7: 67600 | K7: 충청남도 | Q7: =I7*G7*$Q$3 -> 59150000
A8: 2 | B8: 탕정면 | C8: 갈산리 | D8: 60-2 | E8: 임 | F8: 929 | G8: =H8 -> 103 | H8: 103 | I8: 92400 | K8: 충청남도 | Q8: =I8*G8*$Q$3 -> 23793000
A9: 3 | B9: 탕정면 | C9: 갈산리 | D9: 산46-1 | E9: 임 | F9: 1646 | G9: =H9 -> 135 | H9: 135 | I9: 67600 | K9: 충청남도 | Q9: =I9*G9*$Q$3 -> 22815000
A10: 4 | B10: 탕정면 | C10: 갈산리 | D10: 산48-1 | E10: 임 | F10: 580 | G10: =H10 -> 68 | H10: 68 | I10: 67600 | K10: 충청남도 | Q10: =I10*G10*$Q$3 -> 11492000
A11: 5 | B11: 탕정면 | C11: 호산리 | D11: 산61-3 | E11: 임 | F11: 2000 | G11: =H11 -> 327 | H11: 327 | I11: 92400 | K11: 충청남도 | Q11: =I11*G11*$Q$3 -> 75537000
A12: 6 | B12: 탕정면 | C12: 호산리 | D12: 528-4 | E12: 전 | F12: 139 | G12: =H12 -> 82 | H12: 82 | I12: 92400 | K12: 충청남도 | Q12: =I12*G12*$Q$3 -> 18942000
A13: 7 | B13: 탕정면 | C13: 호산리 | D13: 530-4 | E13: 답 | F13: 269 | G13: =H13 -> 112 | H13: 112 | I13: 54100 | K13: 충청남도 | Q13: =I13*G13*$Q$3 -> 15148000
A14: 8 | B14: 탕정면 | C14: 호산리 | D14: 531-3 | E14: 도 | F14: 58 | G14: =H14 -> 28 | H14: 28 | I14: 54100 | K14: 충청남도 | Q14: =I14*G14*$Q$3 -> 3787000

Sheet 토지조서(국유지)
A1: ■ 지방도 624호(탕정초~탕정농협) 보도설치공사-국유지
A3: 구분 | B3: 행정구역 | D3: 지번 | E3: 지목 | F3: 면 적(㎡) | I3: 공시지가 (2019/01) | J3: 주민등록번호 | K3: 소 유 자 | M3: 관 계 인 | P3: 비고 | Q3: 2.5
B4: 면 | C4: 리 | F4: 공부면적 | G4: 편입면적
G5: 계 | H5: 보도설치 | K5: 소유자명 | L5: 주소 | M5: 권리구분 | N5: 권리자명 | O5: 권리자주소 | Q5: 공시지가 2.5배
A6: 합계(2필지) | F6: =SUM(F7:F9) -> 1588 | G6: =H6 -> 23 | H6: =SUM(H7:H9) -> 23 | Q6: =SUM(Q9:Q9) -> #VALUE!
A7: 1 | B7: 탕정면 | C7: 갈산리 | D7: 769 | E7: 도 | F7: 198 | G7: =H7 -> 17 | H7: 17 | I7: 55400 | K7: 국토교통부
A8: 2 | B8: 탕정면 | C8: 호산리 | D8: 586 | E8: 도 | F8: 797 | G8: =H8 -> 1 | H8: 1 | I8: 54100 | K8: 국토교통부 | Q8: =I8*G8*$Q$3 -> 135250
A9: 2 | B9: 탕정면 | C9: 호산리 | D9: 585 | E9: 구 | F9: 593 | G9: =H9 -> 5 | H9: 5 | I9: 조회불가 | K9: 국토교통부 | Q9: =I9*G9*$Q$3 -> #VALUE!

Sheet 토지조서
A1: ■ 공익사업을 위한 토지 등의 취득 및 보상에 관한 법률 시행규칙 [별지 제4호서식] <개정 2016. 6. 14.>
A2: 토 지 조 서
A3: 공익사업의 명칭 | F3: 지방도 624호 (탕정초-탕정농협) 보도설치공사 | N3: 11 | O3: =VLOOKUP($N3,'토지조서(전체)'!$A$8:$M$19,9,0) -> 아산시 인주면 현대로727번길 20
A4: 사업인정의 근거 및 고시일 | N4: 14 | O4: =VLOOKUP($N4,'토지조서(전체)'!$A$8:$M$19,9,0) -> #N/A
A5: 사업시행자 | C5: 성명(또는 명칭) | F5: 아산시청(도로과) | N5: 15 | O5: =VLOOKUP($N5,'토지조서(전체)'!$A$8:$M$19,9,0) -> #N/A
C6: 주소 | F6: 충남 아산시 시민로 456 | N6: 17 | O6: =VLOOKUP($N6,'토지조서(전체)'!$A$8:$M$19,9,0) -> #N/A
A7: 토지소유자 | C7: 성명(또는 명칭) | F7: 박정순 | N7: 18 | O7: =VLOOKUP($N7,'토지조서(전체)'!$A$8:$M$19,9,0) -> #N/A
C8: 주소 | F8: 경기도 화성시 병점동 866 다정마을아파트 104-1201
A10: 토지의 명세
A11: 소재지 | B11: 지번 | D11: 지목 | E11: 현실 | F11: 전체 면적 | G11: 편입 면적 | H11: 용도지역 및 지구 | I11: 관계인 | L11: 비고 (지분)
E12: 적인 | I12: 성명 또는 명칭 | J12: 주소 | K12: 권리의 종류 및 내용
B13: (원래 | E13: 이용
B14: 지번) | E14: 상황 | F14: (㎡) | G14: (㎡)
A15: 탕정면 호산리 | B15: 산61-4 | D15: 임 | E15: 전 | F15: 214 | G15: 16 | H15: 계획관리 지역 | I15: 천안축산업 협동조합 | J15: 천안시 동남구 영성동 67-2 | K15: 근저당
A16: 그 밖에 보상금 산정에 필요한 사항
A18: 「공익사업을 위한 토지 등의 취득 및 보상에 관한 법률」 제14조제1항 및 같은 법 시행령 제7조제3항에 따라 위와 같이 토지조서를 작성합니다.
A20: 2020년 06월 일
G22: 사업시행자 | I22: 아산시장 | L22: (인)
G23: 토지소유자 | I23: =F7 -> 박정순 | L23: (서명 또는 인)
G24: 관 계 인 | I24: =I15 -> 천안축산업 협동조합 | L24: (서명 또는 인)
A25: 토지소유자(관계인 포함)가 서명(인)할 수 없는 경우 그 사유
A26: - 회신내용 없음
A27: 작성방법
A28: 1. 이 서식은 토지소유자별로 작성합니다.
A29: 2. 해당 공익사업에 따라 토지가 분할되는 경우에는 분할 전의 지번은 "지번(원래 지번)"란에 ( )로 적습니다.
A30: 3. "관계인"란에는 토지에 관한 소유권 외의 권리를 가진 자를 적습니다.
A31: 4. 공부(公簿)상 면적과 실측(實測) 면적이 다른 경우 실측 면적을 "비고"란에 적습니다.
A32: 5. 도로부지인 경우에는 도로의 구분, 이용상황 및 위치 등 그 특성을 "비고"란에 다른 참고사항과 같이 적습니다.
A33: 210mm×297mm[백상지 80g/㎡]

Sheet Sheet1
A2: 336 | B2: 1 | D2: 전 | G2: 336-1 | H2: 전 | I2: 40 | J2: =I2-K2 -> 0 | K2: 40 | L2: 73400 | N2: 정재혹 | O2: 아산시 인주면 문방리 69
A3: 336 | B3: 5 | D3: 도 | G3: 336-5 | H3: 도 | I3: 76 | J3: =I3-K3 -> 73 | K3: 3 | L3: 12500 | N3: 충청남도
A4: 336 | B4: 6 | D4: 도 | G4: 336-6 | H4: 도 | I4: 11 | J4: =I4-K4 -> 11 | K4: 0 | L4: 12500 | N4: 충청남도
A5: 339 | B5: 6 | D5: 답 | G5: 339-6 | H5: 답 | I5: 50 | J5: =I5-K5 -> 0 | K5: 50 | L5: 55500 | N5: 백승호 | O5: 경기도 파주시 쇠재로 133, 509동 1702호(금촌동, 쇠재마을) | P5: 근저당권, 지상권 | Q5: 남서울농업협동조합 | R5: 서울특별시 서초구 양재동 5-10(남성지점)
A6: 339 | B6: 7 | D6: 구 | G6: 339-7 | H6: 구 | I6: 16 | J6: =I6-K6 -> 0 | K6: 16 | L6: 55500 | N6: 한국농어촌공사 | O6: 경기도 의왕시 포일동 487
A7: 353 | B7: 7 | D7: 답 | G7: 353-7 | H7: 답 | I7: 49 | J7: =I7-K7 -> 0 | K7: 49 | L7: 55500 | N7: 정영록 | O7: 광명시 철산동 235 주공아파트 912-502
A8: 354 | B8: 1 | D8: 구 | G8: 354-1 | H8: 구 | I8: 3 | J8: =I8-K8 -> 0 | K8: 3 | L8: 18300 | N8: 한국농어촌공사 | O8: 경기도 의왕시 포일동 487
A9: 354 | B9: 2 | D9: 답 | G9: 354-2 | H9: 답 | I9: 633 | J9: =I9-K9 -> 0 | K9: 633 | L9: 58800 | N9: 이광천 | O9: 서울 노원구 중계동 435-1 현대아파트 201-702
A10: 355 | B10: 1 | D10: 답 | G10: 355-1 | H10: 답 | I10: 593 | J10: =I10-K10 -> 0 | K10: 593 | L10: 58800 | N10: 이광천 | O10: 서울 노원구 중계동 435-1 현대아파트 201-702
A11: 356 | B11: 1 | D11: 답 | G11: 356-1 | H11: 답 | I11: 185 | J11: =I11-K11 -> 0 | K11: 185 | L11: 58800 | N11: 정복희 | O11: 아산시 인주면 관암리 407
A12: 357 | B12: 1 | D12: 답 | G12: 357-1 | H12: 답 | I12: 84 | J12: =I12-K12 -> 0 | K12: 84 | L12: 40200 | N12: 차승원 | O12: 충청남도 아산시 인주면 현대로 1167-14 | P12: 근저당권, 지상권 | Q12: 인주농협협동조합 | R12: 충청남도 아산시 인주면 현대로 1167-14
A13: 361 | B13: 4 | D13: 도 | G13: 361-4 | H13: 도 | I13: 53 | J13: =I13-K13 -> 42 | K13: 11 | L13: 16100 | N13: 충청남도
A14: 361 | B14: 7 | D14: 임 | G14: 361-7 | H14: 임 | I14: 13 | J14: =I14-K14 -> 0 | K14: 13 | L14: 52000 | N14: 아산시
A15: 361 | B15: 22 | D15: 도 | G15: 361-22 | H15: 도 | I15: 7 | J15: =I15-K15 -> 7 | K15: 0 | L15: 16100 | N15: 충청남도
A16: 361 | B16: 23 | D16: 답 | G16: 361-23 | H16: 답 | I16: 303 | J16: =I16-K16 -> 0 | K16: 303 | L16: 69900 | N16: 아산시
A17: 361 | B17: 24 | D17: 구 | G17: 361-24 | H17: 구 | I17: 191 | J17: =I17-K17 -> 0 | K17: 191 | L17: 16100 | N17: 한국농어촌공사 | O17: 경기도 의왕시 포일동 487
A18: 361 | B18: 25 | D18: 구 | G18: 361-25 | H18: 구 | I18: 266 | J18: =I18-K18 -> 0 | K18: 266 | L18: 16100 | N18: 한국농어촌공사 | O18: 경기도 의왕시 포일동 487
A19: 361 | B19: 26 | D19: 임 | G19: 361-26 | H19: 임 | I19: 371 | J19: =I19-K19 -> 0 | K19: 371 | L19: 67500 | N19: 김인숙 | O19: 아산시 인주면 관암리 259
A20: 361 | B20: 27 | D20: 임 | G20: 361-27 | H20: 임 | I20: 111 | J20: =I20-K20 -> 0 | K20: 111 | L20: 53600 | N20: 아산시
A21: 361 | B21: 28 | D21: 답 | G21: 361-28 | H21: 답 | I21: 233 | J21: =I21-K21 -> 0 | K21: 233 | L21: 55500 | N21: 아산시
A22: 361 | B22: 29 | D22: 임 | G22: 361-29 | H22: 임 | I22: 14 | J22: =I22-K22 -> 0 | K22: 14 | L22: 53600 | N22: 아산시
A23: 361 | B23: 30 | D23: 임 | G23: 361-30 | H23: 임 | I23: 30 | J23: =I23-K23 -> 0 | K23: 30 | L23: 53600 | N23: 아산시
A24: 397 | B24: 7 | D24: 도 | G24: 397-7 | H24: 도 | I24: 2 | J24: =I24-K24 -> 1 | K24: 1 | L24: 16100 | N24: 아산시
A25: 398 | B25: 1 | D25: 전 | G25: 398-1 | H25: 전 | I25: 166 | J25: =I25-K25 -> 9 | K25: 157 | L25: 47500 | N25: 김종오 | O25: 경기도 군포시 군포로785번길 45-6, 301호(산본동)
A26: 398 | B26: 4 | D26: 도 | G26: 398-4 | H26: 도 | I26: 59 | J26: =I26-K26 -> 37 | K26: 22 | L26: 16100 | N26: 아산시
A27: 398 | B27: 10 | D27: 도 | G27: 398-10 | H27: 도 | I27: 77 | J27: =I27-K27 -> 76 | K27: 1 | L27: 16100 | N27: 정석희 | O27: 아산시 인주면 문방리 69
A28: 398 | B28: 11 | D28: 전 | G28: 398-11 | H28: 전 | I28: 212 | J28: =I28-K28 -> 6 | K28: 206 | L28: 47500 | N28: 김한영 | O28: 서울특별시 금천구 독산로84번길 17(독산동) | P28: 근저당권 | Q28: 주식회사지에스리테일 | R28: 서울특별시 강남구 논현로 508(역삼동, 지에스타워)
A29: 398 | B29: 12 | D29: 전 | G29: 398-12 | H29: 전 | I29: 124 | J29: =I29-K29 -> 0 | K29: 124 | L29: 47500 | N29: 허유순외 1인 | O29: 서울특별시 광진구 능동로53길 29-6(중곡동)
A30: 398 | B30: 13 | D30: 전 | G30: 398-13 | H30: 전 | I30: 71 | J30: =I30-K30 -> 0 | K30: 71 | L30: 47500 | N30: 이희자 | O30: 경기도 용인시 수지구 용구대로2771번길 88, 1002동 1003호(죽전동, 창죽마을벽산첼시빌아파트)
A31: 398 | B31: 14 | D31: 전 | G31: 398-14 | H31: 전 | I31: 46 | J31: =I31-K31 -> 0 | K31: 46 | L31: 47500 | N31: 차재숙 | O31: 충청남도 당진시 송악읍 반촌로 108, 102동 1302호(당진롯데캐슬아파트) | P31: 근저당권 | Q31: 대호지농업협동조합 | R31: 충청남도 당진시 대호지면 대호로 8
A32: 399 | B32: 6 | D32: 목 | G32: 399-6 | H32: 목 | I32: 28 | J32: =I32-K32 -> 28 | K32: 0 | L32: 67700 | N32: 차승원 | O32: 아산시 인주면 관암리 400-7 | P32: 근저당권, 지상권 | Q32: 인주농업협동조합 | R32: 충청남도 아산시 인주면 현대로 1167-14
A33: 400 | B33: 3 | D33: 전 | G33: 400-3 | H33: 전 | I33: 10 | J33: =I33-K33 -> 0 | K33: 10 | L33: 12500 | N33: 하범서 | O33: 아산시 영인면 신운리 288
A34: 400 | B34: 12 | D34: 도 | G34: 400-12 | H34: 도 | I34: 14 | J34: =I34-K34 -> 13 | K34: 1 | L34: 18300 | N34: 하범서 | O34: 아산시 영인면 신운리 288
A35: 401 | B35: 1 | D35: 답 | G35: 401-1 | H35: 답 | I35: 413 | J35: =I35-K35 -> 44 | K35: 369 | L35: 64300 | N35: 차승원 | O35: 충청남도 아산시 인주면 현대로 1167-14 | P35: 근저당권, 지상권 | Q35: 인주농협협동조합 | R35: 충청남도 아산시 인주면 현대로 1167-14
A36: 402 | B36: 7 | D36: 답 | G36: 402-7 | H36: 답 | I36: 688 | J36: =I36-K36 -> 15 | K36: 673 | L36: 69900 | N36: 온양정씨첨정공휘지형파종친회 | O36: 아산시 인주면 문방리 67
A37: 403 | B37: 1 | D37: 답 | G37: 403-1 | H37: 답 | I37: 760 | J37: =I37-K37 -> 0 | K37: 760 | L37: 58800 | N37: 정돈희외 8인 | O37: 충청남도 아산시 인주면 문방리 69
A38: 411 | B38: 10 | D38: 도 | G38: 411-10 | H38: 도 | I38: 13 | J38: =I38-K38 -> 13 | K38: 0 | L38: 19300 | N38: 충청남도
A39: 435 | B39: 4 | D39: 도 | G39: 435-4 | H39: 도 | I39: 18 | J39: =I39-K39 -> 7 | K39: 11 | L39: 9570 | N39: 국토교통부
A40: 435 | B40: 6 | D40: 도 | G40: 435-6 | H40: 도 | I40: 191 | J40: =I40-K40 -> 0 | K40: 191 | L40: 13700 | N40: 국토교통부
A41: 435 | B41: 8 | D41: 도 | G41: 435-8 | H41: 도 | I41: 376 | J41: =I41-K41 -> 0 | K41: 376 | L41: 19300 | N41: 국토교통부
