Workbook
Name 위탁: #REF!
Name 위탁: #REF!
Name 이메일: [1]Sheet2!$A$1:$B$118

Sheet 화성시병점구
B1: 2026년 화성시 대상포진 예방접종 위탁의료기관 현황(병점권역)
B2: 권역별 | C2: 연번 | D2: 의료기관명 | E2: 주 소 | F2: 전화번호
B4: 병점권 (10개소) | C4: 1 | D4: =[2]동부!C4 -> 동탄연세의원 | E4: =[2]동부!F4 -> 경기도 화성시 병점구 동탄원천로 382-46, (반월동) | F4: =[2]동부!D4 -> 031-898-9595
C5: 2 | D5: =[2]동부!C5 -> 삼성메디칼정형외과의원 | E5: =[2]동부!F5 -> 경기도 화성시 병점구 영통로80번길 2, (반월동) | F5: =[2]동부!D5 -> 031-273-9119
C6: 3 | D6: =[2]동부!C6 -> 새서울메디컬의원 | E6: =[2]동부!F6 -> 경기도 화성시 병점구 경기대로 1042, (진안동) | F6: =[2]동부!D6 -> 031-234-2822
C7: 4 | D7: =[2]동부!C7 -> 서울내과의원 | E7: =[2]동부!F7 -> 경기도 화성시 병점구 효행로 1072, (병점동, 상록프라자) 405,406호 | F7: =[2]동부!D7 -> 031-222-7506
C8: 5 | D8: =[2]동부!C8 -> 서울삼성내과의원 | E8: =[2]동부!F8 -> 경기도 화성시 병점구 병점2로 38, (병점동) 2층(전체),3층 (302~303)호 | F8: =[2]동부!D8 -> 031-231-0055
C9: 6 | D9: =[2]동부!C9 -> 의료법인 원광의료재단 원광종합병원 | E9: =[2]동부!F9 -> 경기도 화성시 병점구 화산북로 21, (송산동) | F9: =[2]동부!D9 -> 031-8077-7200
C10: 7 | D10: =[2]동부!C10 -> 이수의원 | E10: =[2]동부!F10 -> 경기도 화성시 병점구 용주로 9, (안녕동) | F10: =[2]동부!D10 -> 031-235-5725
C11: 8 | D11: =[2]동부!C11 -> 아주속편한의원 | E11: =[2]동부!F11 -> 경기도 화성시 병점구 병점구 병점노을4로 5(병점동) 4층 | F11: =[2]동부!D11 -> 031-895-5533
C12: 9 | D12: =[2]동부!C12 -> 의료법인아주효성의료재단 효성요양병원 | E12: =[2]동부!F12 -> 경기도 화성시 병점구 효행로 1063 우성메디프레트빌딩 | F12: =[2]동부!D12 -> 031-232-8636
C13: 10 | D13: =[2]동부!C13 -> 태안정형외과의원 | E13: =[2]동부!F13 -> 경기도 화성시 병점구 병점구 효행로 990 | F13: =[2]동부!D13 -> 031-231-1321
