Workbook

Sheet 증가집계표
A1: 구분 | B1: 편입면적
B2: 마산리 | C2: 감암리 | D2: 계
A3: 당초면적 | D3: 9645
A4: 증가면적 | B4: =#REF! -> #REF! | C4: =#REF! -> #REF! | D4: =B4+C4 -> #REF!
A5: 차이 | D5: =D4-D3 -> #REF!
A6: 증가율(%) | D6: =D4/D3*100-100 -> #REF!

Sheet 전체집계표-소유별
A1: 전체 편입용지 집계표
A3: 구분 | B3: 총계 | E3: 국유지 | H3: 공유지 | K3: 사유지 | N3: 비고
B4: 필지 | C4: / | D4: 면적(㎡) | E4: 필지 | F4: / | G4: 면적(㎡) | H4: 필지 | I4: / | J4: 면적(㎡) | K4: 필지 | L4: / | M4: 면적(㎡) | Q4: 총계 | R4: 국유지 | S4: 사유지 | T4: 국유지+사유지
A5: 계 | B5: =SUM(B6:B30) -> #REF! | C5: / | D5: =SUM(D6:D30) -> #REF! | E5: =SUM(E6:E30) -> #REF! | F5: / | G5: =SUM(G6:G30) -> #REF! | H5: =SUM(H6:H30) -> #REF! | I5: / | J5: =SUM(J6:J30) -> #REF! | K5: =SUM(K6:K30) -> #REF! | L5: / | M5: =SUM(M6:M30) -> #REF! | O5: =IF(EXACT(Q5,T5),"맞음","틀림") -> #REF! | P5: 필지 | Q5: =SUM(B6:B30) -> #REF! | R5: =SUM(H6:H30) -> #REF! | S5: =SUM(K6:K30) -> #REF! | T5: =K5+H5 -> #REF! | U5: =IF(D5=(G5+J5+M5),"ok","false") -> #REF!
A6: 전 | B6: ='전체집계표-구역별'!B7 -> #REF! | C6: / | D6: ='전체집계표-구역별'!D7 -> #REF! | E6: ='전체집계표-구역별'!B38 -> #REF! | F6: / | G6: ='전체집계표-구역별'!D38 -> #REF! | H6: ='전체집계표-구역별'!B69 -> #REF! | I6: / | J6: ='전체집계표-구역별'!D69 -> #REF! | K6: =B6-E6-H6 -> #REF! | L6: / | M6: ='전체집계표-구역별'!D100 -> #REF! | O6: =IF(EXACT(Q6,T6),"맞음","틀림") -> #REF! | P6: 면적 | Q6: =SUM(D6:D30) -> #REF! | R6: =SUM(J6:J30) -> #REF! | S6: =SUM(M6:M30) -> #REF! | T6: =J5+M5 -> #REF! | U6: =IF(D6=(G6+J6+M6),"ok","false") -> #REF! | W6: 계 | X6: 당초
A7: 답 | B7: ='전체집계표-구역별'!B8 -> #REF! | C7: / | D7: ='전체집계표-구역별'!D8 -> #REF! | E7: ='전체집계표-구역별'!B39 -> #REF! | F7: / | G7: ='전체집계표-구역별'!D39 -> #REF! | H7: ='전체집계표-구역별'!B70 -> #REF! | I7: / | J7: ='전체집계표-구역별'!D70 -> #REF! | K7: =B7-E7-H7 -> #REF! | L7: / | M7: ='전체집계표-구역별'!D101 -> #REF! | U7: =IF(D7=(G7+J7+M7),"ok","false") -> #REF! | X7: 변경
A8: 임야 | B8: ='전체집계표-구역별'!B9 -> #REF! | C8: / | D8: ='전체집계표-구역별'!D9 -> #REF! | E8: ='전체집계표-구역별'!B40 -> #REF! | F8: / | G8: ='전체집계표-구역별'!D40 -> #REF! | H8: ='전체집계표-구역별'!B71 -> #REF! | I8: / | J8: ='전체집계표-구역별'!D71 -> #REF! | K8: =B8-E8-H8 -> #REF! | L8: / | M8: ='전체집계표-구역별'!D102 -> #REF! | U8: =IF(D8=(G8+J8+M8),"ok","false") -> #REF!
A9: 대지 | B9: ='전체집계표-구역별'!B10 -> #REF! | C9: / | D9: ='전체집계표-구역별'!D10 -> #REF! | E9: ='전체집계표-구역별'!B41 -> #REF! | F9: / | G9: ='전체집계표-구역별'!D41 -> #REF! | H9: ='전체집계표-구역별'!B72 -> #REF! | I9: / | J9: ='전체집계표-구역별'!D72 -> #REF! | K9: =B9-E9-H9 -> #REF! | L9: / | M9: ='전체집계표-구역별'!D103 -> #REF! | U9: =IF(D9=(G9+J9+M9),"ok","false") -> #REF!
A10: 도로 | B10: ='전체집계표-구역별'!B11 -> #REF! | C10: / | D10: ='전체집계표-구역별'!D11 -> #REF! | E10: ='전체집계표-구역별'!B42 -> #REF! | F10: / | G10: ='전체집계표-구역별'!D42 -> #REF! | H10: ='전체집계표-구역별'!B73 -> #REF! | I10: / | J10: ='전체집계표-구역별'!D73 -> #REF! | K10: =B10-E10-H10 -> #REF! | L10: / | M10: ='전체집계표-구역별'!D104 -> #REF! | U10: =IF(D10=(G10+J10+M10),"ok","false") -> #REF!
A11: 구거 | B11: ='전체집계표-구역별'!B12 -> #REF! | C11: / | D11: ='전체집계표-구역별'!D12 -> #REF! | E11: ='전체집계표-구역별'!B43 -> #REF! | F11: / | G11: ='전체집계표-구역별'!D43 -> #REF! | H11: ='전체집계표-구역별'!B74 -> #REF! | I11: / | J11: ='전체집계표-구역별'!D74 -> #REF! | K11: =B11-E11-H11 -> #REF! | L11: / | M11: ='전체집계표-구역별'!D105 -> #REF! | U11: =IF(D11=(G11+J11+M11),"ok","false") -> #REF!
A12: 하천 | B12: ='전체집계표-구역별'!B13 -> #REF! | C12: / | D12: ='전체집계표-구역별'!D13 -> #REF! | E12: ='전체집계표-구역별'!B44 -> #REF! | F12: / | G12: ='전체집계표-구역별'!D44 -> #REF! | H12: ='전체집계표-구역별'!B75 -> #REF! | I12: / | J12: ='전체집계표-구역별'!D75 -> #REF! | K12: =B12-E12-H12 -> #REF! | L12: / | M12: ='전체집계표-구역별'!D106 -> #REF! | U12: =IF(D12=(G12+J12+M12),"ok","false") -> #REF!
A13: 유지 | B13: ='전체집계표-구역별'!B14 -> #REF! | C13: / | D13: ='전체집계표-구역별'!D14 -> #REF! | E13: ='전체집계표-구역별'!B45 -> #REF! | F13: / | G13: ='전체집계표-구역별'!D45 -> #REF! | H13: ='전체집계표-구역별'!B76 -> #REF! | I13: / | J13: ='전체집계표-구역별'!D76 -> #REF! | K13: =B13-E13-H13 -> #REF! | L13: / | M13: ='전체집계표-구역별'!D107 -> #REF! | U13: =IF(D13=(G13+J13+M13),"ok","false") -> #REF!
A14: 제방 | B14: ='전체집계표-구역별'!B15 -> #REF! | C14: / | D14: ='전체집계표-구역별'!D15 -> #REF! | E14: ='전체집계표-구역별'!B46 -> #REF! | F14: / | G14: ='전체집계표-구역별'!D46 -> #REF! | H14: ='전체집계표-구역별'!B77 -> #REF! | I14: / | J14: ='전체집계표-구역별'!D77 -> #REF! | K14: =B14-E14-H14 -> #REF! | L14: / | M14: ='전체집계표-구역별'!D108 -> #REF! | U14: =IF(D14=(G14+J14+M14),"ok","false") -> #REF!
A15: 과수원 | B15: ='전체집계표-구역별'!B16 -> #REF! | C15: / | D15: ='전체집계표-구역별'!D16 -> #REF! | E15: ='전체집계표-구역별'!B47 -> #REF! | F15: / | G15: ='전체집계표-구역별'!D47 -> #REF! | H15: ='전체집계표-구역별'!B78 -> #REF! | I15: / | J15: ='전체집계표-구역별'!D78 -> #REF! | K15: =B15-E15-H15 -> #REF! | L15: / | M15: ='전체집계표-구역별'!D109 -> #REF! | U15: =IF(D15=(G15+J15+M15),"ok","false") -> #REF!
A16: 공장 | B16: ='전체집계표-구역별'!B17 -> #REF! | C16: / | D16: ='전체집계표-구역별'!D17 -> #REF! | E16: ='전체집계표-구역별'!B48 -> #REF! | F16: / | G16: ='전체집계표-구역별'!D48 -> #REF! | H16: ='전체집계표-구역별'!B79 -> #REF! | I16: / | J16: ='전체집계표-구역별'!D79 -> #REF! | K16: =B16-E16-H16 -> #REF! | L16: / | M16: ='전체집계표-구역별'!D110 -> #REF! | U16: =IF(D16=(G16+J16+M16),"ok","false") -> #REF!
A17: 목장 | B17: ='전체집계표-구역별'!B18 -> #REF! | C17: / | D17: ='전체집계표-구역별'!D18 -> #REF! | E17: ='전체집계표-구역별'!B49 -> #REF! | F17: / | G17: ='전체집계표-구역별'!D49 -> #REF! | H17: ='전체집계표-구역별'!B80 -> #REF! | I17: / | J17: ='전체집계표-구역별'!D80 -> #REF! | K17: =B17-E17-H17 -> #REF! | L17: / | M17: ='전체집계표-구역별'!D111 -> #REF! | U17: =IF(D17=(G17+J17+M17),"ok","false") -> #REF!
A18: 학교용지 | B18: ='전체집계표-구역별'!B19 -> #REF! | C18: / | D18: ='전체집계표-구역별'!D19 -> #REF! | E18: ='전체집계표-구역별'!B50 -> #REF! | F18: / | G18: ='전체집계표-구역별'!D50 -> #REF! | H18: ='전체집계표-구역별'!B81 -> #REF! | I18: / | J18: ='전체집계표-구역별'!D81 -> #REF! | K18: =B18-E18-H18 -> #REF! | L18: / | M18: ='전체집계표-구역별'!D112 -> #REF! | U18: =IF(D18=(G18+J18+M18),"ok","false") -> #REF!
A19: 철도 | B19: ='전체집계표-구역별'!B20 -> #REF! | C19: / | D19: ='전체집계표-구역별'!D20 -> #REF! | E19: ='전체집계표-구역별'!B51 -> #REF! | F19: / | G19: ='전체집계표-구역별'!D51 -> #REF! | H19: ='전체집계표-구역별'!B82 -> #REF! | I19: / | J19: ='전체집계표-구역별'!D82 -> #REF! | K19: =B19-E19-H19 -> #REF! | L19: / | M19: ='전체집계표-구역별'!D113 -> #REF! | U19: =IF(D19=(G19+J19+M19),"ok","false") -> #REF!
... A30: 기타 | B30: ='전체집계표-구역별'!B31 -> #REF! | C30: / | D30: ='전체집계표-구역별'!D31 -> #REF! | E30: ='전체집계표-구역별'!B62 -> #REF! | F30: / | G30: ='전체집계표-구역별'!D62 -> #REF! | H30: ='전체집계표-구역별'!B93 -> #REF! | I30: / | J30: ='전체집계표-구역별'!D93 -> #REF! | K30: =B30-E30-H30 -> #REF! | L30: / | M30: ='전체집계표-구역별'!D124 -> #REF! | U30: =IF(D30=(G30+J30+M30),"ok","false") -> #REF!
A31: =IF(EXACT(O35,O36),,"검산확인요!!!") -> #REF! | K31: =IF(ISBLANK(#REF!),,#REF!) -> #REF!
A33: 구분 | B33: 계 | E33: 국 유 지 | H33: 공 유 지 | K33: 사 유 지 | N33: 비고
B34: 필지 | C34: / | D34: 면 적 (㎡) | E34: 필지 | F34: / | G34: 면 적 (㎡) | H34: 필지 | I34: / | J34: 면 적 (㎡) | K34: 필지 | L34: / | M34: 면 적 (㎡) | Q34: 총계 | R34: 국유지 | S34: 사유지 | T34: 국유지+사유지
A35: 계 | B35: =SUM(B36:B60) -> #REF! | C35: / | D35: =SUM(D36:D60) -> #REF! | E35: =SUM(E36:E60) -> #REF! | F35: / | G35: =SUM(G36:G60) -> #REF! | H35: =SUM(H36:H60) -> #REF! | I35: / | J35: =SUM(J36:J60) -> #REF! | K35: =SUM(K36:K60) -> #REF! | L35: / | M35: =SUM(M36:M60) -> #REF! | O35: =IF(EXACT(Q35,T35),"맞음","틀림") -> #REF! | P35: 필지 | Q35: =SUM(B36:B60) -> #REF! | R35: =SUM(H36:H60) -> #REF! | S35: =SUM(K36:K60) -> #REF! | T35: =K35+H35 -> #REF!
A36: 전 | B36: =COUNTIF(#REF!,"전") -> #REF! | C36: / | D36: =SUMIF(#REF!,"전",#REF!) -> #REF! | E36: =COUNTIF(#REF!,"전국") -> #REF! | F36: / | G36: =SUMIF(#REF!,"전국",#REF!) -> #REF! | H36: =COUNTIF(#REF!,"전공") -> #REF! | I36: / | J36: =SUMIF(#REF!,"전공",#REF!) -> #REF! | K36: =B36-E36-H36 -> #REF! | L36: / | M36: =D36-G36-J36 -> #REF! | O36: =IF(EXACT(Q36,T36),"맞음","틀림") -> #REF! | P36: 면적 | Q36: =SUM(D36:D60) -> #REF! | R36: =SUM(J36:J60) -> #REF! | S36: =SUM(M36:M60) -> #REF! | T36: =J35+M35 -> #REF!
A37: 답 | B37: =COUNTIF(#REF!,"답") -> #REF! | C37: / | D37: =SUMIF(#REF!,"답",#REF!) -> #REF! | E37: =COUNTIF(#REF!,"답국") -> #REF! | F37: / | G37: =SUMIF(#REF!,"답국",#REF!) -> #REF! | H37: =COUNTIF(#REF!,"답공") -> #REF! | I37: / | J37: =SUMIF(#REF!,"답공",#REF!) -> #REF! | K37: =B37-E37-H37 -> #REF! | L37: / | M37: =D37-G37-J37 -> #REF!
A38: 임야 | B38: =COUNTIF(#REF!,"임") -> #REF! | C38: / | D38: =SUMIF(#REF!,"임",#REF!) -> #REF! | E38: =COUNTIF(#REF!,"임국") -> #REF! | F38: / | G38: =SUMIF(#REF!,"임국",#REF!) -> #REF! | H38: =COUNTIF(#REF!,"임공") -> #REF! | I38: / | J38: =SUMIF(#REF!,"임공",#REF!) -> #REF! | K38: =B38-E38-H38 -> #REF! | L38: / | M38: =D38-G38-J38 -> #REF!
A39: 대지 | B39: =COUNTIF(#REF!,"대") -> #REF! | C39: / | D39: =SUMIF(#REF!,"대",#REF!) -> #REF! | E39: =COUNTIF(#REF!,"대국") -> #REF! | F39: / | G39: =SUMIF(#REF!,"대국",#REF!) -> #REF! | H39: =COUNTIF(#REF!,"대공") -> #REF! | I39: / | J39: =SUMIF(#REF!,"대공",#REF!) -> #REF! | K39: =B39-E39-H39 -> #REF! | L39: / | M39: =D39-G39-J39 -> #REF!
A40: 도로 | B40: =COUNTIF(#REF!,"도") -> #REF! | C40: / | D40: =SUMIF(#REF!,"도",#REF!) -> #REF! | E40: =COUNTIF(#REF!,"도국") -> #REF! | F40: / | G40: =SUMIF(#REF!,"도국",#REF!) -> #REF! | H40: =COUNTIF(#REF!,"도공") -> #REF! | I40: / | J40: =SUMIF(#REF!,"도공",#REF!) -> #REF! | K40: =B40-E40-H40 -> #REF! | L40: / | M40: =D40-G40-J40 -> #REF!
A41: 구거 | B41: =COUNTIF(#REF!,"구") -> #REF! | C41: / | D41: =SUMIF(#REF!,"구",#REF!) -> #REF! | E41: =COUNTIF(#REF!,"구국") -> #REF! | F41: / | G41: =SUMIF(#REF!,"구국",#REF!) -> #REF! | H41: =COUNTIF(#REF!,"구공") -> #REF! | I41: / | J41: =SUMIF(#REF!,"구공",#REF!) -> #REF! | K41: =B41-E41-H41 -> #REF! | L41: / | M41: =D41-G41-J41 -> #REF!
A42: 하천 | B42: =COUNTIF(#REF!,"천") -> #REF! | C42: / | D42: =SUMIF(#REF!,"천",#REF!) -> #REF! | E42: =COUNTIF(#REF!,"천국") -> #REF! | F42: / | G42: =SUMIF(#REF!,"천국",#REF!) -> #REF! | H42: =COUNTIF(#REF!,"천공") -> #REF! | I42: / | J42: =SUMIF(#REF!,"천공",#REF!) -> #REF! | K42: =B42-E42-H42 -> #REF! | L42: / | M42: =D42-G42-J42 -> #REF!
A43: 유지 | B43: =COUNTIF(#REF!,"유") -> #REF! | C43: / | D43: =SUMIF(#REF!,"유",#REF!) -> #REF! | E43: =COUNTIF(#REF!,"유국") -> #REF! | F43: / | G43: =SUMIF(#REF!,"유국",#REF!) -> #REF! | H43: =COUNTIF(#REF!,"유공") -> #REF! | I43: / | J43: =SUMIF(#REF!,"유공",#REF!) -> #REF! | K43: =B43-E43-H43 -> #REF! | L43: / | M43: =D43-G43-J43 -> #REF!
A44: 제방 | B44: =COUNTIF(#REF!,"제") -> #REF! | C44: / | D44: =SUMIF(#REF!,"제",#REF!) -> #REF! | E44: =COUNTIF(#REF!,"제국") -> #REF! | F44: / | G44: =SUMIF(#REF!,"제국",#REF!) -> #REF! | H44: =COUNTIF(#REF!,"제공") -> #REF! | I44: / | J44: =SUMIF(#REF!,"제공",#REF!) -> #REF! | K44: =B44-E44-H44 -> #REF! | L44: / | M44: =D44-G44-J44 -> #REF!
A45: 과수원 | B45: =COUNTIF(#REF!,"과") -> #REF! | C45: / | D45: =SUMIF(#REF!,"과",#REF!) -> #REF! | E45: =COUNTIF(#REF!,"과국") -> #REF! | F45: / | G45: =SUMIF(#REF!,"과국",#REF!) -> #REF! | H45: =COUNTIF(#REF!,"과공") -> #REF! | I45: / | J45: =SUMIF(#REF!,"과공",#REF!) -> #REF! | K45: =B45-E45-H45 -> #REF! | L45: / | M45: =D45-G45-J45 -> #REF!
A46: 공장 | B46: =COUNTIF(#REF!,"장") -> #REF! | C46: / | D46: =SUMIF(#REF!,"장",#REF!) -> #REF! | E46: =COUNTIF(#REF!,"장국") -> #REF! | F46: / | G46: =SUMIF(#REF!,"장국",#REF!) -> #REF! | H46: =COUNTIF(#REF!,"장공") -> #REF! | I46: / | J46: =SUMIF(#REF!,"장공",#REF!) -> #REF! | K46: =B46-E46-H46 -> #REF! | L46: / | M46: =D46-G46-J46 -> #REF!
A47: 목장 | B47: =COUNTIF(#REF!,"목") -> #REF! | C47: / | D47: =SUMIF(#REF!,"목",#REF!) -> #REF! | E47: =COUNTIF(#REF!,"목국") -> #REF! | F47: / | G47: =SUMIF(#REF!,"목국",#REF!) -> #REF! | H47: =COUNTIF(#REF!,"목공") -> #REF! | I47: / | J47: =SUMIF(#REF!,"목공",#REF!) -> #REF! | K47: =B47-E47-H47 -> #REF! | L47: / | M47: =D47-G47-J47 -> #REF!
A48: 학교용지 | B48: =COUNTIF(#REF!,"학") -> #REF! | C48: / | D48: =SUMIF(#REF!,"학",#REF!) -> #REF! | E48: =COUNTIF(#REF!,"학국") -> #REF! | F48: / | G48: =SUMIF(#REF!,"학국",#REF!) -> #REF! | H48: =COUNTIF(#REF!,"학공") -> #REF! | I48: / | J48: =SUMIF(#REF!,"학공",#REF!) -> #REF! | K48: =B48-E48-H48 -> #REF! | L48: / | M48: =D48-G48-J48 -> #REF!
A49: 철도 | B49: =COUNTIF(#REF!,"철") -> #REF! | C49: / | D49: =SUMIF(#REF!,"철",#REF!) -> #REF! | E49: =COUNTIF(#REF!,"철국") -> #REF! | F49: / | G49: =SUMIF(#REF!,"철국",#REF!) -> #REF! | H49: =COUNTIF(#REF!,"철공") -> #REF! | I49: / | J49: =SUMIF(#REF!,"철공",#REF!) -> #REF! | K49: =B49-E49-H49 -> #REF! | L49: / | M49: =D49-G49-J49 -> #REF!
A50: 묘지 | B50: =COUNTIF(#REF!,"묘") -> #REF! | C50: / | D50: =SUMIF(#REF!,"묘",#REF!) -> #REF! | E50: =COUNTIF(#REF!,"묘국") -> #REF! | F50: / | G50: =SUMIF(#REF!,"묘국",#REF!) -> #REF! | H50: =COUNTIF(#REF!,"묘공") -> #REF! | I50: / | J50: =SUMIF(#REF!,"묘공",#REF!) -> #REF! | K50: =B50-E50-H50 -> #REF! | L50: / | M50: =D50-G50-J50 -> #REF!
A51: 수도 | B51: =COUNTIF(#REF!,"수") -> #REF! | C51: / | D51: =SUMIF(#REF!,"수",#REF!) -> #REF! | E51: =COUNTIF(#REF!,"수국") -> #REF! | F51: / | G51: =SUMIF(#REF!,"수국",#REF!) -> #REF! | H51: =COUNTIF(#REF!,"수공") -> #REF! | I51: / | J51: =SUMIF(#REF!,"수공",#REF!) -> #REF! | K51: =B51-E51-H51 -> #REF! | L51: / | M51: =D51-G51-J51 -> #REF!
A52: 잡종지 | B52: =COUNTIF(#REF!,"잡") -> #REF! | C52: / | D52: =SUMIF(#REF!,"잡",#REF!) -> #REF! | E52: =COUNTIF(#REF!,"잡국") -> #REF! | F52: / | G52: =SUMIF(#REF!,"잡국",#REF!) -> #REF! | H52: =COUNTIF(#REF!,"잡공") -> #REF! | I52: / | J52: =SUMIF(#REF!,"잡공",#REF!) -> #REF! | K52: =B52-E52-H52 -> #REF! | L52: / | M52: =D52-G52-J52 -> #REF!
...

Sheet 전체집계표-구역별
A1: 전체 편입용지 집계표
A3: 구분 | B3: 계 | E3: 경기도 포천시 가산면
E4: 마산리 | H4: 감암리
B5: 필지 | C5: / | D5: 면적(㎡) | E5: 필지 | F5: / | G5: 면적(㎡) | H5: 필지 | I5: / | J5: 면적(㎡) | K5: 필지 | L5: / | M5: 면적(㎡) | N5: 필지 | O5: / | P5: 면적(㎡)
A6: 계 | B6: =SUM(B7:B31) -> #REF! | C6: / | D6: =SUM(D7:D31) -> #REF! | E6: =SUM(E7:E31) -> #REF! | F6: / | G6: =SUM(G7:G31) -> #REF! | H6: =SUM(H7:H31) -> #REF! | I6: / | J6: =SUM(J7:J31) -> #REF! | K6: =SUM(K7:K31) -> 0 | L6: / | M6: =SUM(M7:M31) -> 0 | N6: =SUM(N7:N31) -> 0 | O6: / | P6: =SUM(P7:P31) -> 0 | R6: =IF(D6=(G6+J6+M6+P6),"ok","false") -> #REF!
A7: 전 | B7: =SUM(E7,H7,K7,N7) -> #REF! | C7: / | D7: =SUM(G7,J7,M7,P7) -> #REF! | E7: ='마산리집계표(당초)'!B6 -> #REF! | F7: / | G7: ='마산리집계표(당초)'!D6 -> #REF! | H7: =#REF! -> #REF! | I7: / | J7: =#REF! -> #REF! | K7: =신흥리집계표!B6 -> 0 | L7: / | M7: =신흥리집계표!D6 -> 0 | N7: =죽림리집계표!B6 -> 0 | O7: / | P7: =죽림리집계표!D6 -> 0 | R7: =IF(D7=(G7+J7+M7+P7),"ok","false") -> #REF!
A8: 답 | B8: =SUM(E8,H8,K8,N8) -> #REF! | C8: / | D8: =SUM(G8,J8,M8,P8) -> #REF! | E8: ='마산리집계표(당초)'!B7 -> #REF! | F8: / | G8: ='마산리집계표(당초)'!D7 -> #REF! | H8: =#REF! -> #REF! | I8: / | J8: =#REF! -> #REF! | K8: =신흥리집계표!B7 -> 0 | L8: / | M8: =신흥리집계표!D7 -> 0 | N8: =죽림리집계표!B7 -> 0 | O8: / | P8: =죽림리집계표!D7 -> 0 | R8: =IF(D8=(G8+J8+M8+P8),"ok","false") -> #REF!
A9: 임야 | B9: =SUM(E9,H9,K9,N9) -> #REF! | C9: / | D9: =SUM(G9,J9,M9,P9) -> #REF! | E9: ='마산리집계표(당초)'!B8 -> #REF! | F9: / | G9: ='마산리집계표(당초)'!D8 -> #REF! | H9: =#REF! -> #REF! | I9: / | J9: =#REF! -> #REF! | K9: =신흥리집계표!B8 -> 0 | L9: / | M9: =신흥리집계표!D8 -> 0 | N9: =죽림리집계표!B8 -> 0 | O9: / | P9: =죽림리집계표!D8 -> 0 | R9: =IF(D9=(G9+J9+M9+P9),"ok","false") -> #REF!
A10: 대지 | B10: =SUM(E10,H10,K10,N10) -> #REF! | C10: / | D10: =SUM(G10,J10,M10,P10) -> #REF! | E10: ='마산리집계표(당초)'!B9 -> #REF! | F10: / | G10: ='마산리집계표(당초)'!D9 -> #REF! | H10: =#REF! -> #REF! | I10: / | J10: =#REF! -> #REF! | K10: =신흥리집계표!B9 -> 0 | L10: / | M10: =신흥리집계표!D9 -> 0 | N10: =죽림리집계표!B9 -> 0 | O10: / | P10: =죽림리집계표!D9 -> 0 | R10: =IF(D10=(G10+J10+M10+P10),"ok","false") -> #REF!
A11: 도로 | B11: =SUM(E11,H11,K11,N11) -> #REF! | C11: / | D11: =SUM(G11,J11,M11,P11) -> #REF! | E11: ='마산리집계표(당초)'!B10 -> #REF! | F11: / | G11: ='마산리집계표(당초)'!D10 -> #REF! | H11: =#REF! -> #REF! | I11: / | J11: =#REF! -> #REF! | K11: =신흥리집계표!B10 -> 0 | L11: / | M11: =신흥리집계표!D10 -> 0 | N11: =죽림리집계표!B10 -> 0 | O11: / | P11: =죽림리집계표!D10 -> 0 | R11: =IF(D11=(G11+J11+M11+P11),"ok","false") -> #REF!
A12: 구거 | B12: =SUM(E12,H12,K12,N12) -> #REF! | C12: / | D12: =SUM(G12,J12,M12,P12) -> #REF! | E12: ='마산리집계표(당초)'!B11 -> #REF! | F12: / | G12: ='마산리집계표(당초)'!D11 -> #REF! | H12: =#REF! -> #REF! | I12: / | J12: =#REF! -> #REF! | K12: =신흥리집계표!B11 -> 0 | L12: / | M12: =신흥리집계표!D11 -> 0 | N12: =죽림리집계표!B11 -> 0 | O12: / | P12: =죽림리집계표!D11 -> 0 | R12: =IF(D12=(G12+J12+M12+P12),"ok","false") -> #REF!
A13: 하천 | B13: =SUM(E13,H13,K13,N13) -> #REF! | C13: / | D13: =SUM(G13,J13,M13,P13) -> #REF! | E13: ='마산리집계표(당초)'!B12 -> #REF! | F13: / | G13: ='마산리집계표(당초)'!D12 -> #REF! | H13: =#REF! -> #REF! | I13: / | J13: =#REF! -> #REF! | K13: =신흥리집계표!B12 -> 0 | L13: / | M13: =신흥리집계표!D12 -> 0 | N13: =죽림리집계표!B12 -> 0 | O13: / | P13: =죽림리집계표!D12 -> 0 | R13: =IF(D13=(G13+J13+M13+P13),"ok","false") -> #REF!
A14: 유지 | B14: =SUM(E14,H14,K14,N14) -> #REF! | C14: / | D14: =SUM(G14,J14,M14,P14) -> #REF! | E14: ='마산리집계표(당초)'!B13 -> #REF! | F14: / | G14: ='마산리집계표(당초)'!D13 -> #REF! | H14: =#REF! -> #REF! | I14: / | J14: =#REF! -> #REF! | K14: =신흥리집계표!B13 -> 0 | L14: / | M14: =신흥리집계표!D13 -> 0 | N14: =죽림리집계표!B13 -> 0 | O14: / | P14: =죽림리집계표!D13 -> 0 | R14: =IF(D14=(G14+J14+M14+P14),"ok","false") -> #REF!
A15: 제방 | B15: =SUM(E15,H15,K15,N15) -> #REF! | C15: / | D15: =SUM(G15,J15,M15,P15) -> #REF! | E15: ='마산리집계표(당초)'!B14 -> #REF! | F15: / | G15: ='마산리집계표(당초)'!D14 -> #REF! | H15: =#REF! -> #REF! | I15: / | J15: =#REF! -> #REF! | K15: =신흥리집계표!B14 -> 0 | L15: / | M15: =신흥리집계표!D14 -> 0 | N15: =죽림리집계표!B14 -> 0 | O15: / | P15: =죽림리집계표!D14 -> 0 | R15: =IF(D15=(G15+J15+M15+P15),"ok","false") -> #REF!
A16: 과수원 | B16: =SUM(E16,H16,K16,N16) -> #REF! | C16: / | D16: =SUM(G16,J16,M16,P16) -> #REF! | E16: ='마산리집계표(당초)'!B15 -> #REF! | F16: / | G16: ='마산리집계표(당초)'!D15 -> #REF! | H16: =#REF! -> #REF! | I16: / | J16: =#REF! -> #REF! | K16: =신흥리집계표!B15 -> 0 | L16: / | M16: =신흥리집계표!D15 -> 0 | N16: =죽림리집계표!B15 -> 0 | O16: / | P16: =죽림리집계표!D15 -> 0 | R16: =IF(D16=(G16+J16+M16+P16),"ok","false") -> #REF!
A17: 공장 | B17: =SUM(E17,H17,K17,N17) -> #REF! | C17: / | D17: =SUM(G17,J17,M17,P17) -> #REF! | E17: ='마산리집계표(당초)'!B16 -> #REF! | F17: / | G17: ='마산리집계표(당초)'!D16 -> #REF! | H17: =#REF! -> #REF! | I17: / | J17: =#REF! -> #REF! | K17: =신흥리집계표!B16 -> 0 | L17: / | M17: =신흥리집계표!D16 -> 0 | N17: =죽림리집계표!B16 -> 0 | O17: / | P17: =죽림리집계표!D16 -> 0 | R17: =IF(D17=(G17+J17+M17+P17),"ok","false") -> #REF!
A18: 목장 | B18: =SUM(E18,H18,K18,N18) -> #REF! | C18: / | D18: =SUM(G18,J18,M18,P18) -> #REF! | E18: ='마산리집계표(당초)'!B17 -> #REF! | F18: / | G18: ='마산리집계표(당초)'!D17 -> #REF! | H18: =#REF! -> #REF! | I18: / | J18: =#REF! -> #REF! | K18: =신흥리집계표!B17 -> 0 | L18: / | M18: =신흥리집계표!D17 -> 0 | N18: =죽림리집계표!B17 -> 0 | O18: / | P18: =죽림리집계표!D17 -> 0 | R18: =IF(D18=(G18+J18+M18+P18),"ok","false") -> #REF!
... A31: 기타 | B31: =SUM(E31,H31,K31,N31) -> #REF! | C31: / | D31: =SUM(G31,J31,M31,P31) -> #REF! | E31: ='마산리집계표(당초)'!B30 -> #REF! | F31: / | G31: ='마산리집계표(당초)'!D30 -> #REF! | H31: =#REF! -> #REF! | I31: / | J31: =#REF! -> #REF! | K31: =신흥리집계표!B30 -> 0 | L31: / | M31: =신흥리집계표!D30 -> 0 | N31: =죽림리집계표!B30 -> 0 | O31: / | P31: =죽림리집계표!D30 -> 0 | R31: =IF(D31=(G31+J31+M31+P31),"ok","false") -> #REF!
A32: 국유지 편입용지 집계표
A34: 구분 | B34: 계 | E34: =E3 -> 경기도 포천시 가산면
E35: =E4 -> 마산리 | H35: =H4 -> 감암리 | K35: =K4 -> 0 | N35: =N4 -> 0
B36: 필지 | C36: / | D36: 면적(㎡) | E36: 필지 | F36: / | G36: 면적(㎡) | H36: 필지 | I36: / | J36: 면적(㎡) | K36: 필지 | L36: / | M36: 면적(㎡) | N36: 필지 | O36: / | P36: 면적(㎡)
A37: 계 | B37: =SUM(B38:B62) -> #REF! | C37: / | D37: =SUM(D38:D62) -> #REF! | E37: ='마산리집계표(당초)'!E5 -> #REF! | F37: / | G37: ='마산리집계표(당초)'!G5 -> #REF! | H37: =#REF! -> #REF! | I37: / | J37: =#REF! -> #REF! | K37: =신흥리집계표!E5 -> 0 | L37: / | M37: =신흥리집계표!G5 -> 0 | N37: =죽림리집계표!E5 -> 0 | O37: / | P37: =죽림리집계표!G5 -> 0 | R37: =IF(D37=(G37+J37+M37+P37),"ok","false") -> #REF!
A38: 전 | B38: =SUM(E38,H38,K38,N38) -> #REF! | C38: / | D38: =SUM(G38,J38,M38,P38) -> #REF! | E38: ='마산리집계표(당초)'!E6 -> #REF! | F38: / | G38: ='마산리집계표(당초)'!G6 -> #REF! | H38: =#REF! -> #REF! | I38: / | J38: =#REF! -> #REF! | K38: =신흥리집계표!E6 -> 0 | L38: / | M38: =신흥리집계표!G6 -> 0 | N38: =죽림리집계표!E6 -> 0 | O38: / | P38: =죽림리집계표!G6 -> 0 | R38: =IF(D38=(G38+J38+M38+P38),"ok","false") -> #REF!
A39: 답 | B39: =SUM(E39,H39,K39,N39) -> #REF! | C39: / | D39: =SUM(G39,J39,M39,P39) -> #REF! | E39: ='마산리집계표(당초)'!E7 -> #REF! | F39: / | G39: ='마산리집계표(당초)'!G7 -> #REF! | H39: =#REF! -> #REF! | I39: / | J39: =#REF! -> #REF! | K39: =신흥리집계표!E7 -> 0 | L39: / | M39: =신흥리집계표!G7 -> 0 | N39: =죽림리집계표!E7 -> 0 | O39: / | P39: =죽림리집계표!G7 -> 0 | R39: =IF(D39=(G39+J39+M39+P39),"ok","false") -> #REF!
A40: 임야 | B40: =SUM(E40,H40,K40,N40) -> #REF! | C40: / | D40: =SUM(G40,J40,M40,P40) -> #REF! | E40: ='마산리집계표(당초)'!E8 -> #REF! | F40: / | G40: ='마산리집계표(당초)'!G8 -> #REF! | H40: =#REF! -> #REF! | I40: / | J40: =#REF! -> #REF! | K40: =신흥리집계표!E8 -> 0 | L40: / | M40: =신흥리집계표!G8 -> 0 | N40: =죽림리집계표!E8 -> 0 | O40: / | P40: =죽림리집계표!G8 -> 0 | R40: =IF(D40=(G40+J40+M40+P40),"ok","false") -> #REF!
A41: 대지 | B41: =SUM(E41,H41,K41,N41) -> #REF! | C41: / | D41: =SUM(G41,J41,M41,P41) -> #REF! | E41: ='마산리집계표(당초)'!E9 -> #REF! | F41: / | G41: ='마산리집계표(당초)'!G9 -> #REF! | H41: =#REF! -> #REF! | I41: / | J41: =#REF! -> #REF! | K41: =신흥리집계표!E9 -> 0 | L41: / | M41: =신흥리집계표!G9 -> 0 | N41: =죽림리집계표!E9 -> 0 | O41: / | P41: =죽림리집계표!G9 -> 0 | R41: =IF(D41=(G41+J41+M41+P41),"ok","false") -> #REF!
A42: 도로 | B42: =SUM(E42,H42,K42,N42) -> #REF! | C42: / | D42: =SUM(G42,J42,M42,P42) -> #REF! | E42: ='마산리집계표(당초)'!E10 -> #REF! | F42: / | G42: ='마산리집계표(당초)'!G10 -> #REF! | H42: =#REF! -> #REF! | I42: / | J42: =#REF! -> #REF! | K42: =신흥리집계표!E10 -> 0 | L42: / | M42: =신흥리집계표!G10 -> 0 | N42: =죽림리집계표!E10 -> 0 | O42: / | P42: =죽림리집계표!G10 -> 0 | R42: =IF(D42=(G42+J42+M42+P42),"ok","false") -> #REF!
A43: 구거 | B43: =SUM(E43,H43,K43,N43) -> #REF! | C43: / | D43: =SUM(G43,J43,M43,P43) -> #REF! | E43: ='마산리집계표(당초)'!E11 -> #REF! | F43: / | G43: ='마산리집계표(당초)'!G11 -> #REF! | H43: =#REF! -> #REF! | I43: / | J43: =#REF! -> #REF! | K43: =신흥리집계표!E11 -> 0 | L43: / | M43: =신흥리집계표!G11 -> 0 | N43: =죽림리집계표!E11 -> 0 | O43: / | P43: =죽림리집계표!G11 -> 0 | R43: =IF(D43=(G43+J43+M43+P43),"ok","false") -> #REF!
A44: 하천 | B44: =SUM(E44,H44,K44,N44) -> #REF! | C44: / | D44: =SUM(G44,J44,M44,P44) -> #REF! | E44: ='마산리집계표(당초)'!E12 -> #REF! | F44: / | G44: ='마산리집계표(당초)'!G12 -> #REF! | H44: =#REF! -> #REF! | I44: / | J44: =#REF! -> #REF! | K44: =신흥리집계표!E12 -> 0 | L44: / | M44: =신흥리집계표!G12 -> 0 | N44: =죽림리집계표!E12 -> 0 | O44: / | P44: =죽림리집계표!G12 -> 0 | R44: =IF(D44=(G44+J44+M44+P44),"ok","false") -> #REF!
A45: 유지 | B45: =SUM(E45,H45,K45,N45) -> #REF! | C45: / | D45: =SUM(G45,J45,M45,P45) -> #REF! | E45: ='마산리집계표(당초)'!E13 -> #REF! | F45: / | G45: ='마산리집계표(당초)'!G13 -> #REF! | H45: =#REF! -> #REF! | I45: / | J45: =#REF! -> #REF! | K45: =신흥리집계표!E13 -> 0 | L45: / | M45: =신흥리집계표!G13 -> 0 | N45: =죽림리집계표!E13 -> 0 | O45: / | P45: =죽림리집계표!G13 -> 0 | R45: =IF(D45=(G45+J45+M45+P45),"ok","false") -> #REF!
A46: 제방 | B46: =SUM(E46,H46,K46,N46) -> #REF! | C46: / | D46: =SUM(G46,J46,M46,P46) -> #REF! | E46: ='마산리집계표(당초)'!E14 -> #REF! | F46: / | G46: ='마산리집계표(당초)'!G14 -> #REF! | H46: =#REF! -> #REF! | I46: / | J46: =#REF! -> #REF! | K46: =신흥리집계표!E14 -> 0 | L46: / | M46: =신흥리집계표!G14 -> 0 | N46: =죽림리집계표!E14 -> 0 | O46: / | P46: =죽림리집계표!G14 -> 0 | R46: =IF(D46=(G46+J46+M46+P46),"ok","false") -> #REF!
A47: 과수원 | B47: =SUM(E47,H47,K47,N47) -> #REF! | C47: / | D47: =SUM(G47,J47,M47,P47) -> #REF! | E47: ='마산리집계표(당초)'!E15 -> #REF! | F47: / | G47: ='마산리집계표(당초)'!G15 -> #REF! | H47: =#REF! -> #REF! | I47: / | J47: =#REF! -> #REF! | K47: =신흥리집계표!E15 -> 0 | L47: / | M47: =신흥리집계표!G15 -> 0 | N47: =죽림리집계표!E15 -> 0 | O47: / | P47: =죽림리집계표!G15 -> 0 | R47: =IF(D47=(G47+J47+M47+P47),"ok","false") -> #REF!
A48: 공장 | B48: =SUM(E48,H48,K48,N48) -> #REF! | C48: / | D48: =SUM(G48,J48,M48,P48) -> #REF! | E48: ='마산리집계표(당초)'!E16 -> #REF! | F48: / | G48: ='마산리집계표(당초)'!G16 -> #REF! | H48: =#REF! -> #REF! | I48: / | J48: =#REF! -> #REF! | K48: =신흥리집계표!E16 -> 0 | L48: / | M48: =신흥리집계표!G16 -> 0 | N48: =죽림리집계표!E16 -> 0 | O48: / | P48: =죽림리집계표!G16 -> 0 | R48: =IF(D48=(G48+J48+M48+P48),"ok","false") -> #REF!
A49: 목장 | B49: =SUM(E49,H49,K49,N49) -> #REF! | C49: / | D49: =SUM(G49,J49,M49,P49) -> #REF! | E49: ='마산리집계표(당초)'!E17 -> #REF! | F49: / | G49: ='마산리집계표(당초)'!G17 -> #REF! | H49: =#REF! -> #REF! | I49: / | J49: =#REF! -> #REF! | K49: =신흥리집계표!E17 -> 0 | L49: / | M49: =신흥리집계표!G17 -> 0 | N49: =죽림리집계표!E17 -> 0 | O49: / | P49: =죽림리집계표!G17 -> 0 | R49: =IF(D49=(G49+J49+M49+P49),"ok","false") -> #REF!
... A62: 기타 | B62: =SUM(E62,H62,K62,N62) -> #REF! | C62: / | D62: =SUM(G62,J62,M62,P62) -> #REF! | E62: ='마산리집계표(당초)'!E30 -> #REF! | F62: / | G62: ='마산리집계표(당초)'!G30 -> #REF! | H62: =#REF! -> #REF! | I62: / | J62: =#REF! -> #REF! | K62: =신흥리집계표!E30 -> 0 | L62: / | M62: =신흥리집계표!G30 -> 0 | N62: =죽림리집계표!E30 -> 0 | O62: / | P62: =죽림리집계표!G30 -> 0 | R62: =IF(D62=(G62+J62+M62+P62),"ok","false") -> #REF!
A63: 공유지 편입용지 집계표
A65: 구분 | B65: 계 | E65: =E3 -> 경기도 포천시 가산면
E66: =E4 -> 마산리 | H66: =H4 -> 감암리 | K66: =K4 -> 0 | N66: =N4 -> 0
B67: 필지 | C67: / | D67: 면적(㎡) | E67: 필지 | F67: / | G67: 면적(㎡) | H67: 필지 | I67: / | J67: 면적(㎡) | K67: 필지 | L67: / | M67: 면적(㎡) | N67: 필지 | O67: / | P67: 면적(㎡)
...

Sheet 집계표(마산리)
A1: 용지조서 지목별 집계표(전체분)
H2: 경기도 포천시 가산면 마산리
A4: 구 분 | C4: 계 | F4: 국 유 지 | I4: 공 유 지 | L4: 사 유 지 | O4: 비고
V5: 비고
C6: 필지 | D6: / | E6: 면 적 (㎡) | F6: 필지 | G6: / | H6: 면 적 (㎡) | I6: 필지 | J6: / | K6: 면 적 (㎡) | L6: 필지 | M6: / | N6: 면 적 (㎡) | R6: ='마산리집계표(당초)'!D5+#REF! -> #REF!
A7: 계 | B7: 당초 | C7: ='마산리집계표(당초)'!B5 -> #REF! | D7: / | E7: ='마산리집계표(당초)'!G5 -> #REF! | F7: ='마산리집계표(당초)'!H5 -> #REF! | G7: / | H7: ='마산리집계표(당초)'!J5 -> #REF! | I7: ='마산리집계표(당초)'!H5 -> #REF! | J7: / | K7: ='마산리집계표(당초)'!J5 -> #REF! | L7: ='마산리집계표(당초)'!K5 -> #REF! | M7: / | N7: ='마산리집계표(당초)'!M5 -> #REF!
B8: 변경 | C8: ='마산리집계표 (변경)'!B5 -> #REF! | D8: / | E8: ='마산리집계표 (변경)'!D5 -> #REF! | F8: ='마산리집계표 (변경)'!E5 -> #REF! | G8: / | H8: ='마산리집계표 (변경)'!G5 -> #REF! | I8: ='마산리집계표 (변경)'!H5 -> #REF! | J8: / | K8: ='마산리집계표 (변경)'!J5 -> #REF! | L8: ='마산리집계표 (변경)'!K5 -> #REF! | M8: / | N8: ='마산리집계표 (변경)'!M5 -> #REF!
A9: 전 | B9: 당초 | D9: / | G9: / | J9: / | M9: /
B10: 변경 | D10: / | G10: / | J10: / | M10: /
A11: 답 | B11: 당초 | D11: / | G11: / | J11: / | M11: /
B12: 변경 | D12: / | G12: / | J12: / | M12: /
A13: 임야 | B13: 당초 | D13: / | G13: / | J13: / | M13: /
B14: 변경 | D14: / | G14: / | J14: / | M14: /
A15: 대지 | B15: 당초 | C15: ='마산리집계표(당초)'!B9 -> #REF! | D15: / | E15: ='마산리집계표(당초)'!D9 -> #REF! | F15: ='마산리집계표(당초)'!E9 -> #REF! | G15: / | H15: ='마산리집계표(당초)'!G9 -> #REF! | I15: ='마산리집계표(당초)'!H9 -> #REF! | J15: / | K15: ='마산리집계표(당초)'!J9 -> #REF! | L15: ='마산리집계표(당초)'!K9 -> #REF! | M15: / | N15: ='마산리집계표(당초)'!M9 -> #REF!
B16: 변경 | C16: ='마산리집계표 (변경)'!B9 -> #REF! | D16: / | E16: ='마산리집계표 (변경)'!D9 -> #REF! | F16: ='마산리집계표 (변경)'!E9 -> #REF! | G16: / | H16: ='마산리집계표 (변경)'!G9 -> #REF! | I16: ='마산리집계표 (변경)'!H9 -> #REF! | J16: / | K16: ='마산리집계표 (변경)'!J9 -> #REF! | L16: ='마산리집계표 (변경)'!K9 -> #REF! | M16: / | N16: ='마산리집계표 (변경)'!M9 -> #REF!
A17: 도로 | B17: 당초 | C17: ='마산리집계표(당초)'!B10 -> #REF! | D17: / | E17: ='마산리집계표(당초)'!D10 -> #REF! | F17: ='마산리집계표(당초)'!E10 -> #REF! | G17: / | H17: ='마산리집계표(당초)'!G10 -> #REF! | I17: ='마산리집계표(당초)'!H10 -> #REF! | J17: / | K17: ='마산리집계표(당초)'!J10 -> #REF! | L17: ='마산리집계표(당초)'!K10 -> #REF! | M17: / | N17: ='마산리집계표(당초)'!M10 -> #REF!
B18: 변경 | C18: ='마산리집계표 (변경)'!B10 -> #REF! | D18: / | E18: ='마산리집계표 (변경)'!D10 -> #REF! | F18: ='마산리집계표 (변경)'!E10 -> #REF! | G18: / | H18: ='마산리집계표 (변경)'!G10 -> #REF! | I18: ='마산리집계표 (변경)'!H10 -> #REF! | J18: / | K18: ='마산리집계표 (변경)'!J10 -> #REF! | L18: ='마산리집계표 (변경)'!K10 -> #REF! | M18: / | N18: ='마산리집계표 (변경)'!M10 -> #REF!
A19: 구거 | B19: 당초 | D19: / | G19: / | J19: / | M19: /
B20: 변경 | D20: / | G20: / | J20: / | M20: /
A21: 유지 | B21: 당초 | G21: / | J21: / | M21: /
B22: 변경 | D22: / | G22: / | J22: / | M22: /
A23: 학교 | B23: 당초 | C23: ='마산리집계표(당초)'!B18 -> #REF! | E23: ='마산리집계표(당초)'!D18 -> #REF! | G23: / | I23: ='마산리집계표(당초)'!H18 -> #REF! | J23: / | K23: ='마산리집계표(당초)'!J18 -> #REF! | M23: /
B24: 변경 | C24: ='마산리집계표 (변경)'!B18 -> #REF! | D24: / | E24: ='마산리집계표 (변경)'!D18 -> #REF! | G24: / | I24: ='마산리집계표 (변경)'!H18 -> #REF! | J24: / | K24: ='마산리집계표 (변경)'!J18 -> #REF! | M24: /
F26: .

Sheet 마산리집계표(당초)
A1: 편입용지 집계표(당초)
N2: 경기도 포천시 가산면 마산리
A3: 구분 | B3: 계 | E3: 국유지 | H3: 공유지 | K3: 사유지 | N3: 비고
B4: 필지 | C4: / | D4: 면적(㎡) | E4: 필지 | F4: / | G4: 면적(㎡) | H4: 필지 | I4: / | J4: 면적(㎡) | K4: 필지 | L4: / | M4: 면적(㎡)
A5: 계 | B5: =SUM(B6:B30) -> #REF! | C5: / | D5: =SUM(D6:D30) -> #REF! | E5: =SUM(E6:E30) -> #REF! | F5: / | G5: =SUM(G6:G30) -> #REF! | H5: =SUM(H6:H30) -> #REF! | I5: / | J5: =SUM(J6:J30) -> #REF! | K5: =SUM(K6:K30) -> #REF! | L5: / | M5: =SUM(M6:M30) -> #REF! | O5: =IF(D5=(G5+J5+M5),"ok","false") -> #REF! | Q5: 국 | R5: 공 | S5: 사
A6: 전 | B6: =COUNTIF(#REF!,P6) -> #REF! | C6: / | D6: =SUMIF(#REF!,P6,#REF!) -> #REF! | E6: =COUNTIF(#REF!,Q6) -> #REF! | F6: / | G6: =SUMIF(#REF!,Q6,#REF!) -> #REF! | H6: =COUNTIF(#REF!,R6) -> #REF! | I6: / | J6: =SUMIF(#REF!,R6,#REF!) -> #REF! | K6: =COUNTIF(#REF!,S6) -> #REF! | L6: / | M6: =SUMIF(#REF!,S6,#REF!) -> #REF! | O6: =IF(D6=(G6+J6+M6),"ok","false") -> #REF! | P6: 전 | Q6: =CONCATENATE($P6,Q$5) -> 전국 | R6: =CONCATENATE($P6,R$5) -> 전공 | S6: =CONCATENATE($P6,S$5) -> 전사
A7: 답 | B7: =COUNTIF(#REF!,P7) -> #REF! | C7: / | D7: =SUMIF(#REF!,P7,#REF!) -> #REF! | E7: =COUNTIF(#REF!,"답국") -> #REF! | F7: / | G7: =SUMIF(#REF!,Q7,#REF!) -> #REF! | H7: =COUNTIF(#REF!,R7) -> #REF! | I7: / | J7: =SUMIF(#REF!,R7,#REF!) -> #REF! | K7: =COUNTIF(#REF!,S7) -> #REF! | L7: / | M7: =SUMIF(#REF!,S7,#REF!) -> #REF! | O7: =IF(D7=(G7+J7+M7),"ok","false") -> #REF! | P7: 답 | Q7: =CONCATENATE($P7,Q$5) -> 답국 | R7: =CONCATENATE($P7,R$5) -> 답공 | S7: =CONCATENATE($P7,S$5) -> 답사
A8: 임야 | B8: =COUNTIF(#REF!,P8) -> #REF! | C8: / | D8: =SUMIF(#REF!,P8,#REF!) -> #REF! | E8: =COUNTIF(#REF!,"임국") -> #REF! | F8: / | G8: =SUMIF(#REF!,Q8,#REF!) -> #REF! | H8: =COUNTIF(#REF!,R8) -> #REF! | I8: / | J8: =SUMIF(#REF!,R8,#REF!) -> #REF! | K8: =COUNTIF(#REF!,S8) -> #REF! | L8: / | M8: =SUMIF(#REF!,S8,#REF!) -> #REF! | O8: =IF(D8=(G8+J8+M8),"ok","false") -> #REF! | P8: 임 | Q8: =CONCATENATE($P8,Q$5) -> 임국 | R8: =CONCATENATE($P8,R$5) -> 임공 | S8: =CONCATENATE($P8,S$5) -> 임사
A9: 대지 | B9: =COUNTIF(#REF!,P9) -> #REF! | C9: / | D9: =SUMIF(#REF!,P9,#REF!) -> #REF! | E9: =COUNTIF(#REF!,"대국") -> #REF! | F9: / | G9: =SUMIF(#REF!,Q9,#REF!) -> #REF! | H9: =COUNTIF(#REF!,R9) -> #REF! | I9: / | J9: =SUMIF(#REF!,R9,#REF!) -> #REF! | K9: =COUNTIF(#REF!,S9) -> #REF! | L9: / | M9: =SUMIF(#REF!,S9,#REF!) -> #REF! | O9: =IF(D9=(G9+J9+M9),"ok","false") -> #REF! | P9: 대 | Q9: =CONCATENATE($P9,Q$5) -> 대국 | R9: =CONCATENATE($P9,R$5) -> 대공 | S9: =CONCATENATE($P9,S$5) -> 대사
A10: 도로 | B10: =COUNTIF(#REF!,P10) -> #REF! | C10: / | D10: =SUMIF(#REF!,P10,#REF!) -> #REF! | E10: =COUNTIF(#REF!,"도국") -> #REF! | F10: / | G10: =SUMIF(#REF!,Q10,#REF!) -> #REF! | H10: =COUNTIF(#REF!,R10) -> #REF! | I10: / | J10: =SUMIF(#REF!,R10,#REF!) -> #REF! | K10: =COUNTIF(#REF!,S10) -> #REF! | L10: / | M10: =SUMIF(#REF!,S10,#REF!) -> #REF! | O10: =IF(D10=(G10+J10+M10),"ok","false") -> #REF! | P10: 도 | Q10: =CONCATENATE($P10,Q$5) -> 도국 | R10: =CONCATENATE($P10,R$5) -> 도공 | S10: =CONCATENATE($P10,S$5) -> 도사
A11: 구거 | B11: =COUNTIF(#REF!,P11) -> #REF! | C11: / | D11: =SUMIF(#REF!,P11,#REF!) -> #REF! | E11: =COUNTIF(#REF!,"구국") -> #REF! | F11: / | G11: =SUMIF(#REF!,Q11,#REF!) -> #REF! | H11: =COUNTIF(#REF!,R11) -> #REF! | I11: / | J11: =SUMIF(#REF!,R11,#REF!) -> #REF! | K11: =COUNTIF(#REF!,S11) -> #REF! | L11: / | M11: =SUMIF(#REF!,S11,#REF!) -> #REF! | O11: =IF(D11=(G11+J11+M11),"ok","false") -> #REF! | P11: 구 | Q11: =CONCATENATE($P11,Q$5) -> 구국 | R11: =CONCATENATE($P11,R$5) -> 구공 | S11: =CONCATENATE($P11,S$5) -> 구사
A12: 하천 | B12: =COUNTIF(#REF!,P12) -> #REF! | C12: / | D12: =SUMIF(#REF!,P12,#REF!) -> #REF! | E12: =COUNTIF(#REF!,"천국") -> #REF! | F12: / | G12: =SUMIF(#REF!,Q12,#REF!) -> #REF! | H12: =COUNTIF(#REF!,R12) -> #REF! | I12: / | J12: =SUMIF(#REF!,R12,#REF!) -> #REF! | K12: =COUNTIF(#REF!,S12) -> #REF! | L12: / | M12: =SUMIF(#REF!,S12,#REF!) -> #REF! | O12: =IF(D12=(G12+J12+M12),"ok","false") -> #REF! | P12: 천 | Q12: =CONCATENATE($P12,Q$5) -> 천국 | R12: =CONCATENATE($P12,R$5) -> 천공 | S12: =CONCATENATE($P12,S$5) -> 천사
A13: 유지 | B13: =COUNTIF(#REF!,P13) -> #REF! | C13: / | D13: =SUMIF(#REF!,P13,#REF!) -> #REF! | E13: =COUNTIF(#REF!,"유국") -> #REF! | F13: / | G13: =SUMIF(#REF!,Q13,#REF!) -> #REF! | H13: =COUNTIF(#REF!,R13) -> #REF! | I13: / | J13: =SUMIF(#REF!,R13,#REF!) -> #REF! | K13: =COUNTIF(#REF!,S13) -> #REF! | L13: / | M13: =SUMIF(#REF!,S13,#REF!) -> #REF! | O13: =IF(D13=(G13+J13+M13),"ok","false") -> #REF! | P13: 유 | Q13: =CONCATENATE($P13,Q$5) -> 유국 | R13: =CONCATENATE($P13,R$5) -> 유공 | S13: =CONCATENATE($P13,S$5) -> 유사
A14: 제방 | B14: =COUNTIF(#REF!,P14) -> #REF! | C14: / | D14: =SUMIF(#REF!,P14,#REF!) -> #REF! | E14: =COUNTIF(#REF!,"제국") -> #REF! | F14: / | G14: =SUMIF(#REF!,Q14,#REF!) -> #REF! | H14: =COUNTIF(#REF!,R14) -> #REF! | I14: / | J14: =SUMIF(#REF!,R14,#REF!) -> #REF! | K14: =COUNTIF(#REF!,S14) -> #REF! | L14: / | M14: =SUMIF(#REF!,S14,#REF!) -> #REF! | O14: =IF(D14=(G14+J14+M14),"ok","false") -> #REF! | P14: 제 | Q14: =CONCATENATE($P14,Q$5) -> 제국 | R14: =CONCATENATE($P14,R$5) -> 제공 | S14: =CONCATENATE($P14,S$5) -> 제사
A15: 과수원 | B15: =COUNTIF(#REF!,P15) -> #REF! | C15: / | D15: =SUMIF(#REF!,P15,#REF!) -> #REF! | E15: =COUNTIF(#REF!,"과국") -> #REF! | F15: / | G15: =SUMIF(#REF!,Q15,#REF!) -> #REF! | H15: =COUNTIF(#REF!,R15) -> #REF! | I15: / | J15: =SUMIF(#REF!,R15,#REF!) -> #REF! | K15: =COUNTIF(#REF!,S15) -> #REF! | L15: / | M15: =SUMIF(#REF!,S15,#REF!) -> #REF! | O15: =IF(D15=(G15+J15+M15),"ok","false") -> #REF! | P15: 과 | Q15: =CONCATENATE($P15,Q$5) -> 과국 | R15: =CONCATENATE($P15,R$5) -> 과공 | S15: =CONCATENATE($P15,S$5) -> 과사
A16: 공장 | B16: =COUNTIF(#REF!,P16) -> #REF! | C16: / | D16: =SUMIF(#REF!,P16,#REF!) -> #REF! | E16: =COUNTIF(#REF!,"장국") -> #REF! | F16: / | G16: =SUMIF(#REF!,Q16,#REF!) -> #REF! | H16: =COUNTIF(#REF!,R16) -> #REF! | I16: / | J16: =SUMIF(#REF!,R16,#REF!) -> #REF! | K16: =COUNTIF(#REF!,S16) -> #REF! | L16: / | M16: =SUMIF(#REF!,S16,#REF!) -> #REF! | O16: =IF(D16=(G16+J16+M16),"ok","false") -> #REF! | P16: 장 | Q16: =CONCATENATE($P16,Q$5) -> 장국 | R16: =CONCATENATE($P16,R$5) -> 장공 | S16: =CONCATENATE($P16,S$5) -> 장사
A17: 목장 | B17: =COUNTIF(#REF!,P17) -> #REF! | C17: / | D17: =SUMIF(#REF!,P17,#REF!) -> #REF! | E17: =COUNTIF(#REF!,"목국") -> #REF! | F17: / | G17: =SUMIF(#REF!,Q17,#REF!) -> #REF! | H17: =COUNTIF(#REF!,R17) -> #REF! | I17: / | J17: =SUMIF(#REF!,R17,#REF!) -> #REF! | K17: =COUNTIF(#REF!,S17) -> #REF! | L17: / | M17: =SUMIF(#REF!,S17,#REF!) -> #REF! | O17: =IF(D17=(G17+J17+M17),"ok","false") -> #REF! | P17: 목 | Q17: =CONCATENATE($P17,Q$5) -> 목국 | R17: =CONCATENATE($P17,R$5) -> 목공 | S17: =CONCATENATE($P17,S$5) -> 목사
A18: 학교용지 | B18: =COUNTIF(#REF!,P18) -> #REF! | C18: / | D18: =SUMIF(#REF!,P18,#REF!) -> #REF! | E18: =COUNTIF(#REF!,"학국") -> #REF! | F18: / | G18: =SUMIF(#REF!,Q18,#REF!) -> #REF! | H18: =COUNTIF(#REF!,R18) -> #REF! | I18: / | J18: =SUMIF(#REF!,R18,#REF!) -> #REF! | K18: =COUNTIF(#REF!,S18) -> #REF! | L18: / | M18: =SUMIF(#REF!,S18,#REF!) -> #REF! | O18: =IF(D18=(G18+J18+M18),"ok","false") -> #REF! | P18: 학 | Q18: =CONCATENATE($P18,Q$5) -> 학국 | R18: =CONCATENATE($P18,R$5) -> 학공 | S18: =CONCATENATE($P18,S$5) -> 학사
A19: 철도 | B19: =COUNTIF(#REF!,P19) -> #REF! | C19: / | D19: =SUMIF(#REF!,P19,#REF!) -> #REF! | E19: =COUNTIF(#REF!,"철국") -> #REF! | F19: / | G19: =SUMIF(#REF!,Q19,#REF!) -> #REF! | H19: =COUNTIF(#REF!,R19) -> #REF! | I19: / | J19: =SUMIF(#REF!,R19,#REF!) -> #REF! | K19: =COUNTIF(#REF!,S19) -> #REF! | L19: / | M19: =SUMIF(#REF!,S19,#REF!) -> #REF! | O19: =IF(D19=(G19+J19+M19),"ok","false") -> #REF! | P19: 철 | Q19: =CONCATENATE($P19,Q$5) -> 철국 | R19: =CONCATENATE($P19,R$5) -> 철공 | S19: =CONCATENATE($P19,S$5) -> 철사
A20: 묘지 | B20: =COUNTIF(#REF!,P20) -> #REF! | C20: / | D20: =SUMIF(#REF!,P20,#REF!) -> #REF! | E20: =COUNTIF(#REF!,"묘국") -> #REF! | F20: / | G20: =SUMIF(#REF!,Q20,#REF!) -> #REF! | H20: =COUNTIF(#REF!,R20) -> #REF! | I20: / | J20: =SUMIF(#REF!,R20,#REF!) -> #REF! | K20: =COUNTIF(#REF!,S20) -> #REF! | L20: / | M20: =SUMIF(#REF!,S20,#REF!) -> #REF! | O20: =IF(D20=(G20+J20+M20),"ok","false") -> #REF! | P20: 묘 | Q20: =CONCATENATE($P20,Q$5) -> 묘국 | R20: =CONCATENATE($P20,R$5) -> 묘공 | S20: =CONCATENATE($P20,S$5) -> 묘사
A21: 수도 | B21: =COUNTIF(#REF!,P21) -> #REF! | C21: / | D21: =SUMIF(#REF!,P21,#REF!) -> #REF! | E21: =COUNTIF(#REF!,"수국") -> #REF! | F21: / | G21: =SUMIF(#REF!,Q21,#REF!) -> #REF! | H21: =COUNTIF(#REF!,R21) -> #REF! | I21: / | J21: =SUMIF(#REF!,R21,#REF!) -> #REF! | K21: =COUNTIF(#REF!,S21) -> #REF! | L21: / | M21: =SUMIF(#REF!,S21,#REF!) -> #REF! | O21: =IF(D21=(G21+J21+M21),"ok","false") -> #REF! | P21: 수 | Q21: =CONCATENATE($P21,Q$5) -> 수국 | R21: =CONCATENATE($P21,R$5) -> 수공 | S21: =CONCATENATE($P21,S$5) -> 수사
A22: 잡종지 | B22: =COUNTIF(#REF!,P22) -> #REF! | C22: / | D22: =SUMIF(#REF!,P22,#REF!) -> #REF! | E22: =COUNTIF(#REF!,"잡국") -> #REF! | F22: / | G22: =SUMIF(#REF!,Q22,#REF!) -> #REF! | H22: =COUNTIF(#REF!,R22) -> #REF! | I22: / | J22: =SUMIF(#REF!,R22,#REF!) -> #REF! | K22: =COUNTIF(#REF!,S22) -> #REF! | L22: / | M22: =SUMIF(#REF!,S22,#REF!) -> #REF! | O22: =IF(D22=(G22+J22+M22),"ok","false") -> #REF! | P22: 잡 | Q22: =CONCATENATE($P22,Q$5) -> 잡국 | R22: =CONCATENATE($P22,R$5) -> 잡공 | S22: =CONCATENATE($P22,S$5) -> 잡사
A23: 종교 | B23: =COUNTIF(#REF!,P23) -> #REF! | C23: / | D23: =SUMIF(#REF!,P23,#REF!) -> #REF! | E23: =COUNTIF(#REF!,"종국") -> #REF! | F23: / | G23: =SUMIF(#REF!,Q23,#REF!) -> #REF! | H23: =COUNTIF(#REF!,R23) -> #REF! | I23: / | J23: =SUMIF(#REF!,R23,#REF!) -> #REF! | K23: =COUNTIF(#REF!,S23) -> #REF! | L23: / | M23: =SUMIF(#REF!,S23,#REF!) -> #REF! | O23: =IF(D23=(G23+J23+M23),"ok","false") -> #REF! | P23: 종 | Q23: =CONCATENATE($P23,Q$5) -> 종국 | R23: =CONCATENATE($P23,R$5) -> 종공 | S23: =CONCATENATE($P23,S$5) -> 종사
A24: 염전 | B24: =COUNTIF(#REF!,P24) -> #REF! | C24: / | D24: =SUMIF(#REF!,P24,#REF!) -> #REF! | E24: =COUNTIF(#REF!,"염국") -> #REF! | F24: / | G24: =SUMIF(#REF!,Q24,#REF!) -> #REF! | H24: =COUNTIF(#REF!,R24) -> #REF! | I24: / | J24: =SUMIF(#REF!,R24,#REF!) -> #REF! | K24: =COUNTIF(#REF!,S24) -> #REF! | L24: / | M24: =SUMIF(#REF!,S24,#REF!) -> #REF! | O24: =IF(D24=(G24+J24+M24),"ok","false") -> #REF! | P24: 염 | Q24: =CONCATENATE($P24,Q$5) -> 염국 | R24: =CONCATENATE($P24,R$5) -> 염공 | S24: =CONCATENATE($P24,S$5) -> 염사
A25: 공원 | B25: =COUNTIF(#REF!,P25) -> #REF! | C25: / | D25: =SUMIF(#REF!,P25,#REF!) -> #REF! | E25: =COUNTIF(#REF!,"공국") -> #REF! | F25: / | G25: =SUMIF(#REF!,Q25,#REF!) -> #REF! | H25: =COUNTIF(#REF!,R25) -> #REF! | I25: / | J25: =SUMIF(#REF!,R25,#REF!) -> #REF! | K25: =COUNTIF(#REF!,S25) -> #REF! | L25: / | M25: =SUMIF(#REF!,S25,#REF!) -> #REF! | O25: =IF(D25=(G25+J25+M25),"ok","false") -> #REF! | P25: 공 | Q25: =CONCATENATE($P25,Q$5) -> 공국 | R25: =CONCATENATE($P25,R$5) -> 공공 | S25: =CONCATENATE($P25,S$5) -> 공사
A26: 체육 | B26: =COUNTIF(#REF!,P26) -> #REF! | C26: / | D26: =SUMIF(#REF!,P26,#REF!) -> #REF! | E26: =COUNTIF(#REF!,"체국") -> #REF! | F26: / | G26: =SUMIF(#REF!,Q26,#REF!) -> #REF! | H26: =COUNTIF(#REF!,R26) -> #REF! | I26: / | J26: =SUMIF(#REF!,R26,#REF!) -> #REF! | K26: =COUNTIF(#REF!,S26) -> #REF! | L26: / | M26: =SUMIF(#REF!,S26,#REF!) -> #REF! | O26: =IF(D26=(G26+J26+M26),"ok","false") -> #REF! | P26: 체 | Q26: =CONCATENATE($P26,Q$5) -> 체국 | R26: =CONCATENATE($P26,R$5) -> 체공 | S26: =CONCATENATE($P26,S$5) -> 체사
A27: 주차장 | B27: =COUNTIF(#REF!,P27) -> #REF! | C27: / | D27: =SUMIF(#REF!,P27,#REF!) -> #REF! | E27: =COUNTIF(#REF!,"차국") -> #REF! | F27: / | G27: =SUMIF(#REF!,Q27,#REF!) -> #REF! | H27: =COUNTIF(#REF!,R27) -> #REF! | I27: / | J27: =SUMIF(#REF!,R27,#REF!) -> #REF! | K27: =COUNTIF(#REF!,S27) -> #REF! | L27: / | M27: =SUMIF(#REF!,S27,#REF!) -> #REF! | O27: =IF(D27=(G27+J27+M27),"ok","false") -> #REF! | P27: 차 | Q27: =CONCATENATE($P27,Q$5) -> 차국 | R27: =CONCATENATE($P27,R$5) -> 차공 | S27: =CONCATENATE($P27,S$5) -> 차사
A28: 주유소 | B28: =COUNTIF(#REF!,P28) -> #REF! | C28: / | D28: =SUMIF(#REF!,P28,#REF!) -> #REF! | E28: =COUNTIF(#REF!,"주국") -> #REF! | F28: / | G28: =SUMIF(#REF!,Q28,#REF!) -> #REF! | H28: =COUNTIF(#REF!,R28) -> #REF! | I28: / | J28: =SUMIF(#REF!,R28,#REF!) -> #REF! | K28: =COUNTIF(#REF!,S28) -> #REF! | L28: / | M28: =SUMIF(#REF!,S28,#REF!) -> #REF! | O28: =IF(D28=(G28+J28+M28),"ok","false") -> #REF! | P28: 주 | Q28: =CONCATENATE($P28,Q$5) -> 주국 | R28: =CONCATENATE($P28,R$5) -> 주공 | S28: =CONCATENATE($P28,S$5) -> 주사
A29: 창고용지 | B29: =COUNTIF(#REF!,P29) -> #REF! | C29: / | D29: =SUMIF(#REF!,P29,#REF!) -> #REF! | E29: =COUNTIF(#REF!,"창국") -> #REF! | F29: / | G29: =SUMIF(#REF!,Q29,#REF!) -> #REF! | H29: =COUNTIF(#REF!,R29) -> #REF! | I29: / | J29: =SUMIF(#REF!,R29,#REF!) -> #REF! | K29: =COUNTIF(#REF!,S29) -> #REF! | L29: / | M29: =SUMIF(#REF!,S29,#REF!) -> #REF! | O29: =IF(D29=(G29+J29+M29),"ok","false") -> #REF! | P29: 창 | Q29: =CONCATENATE($P29,Q$5) -> 창국 | R29: =CONCATENATE($P29,R$5) -> 창공 | S29: =CONCATENATE($P29,S$5) -> 창사
A30: 기타 | B30: =COUNTIF(#REF!,P30) -> #REF! | C30: / | D30: =SUMIF(#REF!,P30,#REF!) -> #REF! | E30: =COUNTIF(#REF!,"가국") -> #REF! | F30: / | G30: =SUMIF(#REF!,Q30,#REF!) -> #REF! | H30: =COUNTIF(#REF!,R30) -> #REF! | I30: / | J30: =SUMIF(#REF!,R30,#REF!) -> #REF! | K30: =COUNTIF(#REF!,S30) -> #REF! | L30: / | M30: =SUMIF(#REF!,S30,#REF!) -> #REF! | O30: =IF(D30=(G30+J30+M30),"ok","false") -> #REF! | P30: 가 | Q30: =CONCATENATE($P30,Q$5) -> 가국 | R30: =CONCATENATE($P30,R$5) -> 가공 | S30: =CONCATENATE($P30,S$5) -> 가사

Sheet 마산리집계표 (변경)
A1: 편입용지 집계표(변경)
N2: 경기도 포천시 가산면 마산리
A3: 구분 | B3: 계 | E3: 국유지 | H3: 공유지 | K3: 사유지 | N3: 비고
B4: 필지 | C4: / | D4: 면적(㎡) | E4: 필지 | F4: / | G4: 면적(㎡) | H4: 필지 | I4: / | J4: 면적(㎡) | K4: 필지 | L4: / | M4: 면적(㎡)
A5: 계 | B5: =SUM(B6:B30) -> #REF! | C5: / | D5: =SUM(D6:D30) -> #REF! | E5: =SUM(E6:E30) -> #REF! | F5: / | G5: =SUM(G6:G30) -> #REF! | H5: =SUM(H6:H30) -> #REF! | I5: / | J5: =SUM(J6:J30) -> #REF! | K5: =SUM(K6:K30) -> #REF! | L5: / | M5: =SUM(M6:M30) -> #REF! | O5: =IF(D5=(G5+J5+M5),"ok","false") -> #REF! | Q5: 국 | R5: 공 | S5: 사
A6: 전 | B6: =COUNTIF(#REF!,P6) -> #REF! | C6: / | D6: =SUMIF(#REF!,P6,#REF!) -> #REF! | E6: =COUNTIF(#REF!,Q6) -> #REF! | F6: / | G6: =SUMIF(#REF!,Q6,#REF!) -> #REF! | H6: =COUNTIF(#REF!,R6) -> #REF! | I6: / | J6: =SUMIF(#REF!,R6,#REF!) -> #REF! | K6: =COUNTIF(#REF!,S6) -> #REF! | L6: / | M6: =SUMIF(#REF!,S6,#REF!) -> #REF! | O6: =IF(D6=(G6+J6+M6),"ok","false") -> #REF! | P6: 전 | Q6: =CONCATENATE($P6,Q$5) -> 전국 | R6: =CONCATENATE($P6,R$5) -> 전공 | S6: =CONCATENATE($P6,S$5) -> 전사
A7: 답 | B7: =COUNTIF(#REF!,P7) -> #REF! | C7: / | D7: =SUMIF(#REF!,P7,#REF!) -> #REF! | E7: =COUNTIF(#REF!,"답국") -> #REF! | F7: / | G7: =SUMIF(#REF!,Q7,#REF!) -> #REF! | H7: =COUNTIF(#REF!,R7) -> #REF! | I7: / | J7: =SUMIF(#REF!,R7,#REF!) -> #REF! | K7: =COUNTIF(#REF!,S7) -> #REF! | L7: / | M7: =SUMIF(#REF!,S7,#REF!) -> #REF! | O7: =IF(D7=(G7+J7+M7),"ok","false") -> #REF! | P7: 답 | Q7: =CONCATENATE($P7,Q$5) -> 답국 | R7: =CONCATENATE($P7,R$5) -> 답공 | S7: =CONCATENATE($P7,S$5) -> 답사
A8: 임야 | B8: =COUNTIF(#REF!,P8) -> #REF! | C8: / | D8: =SUMIF(#REF!,P8,#REF!) -> #REF! | E8: =COUNTIF(#REF!,"임국") -> #REF! | F8: / | G8: =SUMIF(#REF!,Q8,#REF!) -> #REF! | H8: =COUNTIF(#REF!,R8) -> #REF! | I8: / | J8: =SUMIF(#REF!,R8,#REF!) -> #REF! | K8: =COUNTIF(#REF!,S8) -> #REF! | L8: / | M8: =SUMIF(#REF!,S8,#REF!) -> #REF! | O8: =IF(D8=(G8+J8+M8),"ok","false") -> #REF! | P8: 임 | Q8: =CONCATENATE($P8,Q$5) -> 임국 | R8: =CONCATENATE($P8,R$5) -> 임공 | S8: =CONCATENATE($P8,S$5) -> 임사
A9: 대지 | B9: =COUNTIF(#REF!,P9) -> #REF! | C9: / | D9: =SUMIF(#REF!,P9,#REF!) -> #REF! | E9: =COUNTIF(#REF!,"대국") -> #REF! | F9: / | G9: =SUMIF(#REF!,Q9,#REF!) -> #REF! | H9: =COUNTIF(#REF!,R9) -> #REF! | I9: / | J9: =SUMIF(#REF!,R9,#REF!) -> #REF! | K9: =COUNTIF(#REF!,S9) -> #REF! | L9: / | M9: =SUMIF(#REF!,S9,#REF!) -> #REF! | O9: =IF(D9=(G9+J9+M9),"ok","false") -> #REF! | P9: 대 | Q9: =CONCATENATE($P9,Q$5) -> 대국 | R9: =CONCATENATE($P9,R$5) -> 대공 | S9: =CONCATENATE($P9,S$5) -> 대사
A10: 도로 | B10: =COUNTIF(#REF!,P10) -> #REF! | C10: / | D10: =SUMIF(#REF!,P10,#REF!) -> #REF! | E10: =COUNTIF(#REF!,"도국") -> #REF! | F10: / | G10: =SUMIF(#REF!,Q10,#REF!) -> #REF! | H10: =COUNTIF(#REF!,R10) -> #REF! | I10: / | J10: =SUMIF(#REF!,R10,#REF!) -> #REF! | K10: =COUNTIF(#REF!,S10) -> #REF! | L10: / | M10: =SUMIF(#REF!,S10,#REF!) -> #REF! | O10: =IF(D10=(G10+J10+M10),"ok","false") -> #REF! | P10: 도 | Q10: =CONCATENATE($P10,Q$5) -> 도국 | R10: =CONCATENATE($P10,R$5) -> 도공 | S10: =CONCATENATE($P10,S$5) -> 도사
A11: 구거 | B11: =COUNTIF(#REF!,P11) -> #REF! | C11: / | D11: =SUMIF(#REF!,P11,#REF!) -> #REF! | E11: =COUNTIF(#REF!,"구국") -> #REF! | F11: / | G11: =SUMIF(#REF!,Q11,#REF!) -> #REF! | H11: =COUNTIF(#REF!,R11) -> #REF! | I11: / | J11: =SUMIF(#REF!,R11,#REF!) -> #REF! | K11: =COUNTIF(#REF!,S11) -> #REF! | L11: / | M11: =SUMIF(#REF!,S11,#REF!) -> #REF! | O11: =IF(D11=(G11+J11+M11),"ok","false") -> #REF! | P11: 구 | Q11: =CONCATENATE($P11,Q$5) -> 구국 | R11: =CONCATENATE($P11,R$5) -> 구공 | S11: =CONCATENATE($P11,S$5) -> 구사
A12: 하천 | B12: =COUNTIF(#REF!,P12) -> #REF! | C12: / | D12: =SUMIF(#REF!,P12,#REF!) -> #REF! | E12: =COUNTIF(#REF!,"천국") -> #REF! | F12: / | G12: =SUMIF(#REF!,Q12,#REF!) -> #REF! | H12: =COUNTIF(#REF!,R12) -> #REF! | I12: / | J12: =SUMIF(#REF!,R12,#REF!) -> #REF! | K12: =COUNTIF(#REF!,S12) -> #REF! | L12: / | M12: =SUMIF(#REF!,S12,#REF!) -> #REF! | O12: =IF(D12=(G12+J12+M12),"ok","false") -> #REF! | P12: 천 | Q12: =CONCATENATE($P12,Q$5) -> 천국 | R12: =CONCATENATE($P12,R$5) -> 천공 | S12: =CONCATENATE($P12,S$5) -> 천사
A13: 유지 | B13: =COUNTIF(#REF!,P13) -> #REF! | C13: / | D13: =SUMIF(#REF!,P13,#REF!) -> #REF! | E13: =COUNTIF(#REF!,"유국") -> #REF! | F13: / | G13: =SUMIF(#REF!,Q13,#REF!) -> #REF! | H13: =COUNTIF(#REF!,R13) -> #REF! | I13: / | J13: =SUMIF(#REF!,R13,#REF!) -> #REF! | K13: =COUNTIF(#REF!,S13) -> #REF! | L13: / | M13: =SUMIF(#REF!,S13,#REF!) -> #REF! | O13: =IF(D13=(G13+J13+M13),"ok","false") -> #REF! | P13: 유 | Q13: =CONCATENATE($P13,Q$5) -> 유국 | R13: =CONCATENATE($P13,R$5) -> 유공 | S13: =CONCATENATE($P13,S$5) -> 유사
A14: 제방 | B14: =COUNTIF(#REF!,P14) -> #REF! | C14: / | D14: =SUMIF(#REF!,P14,#REF!) -> #REF! | E14: =COUNTIF(#REF!,"제국") -> #REF! | F14: / | G14: =SUMIF(#REF!,Q14,#REF!) -> #REF! | H14: =COUNTIF(#REF!,R14) -> #REF! | I14: / | J14: =SUMIF(#REF!,R14,#REF!) -> #REF! | K14: =COUNTIF(#REF!,S14) -> #REF! | L14: / | M14: =SUMIF(#REF!,S14,#REF!) -> #REF! | O14: =IF(D14=(G14+J14+M14),"ok","false") -> #REF! | P14: 제 | Q14: =CONCATENATE($P14,Q$5) -> 제국 | R14: =CONCATENATE($P14,R$5) -> 제공 | S14: =CONCATENATE($P14,S$5) -> 제사
A15: 과수원 | B15: =COUNTIF(#REF!,P15) -> #REF! | C15: / | D15: =SUMIF(#REF!,P15,#REF!) -> #REF! | E15: =COUNTIF(#REF!,"과국") -> #REF! | F15: / | G15: =SUMIF(#REF!,Q15,#REF!) -> #REF! | H15: =COUNTIF(#REF!,R15) -> #REF! | I15: / | J15: =SUMIF(#REF!,R15,#REF!) -> #REF! | K15: =COUNTIF(#REF!,S15) -> #REF! | L15: / | M15: =SUMIF(#REF!,S15,#REF!) -> #REF! | O15: =IF(D15=(G15+J15+M15),"ok","false") -> #REF! | P15: 과 | Q15: =CONCATENATE($P15,Q$5) -> 과국 | R15: =CONCATENATE($P15,R$5) -> 과공 | S15: =CONCATENATE($P15,S$5) -> 과사
A16: 공장 | B16: =COUNTIF(#REF!,P16) -> #REF! | C16: / | D16: =SUMIF(#REF!,P16,#REF!) -> #REF! | E16: =COUNTIF(#REF!,"장국") -> #REF! | F16: / | G16: =SUMIF(#REF!,Q16,#REF!) -> #REF! | H16: =COUNTIF(#REF!,R16) -> #REF! | I16: / | J16: =SUMIF(#REF!,R16,#REF!) -> #REF! | K16: =COUNTIF(#REF!,S16) -> #REF! | L16: / | M16: =SUMIF(#REF!,S16,#REF!) -> #REF! | O16: =IF(D16=(G16+J16+M16),"ok","false") -> #REF! | P16: 장 | Q16: =CONCATENATE($P16,Q$5) -> 장국 | R16: =CONCATENATE($P16,R$5) -> 장공 | S16: =CONCATENATE($P16,S$5) -> 장사
A17: 목장 | B17: =COUNTIF(#REF!,P17) -> #REF! | C17: / | D17: =SUMIF(#REF!,P17,#REF!) -> #REF! | E17: =COUNTIF(#REF!,"목국") -> #REF! | F17: / | G17: =SUMIF(#REF!,Q17,#REF!) -> #REF! | H17: =COUNTIF(#REF!,R17) -> #REF! | I17: / | J17: =SUMIF(#REF!,R17,#REF!) -> #REF! | K17: =COUNTIF(#REF!,S17) -> #REF! | L17: / | M17: =SUMIF(#REF!,S17,#REF!) -> #REF! | O17: =IF(D17=(G17+J17+M17),"ok","false") -> #REF! | P17: 목 | Q17: =CONCATENATE($P17,Q$5) -> 목국 | R17: =CONCATENATE($P17,R$5) -> 목공 | S17: =CONCATENATE($P17,S$5) -> 목사
A18: 학교용지 | B18: =COUNTIF(#REF!,P18) -> #REF! | C18: / | D18: =SUMIF(#REF!,P18,#REF!) -> #REF! | E18: =COUNTIF(#REF!,"학국") -> #REF! | F18: / | G18: =SUMIF(#REF!,Q18,#REF!) -> #REF! | H18: =COUNTIF(#REF!,R18) -> #REF! | I18: / | J18: =SUMIF(#REF!,R18,#REF!) -> #REF! | K18: =COUNTIF(#REF!,S18) -> #REF! | L18: / | M18: =SUMIF(#REF!,S18,#REF!) -> #REF! | O18: =IF(D18=(G18+J18+M18),"ok","false") -> #REF! | P18: 학 | Q18: =CONCATENATE($P18,Q$5) -> 학국 | R18: =CONCATENATE($P18,R$5) -> 학공 | S18: =CONCATENATE($P18,S$5) -> 학사
A19: 철도 | B19: =COUNTIF(#REF!,P19) -> #REF! | C19: / | D19: =SUMIF(#REF!,P19,#REF!) -> #REF! | E19: =COUNTIF(#REF!,"철국") -> #REF! | F19: / | G19: =SUMIF(#REF!,Q19,#REF!) -> #REF! | H19: =COUNTIF(#REF!,R19) -> #REF! | I19: / | J19: =SUMIF(#REF!,R19,#REF!) -> #REF! | K19: =COUNTIF(#REF!,S19) -> #REF! | L19: / | M19: =SUMIF(#REF!,S19,#REF!) -> #REF! | O19: =IF(D19=(G19+J19+M19),"ok","false") -> #REF! | P19: 철 | Q19: =CONCATENATE($P19,Q$5) -> 철국 | R19: =CONCATENATE($P19,R$5) -> 철공 | S19: =CONCATENATE($P19,S$5) -> 철사
A20: 묘지 | B20: =COUNTIF(#REF!,P20) -> #REF! | C20: / | D20: =SUMIF(#REF!,P20,#REF!) -> #REF! | E20: =COUNTIF(#REF!,"묘국") -> #REF! | F20: / | G20: =SUMIF(#REF!,Q20,#REF!) -> #REF! | H20: =COUNTIF(#REF!,R20) -> #REF! | I20: / | J20: =SUMIF(#REF!,R20,#REF!) -> #REF! | K20: =COUNTIF(#REF!,S20) -> #REF! | L20: / | M20: =SUMIF(#REF!,S20,#REF!) -> #REF! | O20: =IF(D20=(G20+J20+M20),"ok","false") -> #REF! | P20: 묘 | Q20: =CONCATENATE($P20,Q$5) -> 묘국 | R20: =CONCATENATE($P20,R$5) -> 묘공 | S20: =CONCATENATE($P20,S$5) -> 묘사
A21: 수도 | B21: =COUNTIF(#REF!,P21) -> #REF! | C21: / | D21: =SUMIF(#REF!,P21,#REF!) -> #REF! | E21: =COUNTIF(#REF!,"수국") -> #REF! | F21: / | G21: =SUMIF(#REF!,Q21,#REF!) -> #REF! | H21: =COUNTIF(#REF!,R21) -> #REF! | I21: / | J21: =SUMIF(#REF!,R21,#REF!) -> #REF! | K21: =COUNTIF(#REF!,S21) -> #REF! | L21: / | M21: =SUMIF(#REF!,S21,#REF!) -> #REF! | O21: =IF(D21=(G21+J21+M21),"ok","false") -> #REF! | P21: 수 | Q21: =CONCATENATE($P21,Q$5) -> 수국 | R21: =CONCATENATE($P21,R$5) -> 수공 | S21: =CONCATENATE($P21,S$5) -> 수사
A22: 잡종지 | B22: =COUNTIF(#REF!,P22) -> #REF! | C22: / | D22: =SUMIF(#REF!,P22,#REF!) -> #REF! | E22: =COUNTIF(#REF!,"잡국") -> #REF! | F22: / | G22: =SUMIF(#REF!,Q22,#REF!) -> #REF! | H22: =COUNTIF(#REF!,R22) -> #REF! | I22: / | J22: =SUMIF(#REF!,R22,#REF!) -> #REF! | K22: =COUNTIF(#REF!,S22) -> #REF! | L22: / | M22: =SUMIF(#REF!,S22,#REF!) -> #REF! | O22: =IF(D22=(G22+J22+M22),"ok","false") -> #REF! | P22: 잡 | Q22: =CONCATENATE($P22,Q$5) -> 잡국 | R22: =CONCATENATE($P22,R$5) -> 잡공 | S22: =CONCATENATE($P22,S$5) -> 잡사
A23: 종교 | B23: =COUNTIF(#REF!,P23) -> #REF! | C23: / | D23: =SUMIF(#REF!,P23,#REF!) -> #REF! | E23: =COUNTIF(#REF!,"종국") -> #REF! | F23: / | G23: =SUMIF(#REF!,Q23,#REF!) -> #REF! | H23: =COUNTIF(#REF!,R23) -> #REF! | I23: / | J23: =SUMIF(#REF!,R23,#REF!) -> #REF! | K23: =COUNTIF(#REF!,S23) -> #REF! | L23: / | M23: =SUMIF(#REF!,S23,#REF!) -> #REF! | O23: =IF(D23=(G23+J23+M23),"ok","false") -> #REF! | P23: 종 | Q23: =CONCATENATE($P23,Q$5) -> 종국 | R23: =CONCATENATE($P23,R$5) -> 종공 | S23: =CONCATENATE($P23,S$5) -> 종사
A24: 염전 | B24: =COUNTIF(#REF!,P24) -> #REF! | C24: / | D24: =SUMIF(#REF!,P24,#REF!) -> #REF! | E24: =COUNTIF(#REF!,"염국") -> #REF! | F24: / | G24: =SUMIF(#REF!,Q24,#REF!) -> #REF! | H24: =COUNTIF(#REF!,R24) -> #REF! | I24: / | J24: =SUMIF(#REF!,R24,#REF!) -> #REF! | K24: =COUNTIF(#REF!,S24) -> #REF! | L24: / | M24: =SUMIF(#REF!,S24,#REF!) -> #REF! | O24: =IF(D24=(G24+J24+M24),"ok","false") -> #REF! | P24: 염 | Q24: =CONCATENATE($P24,Q$5) -> 염국 | R24: =CONCATENATE($P24,R$5) -> 염공 | S24: =CONCATENATE($P24,S$5) -> 염사
A25: 공원 | B25: =COUNTIF(#REF!,P25) -> #REF! | C25: / | D25: =SUMIF(#REF!,P25,#REF!) -> #REF! | E25: =COUNTIF(#REF!,"공국") -> #REF! | F25: / | G25: =SUMIF(#REF!,Q25,#REF!) -> #REF! | H25: =COUNTIF(#REF!,R25) -> #REF! | I25: / | J25: =SUMIF(#REF!,R25,#REF!) -> #REF! | K25: =COUNTIF(#REF!,S25) -> #REF! | L25: / | M25: =SUMIF(#REF!,S25,#REF!) -> #REF! | O25: =IF(D25=(G25+J25+M25),"ok","false") -> #REF! | P25: 공 | Q25: =CONCATENATE($P25,Q$5) -> 공국 | R25: =CONCATENATE($P25,R$5) -> 공공 | S25: =CONCATENATE($P25,S$5) -> 공사
A26: 체육 | B26: =COUNTIF(#REF!,P26) -> #REF! | C26: / | D26: =SUMIF(#REF!,P26,#REF!) -> #REF! | E26: =COUNTIF(#REF!,"체국") -> #REF! | F26: / | G26: =SUMIF(#REF!,Q26,#REF!) -> #REF! | H26: =COUNTIF(#REF!,R26) -> #REF! | I26: / | J26: =SUMIF(#REF!,R26,#REF!) -> #REF! | K26: =COUNTIF(#REF!,S26) -> #REF! | L26: / | M26: =SUMIF(#REF!,S26,#REF!) -> #REF! | O26: =IF(D26=(G26+J26+M26),"ok","false") -> #REF! | P26: 체 | Q26: =CONCATENATE($P26,Q$5) -> 체국 | R26: =CONCATENATE($P26,R$5) -> 체공 | S26: =CONCATENATE($P26,S$5) -> 체사
A27: 주차장 | B27: =COUNTIF(#REF!,P27) -> #REF! | C27: / | D27: =SUMIF(#REF!,P27,#REF!) -> #REF! | E27: =COUNTIF(#REF!,"차국") -> #REF! | F27: / | G27: =SUMIF(#REF!,Q27,#REF!) -> #REF! | H27: =COUNTIF(#REF!,R27) -> #REF! | I27: / | J27: =SUMIF(#REF!,R27,#REF!) -> #REF! | K27: =COUNTIF(#REF!,S27) -> #REF! | L27: / | M27: =SUMIF(#REF!,S27,#REF!) -> #REF! | O27: =IF(D27=(G27+J27+M27),"ok","false") -> #REF! | P27: 차 | Q27: =CONCATENATE($P27,Q$5) -> 차국 | R27: =CONCATENATE($P27,R$5) -> 차공 | S27: =CONCATENATE($P27,S$5) -> 차사
A28: 주유소 | B28: =COUNTIF(#REF!,P28) -> #REF! | C28: / | D28: =SUMIF(#REF!,P28,#REF!) -> #REF! | E28: =COUNTIF(#REF!,"주국") -> #REF! | F28: / | G28: =SUMIF(#REF!,Q28,#REF!) -> #REF! | H28: =COUNTIF(#REF!,R28) -> #REF! | I28: / | J28: =SUMIF(#REF!,R28,#REF!) -> #REF! | K28: =COUNTIF(#REF!,S28) -> #REF! | L28: / | M28: =SUMIF(#REF!,S28,#REF!) -> #REF! | O28: =IF(D28=(G28+J28+M28),"ok","false") -> #REF! | P28: 주 | Q28: =CONCATENATE($P28,Q$5) -> 주국 | R28: =CONCATENATE($P28,R$5) -> 주공 | S28: =CONCATENATE($P28,S$5) -> 주사
A29: 창고용지 | B29: =COUNTIF(#REF!,P29) -> #REF! | C29: / | D29: =SUMIF(#REF!,P29,#REF!) -> #REF! | E29: =COUNTIF(#REF!,"창국") -> #REF! | F29: / | G29: =SUMIF(#REF!,Q29,#REF!) -> #REF! | H29: =COUNTIF(#REF!,R29) -> #REF! | I29: / | J29: =SUMIF(#REF!,R29,#REF!) -> #REF! | K29: =COUNTIF(#REF!,S29) -> #REF! | L29: / | M29: =SUMIF(#REF!,S29,#REF!) -> #REF! | O29: =IF(D29=(G29+J29+M29),"ok","false") -> #REF! | P29: 창 | Q29: =CONCATENATE($P29,Q$5) -> 창국 | R29: =CONCATENATE($P29,R$5) -> 창공 | S29: =CONCATENATE($P29,S$5) -> 창사
A30: 기타 | B30: =COUNTIF(#REF!,P30) -> #REF! | C30: / | D30: =SUMIF(#REF!,P30,#REF!) -> #REF! | E30: =COUNTIF(#REF!,"가국") -> #REF! | F30: / | G30: =SUMIF(#REF!,Q30,#REF!) -> #REF! | H30: =COUNTIF(#REF!,R30) -> #REF! | I30: / | J30: =SUMIF(#REF!,R30,#REF!) -> #REF! | K30: =COUNTIF(#REF!,S30) -> #REF! | L30: / | M30: =SUMIF(#REF!,S30,#REF!) -> #REF! | O30: =IF(D30=(G30+J30+M30),"ok","false") -> #REF! | P30: 가 | Q30: =CONCATENATE($P30,Q$5) -> 가국 | R30: =CONCATENATE($P30,R$5) -> 가공 | S30: =CONCATENATE($P30,S$5) -> 가사

Sheet 집계표(감암리)
A1: 용지조서 지목별 집계표(전체분)
H2: 경기도 포천시 가산면 감암리
A4: 구 분 | C4: 계 | F4: 국 유 지 | I4: 공 유 지 | L4: 사 유 지 | O4: 비고
V5: 비고
C6: 필지 | D6: / | E6: 면 적 (㎡) | F6: 필지 | G6: / | H6: 면 적 (㎡) | I6: 필지 | J6: / | K6: 면 적 (㎡) | L6: 필지 | M6: / | N6: 면 적 (㎡)
A7: 계 | B7: 당초 | C7: =#REF! -> #REF! | D7: / | E7: =#REF! -> #REF! | F7: =#REF! -> #REF! | G7: / | H7: =#REF! -> #REF! | I7: =#REF! -> #REF! | J7: / | K7: =#REF! -> #REF! | L7: =#REF! -> #REF! | M7: / | N7: =#REF! -> #REF!
B8: 변경 | C8: =#REF! -> #REF! | D8: / | E8: =#REF! -> #REF! | F8: =#REF! -> #REF! | G8: / | H8: =#REF! -> #REF! | I8: =#REF! -> #REF! | J8: / | K8: =#REF! -> #REF! | L8: =#REF! -> #REF! | M8: / | N8: =#REF! -> #REF!
A9: 전 | B9: 당초 | C9: =#REF! -> #REF! | D9: / | E9: =#REF! -> #REF! | F9: =#REF! -> #REF! | G9: / | H9: =#REF! -> #REF! | I9: =#REF! -> #REF! | J9: / | K9: =#REF! -> #REF! | L9: =#REF! -> #REF! | M9: / | N9: =#REF! -> #REF!
B10: 변경 | C10: =#REF! -> #REF! | D10: / | E10: =#REF! -> #REF! | F10: =#REF! -> #REF! | G10: / | I10: =#REF! -> #REF! | J10: / | K10: =#REF! -> #REF! | L10: =#REF! -> #REF! | M10: / | N10: =#REF! -> #REF!
A11: 답 | B11: 당초 | C11: =#REF! -> #REF! | D11: / | E11: =#REF! -> #REF! | F11: =#REF! -> #REF! | G11: / | H11: =#REF! -> #REF! | I11: =#REF! -> #REF! | J11: / | L11: =#REF! -> #REF! | M11: / | N11: =#REF! -> #REF!
B12: 변경 | C12: =#REF! -> #REF! | D12: / | E12: =#REF! -> #REF! | F12: =#REF! -> #REF! | G12: / | H12: =#REF! -> #REF! | I12: =#REF! -> #REF! | J12: / | L12: =#REF! -> #REF! | M12: / | N12: =#REF! -> #REF!
A13: 임야 | B13: 당초 | C13: =#REF! -> #REF! | D13: / | E13: =#REF! -> #REF! | F13: =#REF! -> #REF! | G13: / | H13: =#REF! -> #REF! | I13: =#REF! -> #REF! | J13: / | K13: =#REF! -> #REF! | L13: =#REF! -> #REF! | M13: / | N13: =#REF! -> #REF!
B14: 변경 | C14: =#REF! -> #REF! | D14: / | E14: =#REF! -> #REF! | F14: =#REF! -> #REF! | G14: / | I14: =#REF! -> #REF! | J14: / | K14: =#REF! -> #REF! | L14: =#REF! -> #REF! | M14: / | N14: =#REF! -> #REF!
A15: 대지 | B15: 당초 | C15: =#REF! -> #REF! | D15: / | E15: =#REF! -> #REF! | F15: =#REF! -> #REF! | G15: / | H15: =#REF! -> #REF! | I15: =#REF! -> #REF! | J15: / | L15: =#REF! -> #REF! | M15: / | N15: =#REF! -> #REF!
B16: 변경 | C16: =#REF! -> #REF! | D16: / | E16: =#REF! -> #REF! | F16: =#REF! -> #REF! | G16: / | H16: =#REF! -> #REF! | I16: =#REF! -> #REF! | J16: / | L16: =#REF! -> #REF! | M16: / | N16: =#REF! -> #REF!
A17: 도로 | B17: 당초 | C17: =#REF! -> #REF! | D17: / | E17: =#REF! -> #REF! | F17: =#REF! -> #REF! | G17: / | H17: =#REF! -> #REF! | I17: =#REF! -> #REF! | J17: / | K17: =#REF! -> #REF! | L17: =#REF! -> #REF! | M17: / | N17: =#REF! -> #REF!
B18: 변경 | C18: =#REF! -> #REF! | D18: / | E18: =#REF! -> #REF! | F18: =#REF! -> #REF! | G18: / | H18: =#REF! -> #REF! | I18: =#REF! -> #REF! | J18: / | K18: =#REF! -> #REF! | L18: =#REF! -> #REF! | M18: / | N18: =#REF! -> #REF!
A19: 구거 | B19: 당초 | C19: =#REF! -> #REF! | D19: / | E19: =#REF! -> #REF! | F19: =#REF! -> #REF! | G19: / | H19: =#REF! -> #REF! | I19: =#REF! -> #REF! | J19: / | L19: =#REF! -> #REF! | M19: /
B20: 변경 | C20: =#REF! -> #REF! | D20: / | E20: =#REF! -> #REF! | F20: =#REF! -> #REF! | G20: / | H20: =#REF! -> #REF! | I20: =#REF! -> #REF! | J20: / | L20: =#REF! -> #REF! | M20: /
A21: 유지 | B21: 당초 | C21: =#REF! -> #REF! | E21: =#REF! -> #REF! | F21: =#REF! -> #REF! | G21: / | I21: =#REF! -> #REF! | J21: / | L21: =#REF! -> #REF! | M21: / | N21: =#REF! -> #REF!
B22: 변경 | C22: =#REF! -> #REF! | D22: / | E22: =#REF! -> #REF! | F22: =#REF! -> #REF! | G22: / | I22: =#REF! -> #REF! | J22: / | L22: =#REF! -> #REF! | M22: / | N22: =#REF! -> #REF!
A23: 학교 | B23: 당초 | C23: =#REF! -> #REF! | E23: =#REF! -> #REF! | F23: =#REF! -> #REF! | G23: / | H23: =#REF! -> #REF! | I23: =#REF! -> #REF! | J23: / | K23: =#REF! -> #REF! | L23: =#REF! -> #REF! | M23: /
B24: 변경 | C24: =#REF! -> #REF! | D24: / | E24: =#REF! -> #REF! | F24: =#REF! -> #REF! | G24: / | I24: =#REF! -> #REF! | J24: / | K24: =#REF! -> #REF! | L24: =#REF! -> #REF! | M24: /
F26: .

Sheet 공고용
A1: 일련번호 | C1: 소재지 | D1: 지번 | E1: 지목 | F1: 공부면적 (m2) | G1: 편입면적(m2) | H1: 지분 | I1: 소유자 | K1: 관계인 | N1: 비고
A2: 본번 | B2: 부번 | I2: 성명 | J2: 주소 | K2: 성명 | L2: 주소 | M2: 권리관계
A3: 1 | C3: 방산동 | D3: 562-6 | E3: 전 | F3: 21 | G3: 21 | I3: 이00 | J3: 서울 서초구 동광로 | K3: 없00
A4: 2 | C4: " | D4: 562 | E4: 대 | F4: 312 | G4: 1 | I4: 이00 | J4: 서울 서초구 동광로 | K4: 없00
A5: 3 | C5: " | D5: 562-4 | E5: 도 | F5: 19 | G5: 19 | I5: 이00 | J5: 서울 서초구 동광로 | K5: 없00
A6: 4 | B6: 1 | C6: " | D6: 564 | E6: 전 | F6: 2770 | G6: 172 | I6: 추00 | J6: 서울 강남구 광평로 | K6: 없00
A7: 4 | B7: 2 | C7: " | D7: 564 | E7: 전 | F7: 2770 | G7: 172 | I7: 나00 | J7: 시흥시 문화마을로 | K7: 없00
A8: 5 | C8: " | D8: 554 | E8: 전 | F8: 1408 | G8: 80 | I8: 한00 | J8: 시흥시 신현로 33 | K8: 없00
A9: 6 | C9: " | D9: 552-1 | E9: 도 | F9: 68 | G9: 68 | I9: 한00 | J9: 시흥시 신현로 33 | K9: 없00
A10: 7 | C10: " | D10: 552 | E10: 대 | F10: 505 | G10: 27 | I10: 한00 | J10: 시흥시 신현로 33 | K10: 없00
A11: 8 | C11: " | D11: 552-2 | E11: 도 | F11: 12 | G11: 12 | I11: 한00 | J11: 시흥시 신현로 33 | K11: 없00
A12: 9 | C12: " | D12: 551-1 | E12: 도 | F12: 62 | G12: 23 | I12: 강00 | J12: 시흥시 동서로 90 | K12: 안00 | L12: 시흥시 승지로 54 | M12: 근저당, 지상권
A13: 10 | C13: " | D13: 543-8 | E13: 도 | F13: 112 | G13: 1 | I13: 강00 | J13: 시흥시 동서로 90 | K13: 안00 | L13: 시흥시 승지로 54 | M13: 근저당, 지상권
A14: 11 | B14: 1 | C14: " | D14: 544 | E14: 대 | F14: 486 | G14: 156 | I14: 정00 | J14: 시흥시 신현로 38 | K14: 북00 | L14: 시흥시 신현로 31 | M14: 근저당, 지상권
