Workbook

Sheet 증가집계표
A1: 구분 | B1: 편입면적
B2: 마산리 | C2: 감암리 | D2: 계
A3: 당초면적 | D3: 9645
A4: 증가면적 | B4: =#REF! -> #REF! | C4: =#REF! -> #REF! | D4: =B4+C4 -> #REF!
A5: 차이 | D5: =D4-D3 -> #REF!
A6: 증가율(%) | D6: =D4/D3*100-100 -> #REF!

Sheet 전체집계표-소유별
A1: 전체 편입용지 집계표
A3: 구분 | B3: 총계 | E3: 국유지 | H3: 공유지 | K3: 사유지 | N3: 비고
B4: 필지 | C4: / | D4: 면적(㎡) | E4: 필지 | F4: / | G4: 면적(㎡) | H4: 필지 | I4: / | J4: 면적(㎡) | K4: 필지 | L4: / | M4: 면적(㎡) | Q4: 총계 | R4: 국유지 | S4: 사유지 | T4: 국유지+사유지
A5: 계 | B5: =SUM(B6:B30) -> #REF! | C5: / | D5: =SUM(D6:D30) -> #REF! | E5: =SUM(E6:E30) -> #REF! | F5: / | G5: =SUM(G6:G30) -> #REF! | H5: =SUM(H6:H30) -> #REF! | I5: / | J5: =SUM(J6:J30) -> #REF! | K5: =SUM(K6:K30) -> #REF! | L5: / | M5: =SUM(M6:M30) -> #REF! | O5: =IF(EXACT(Q5,T5),"맞음","틀림") -> #REF! | P5: 필지 | Q5: =SUM(B6:B30) -> #REF! | R5: =SUM(H6:H30) -> #REF! | S5: =SUM(K6:K30) -> #REF! | T5: =K5+H5 -> #REF! | U5: =IF(D5=(G5+J5+M5),"ok","false") -> #REF!
A6: 전 | B6: ='전체집계표-구역별'!B7 -> #REF! | C6: / | D6: ='전체집계표-구역별'!D7 -> #REF! | E6: ='전체집계표-구역별'!B38 -> #REF! | F6: / | G6: ='전체집계표-구역별'!D38 -> #REF! | H6: ='전체집계표-구역별'!B69 -> #REF! | I6: / | J6: ='전체집계표-구역별'!D69 -> #REF! | K6: =B6-E6-H6 -> #REF! | L6: / | M6: ='전체집계표-구역별'!D100 -> #REF! | O6: =IF(EXACT(Q6,T6),"맞음","틀림") -> #REF! | P6: 면적 | Q6: =SUM(D6:D30) -> #REF! | R6: =SUM(J6:J30) -> #REF! | S6: =SUM(M6:M30) -> #REF! | T6: =J5+M5 -> #REF! | U6: =IF(D6=(G6+J6+M6),"ok","false") -> #REF! | W6: 계 | X6: 당초
A7: 답 | B7: ='전체집계표-구역별'!B8 -> #REF! | C7: / | D7: ='전체집계표-구역별'!D8 -> #REF! | E7: ='전체집계표-구역별'!B39 -> #REF! | F7: / | G7: ='전체집계표-구역별'!D39 -> #REF! | H7: ='전체집계표-구역별'!B70 -> #REF! | I7: / | J7: ='전체집계표-구역별'!D70 -> #REF! | K7: =B7-E7-H7 -> #REF! | L7: / | M7: ='전체집계표-구역별'!D101 -> #REF! | U7: =IF(D7=(G7+J7+M7),"ok","false") -> #REF! | X7: 변경
A8: 임야 | B8: ='전체집계표-구역별'!B9 -> #REF! | C8: / | D8: ='전체집계표-구역별'!D9 -> #REF! | E8: ='전체집계표-구역별'!B40 -> #REF! | F8: / | G8: ='전체집계표-구역별'!D40 -> #REF! | H8: ='전체집계표-구역별'!B71 -> #REF! | I8: / | J8: ='전체집계표-구역별'!D71 -> #REF! | K8: =B8-E8-H8 -> #REF! | L8: / | M8: ='전체집계표-구역별'!D102 -> #REF! | U8: =IF(D8=(G8+J8+M8),"ok","false") -> #REF!
A9: 대지 | B9: ='전체집계표-구역별'!B10 -> #REF! | C9: / | D9: ='전체집계표-구역별'!D10 -> #REF! | E9: ='전체집계표-구역별'!B41 -> #REF! | F9: / | G9: ='전체집계표-구역별'!D41 -> #REF! | H9: ='전체집계표-구역별'!B72 -> #REF! | I9: / | J9: ='전체집계표-구역별'!D72 -> #REF! | K9: =B9-E9-H9 -> #REF! | L9: / | M9: ='전체집계표-구역별'!D103 -> #REF! | U9: =IF(D9=(G9+J9+M9),"ok","false") -> #REF!
A10: 도로 | B10: ='전체집계표-구역별'!B11 -> #REF! | C10: / | D10: ='전체집계표-구역별'!D11 -> #REF! | E10: ='전체집계표-구역별'!B42 -> #REF! | F10: / | G10: ='전체집계표-구역별'!D42 -> #REF! | H10: ='전체집계표-구역별'!B73 -> #REF! | I10: / | J10: ='전체집계표-구역별'!D73 -> #REF! | K10: =B10-E10-H10 -> #REF! | L10: / | M10: ='전체집계표-구역별'!D104 -> #REF! | U10: =IF(D10=(G10+J10+M10),"ok","false") -> #REF!
A11: 구거 | B11: ='전체집계표-구역별'!B12 -> #REF! | C11: / | D11: ='전체집계표-구역별'!D12 -> #REF! | E11: ='전체집계표-구역별'!B43 -> #REF! | F11: / | G11: ='전체집계표-구역별'!D43 -> #REF! | H11: ='전체집계표-구역별'!B74 -> #REF! | I11: / | J11: ='전체집계표-구역별'!D74 -> #REF! | K11: =B11-E11-H11 -> #REF! | L11: / | M11: ='전체집계표-구역별'!D105 -> #REF! | U11: =IF(D11=(G11+J11+M11),"ok","false") -> #REF!
A12: 하천 | B12: ='전체집계표-구역별'!B13 -> #REF! | C12: / | D12: ='전체집계표-구역별'!D13 -> #REF! | E12: ='전체집계표-구역별'!B44 -> #REF! | F12: / | G12: ='전체집계표-구역별'!D44 -> #REF! | H12: ='전체집계표-구역별'!B75 -> #REF! | I12: / | J12: ='전체집계표-구역별'!D75 -> #REF! | K12: =B12-E12-H12 -> #REF! | L12: / | M12: ='전체집계표-구역별'!D106 -> #REF! | U12: =IF(D12=(G12+J12+M12),"ok","false") -> #REF!
A13: 유지 | B13: ='전체집계표-구역별'!B14 -> #REF! | C13: / | D13: ='전체집계표-구역별'!D14 -> #REF! | E13: ='전체집계표-구역별'!B45 -> #REF! | F13: / | G13: ='전체집계표-구역별'!D45 -> #REF! | H13: ='전체집계표-구역별'!B76 -> #REF! | I13: / | J13: ='전체집계표-구역별'!D76 -> #REF! | K13: =B13-E13-H13 -> #REF! | L13: / | M13: ='전체집계표-구역별'!D107 -> #REF! | U13: =IF(D13=(G13+J13+M13),"ok","false") -> #REF!
A14: 제방 | B14: ='전체집계표-구역별'!B15 -> #REF! | C14: / | D14: ='전체집계표-구역별'!D15 -> #REF! | E14: ='전체집계표-구역별'!B46 -> #REF! | F14: / | G14: ='전체집계표-구역별'!D46 -> #REF! | H14: ='전체집계표-구역별'!B77 -> #REF! | I14: / | J14: ='전체집계표-구역별'!D77 -> #REF! | K14: =B14-E14-H14 -> #REF! | L14: / | M14: ='전체집계표-구역별'!D108 -> #REF! | U14: =IF(D14=(G14+J14+M14),"ok","false") -> #REF!
A15: 과수원 | B15: ='전체집계표-구역별'!B16 -> #REF! | C15: / | D15: ='전체집계표-구역별'!D16 -> #REF! | E15: ='전체집계표-구역별'!B47 -> #REF! | F15: / | G15: ='전체집계표-구역별'!D47 -> #REF! | H15: ='전체집계표-구역별'!B78 -> #REF! | I15: / | J15: ='전체집계표-구역별'!D78 -> #REF! | K15: =B15-E15-H15 -> #REF! | L15: / | M15: ='전체집계표-구역별'!D109 -> #REF! | U15: =IF(D15=(G15+J15+M15),"ok","false") -> #REF!
A16: 공장 | B16: ='전체집계표-구역별'!B17 -> #REF! | C16: / | D16: ='전체집계표-구역별'!D17 -> #REF! | E16: ='전체집계표-구역별'!B48 -> #REF! | F16: / | G16: ='전체집계표-구역별'!D48 -> #REF! | H16: ='전체집계표-구역별'!B79 -> #REF! | I16: / | J16: ='전체집계표-구역별'!D79 -> #REF! | K16: =B16-E16-H16 -> #REF! | L16: / | M16: ='전체집계표-구역별'!D110 -> #REF! | U16: =IF(D16=(G16+J16+M16),"ok","false") -> #REF!
A17: 목장 | B17: ='전체집계표-구역별'!B18 -> #REF! | C17: / | D17: ='전체집계표-구역별'!D18 -> #REF! | E17: ='전체집계표-구역별'!B49 -> #REF! | F17: / | G17: ='전체집계표-구역별'!D49 -> #REF! | H17: ='전체집계표-구역별'!B80 -> #REF! | I17: / | J17: ='전체집계표-구역별'!D80 -> #REF! | K17: =B17-E17-H17 -> #REF! | L17: / | M17: ='전체집계표-구역별'!D111 -> #REF! | U17: =IF(D17=(G17+J17+M17),"ok","false") -> #REF!
A18: 학교용지 | B18: ='전체집계표-구역별'!B19 -> #REF! | C18: / | D18: ='전체집계표-구역별'!D19 -> #REF! | E18: ='전체집계표-구역별'!B50 -> #REF! | F18: / | G18: ='전체집계표-구역별'!D50 -> #REF! | H18: ='전체집계표-구역별'!B81 -> #REF! | I18: / | J18: ='전체집계표-구역별'!D81 -> #REF! | K18: =B18-E18-H18 -> #REF! | L18: / | M18: ='전체집계표-구역별'!D112 -> #REF! | U18: =IF(D18=(G18+J18+M18),"ok","false") -> #REF!
A19: 철도 | B19: ='전체집계표-구역별'!B20 -> #REF! | C19: / | D19: ='전체집계표-구역별'!D20 -> #REF! | E19: ='전체집계표-구역별'!B51 -> #REF! | F19: / | G19: ='전체집계표-구역별'!D51 -> #REF! | H19: ='전체집계표-구역별'!B82 -> #REF! | I19: / | J19: ='전체집계표-구역별'!D82 -> #REF! | K19: =B19-E19-H19 -> #REF! | L19: / | M19: ='전체집계표-구역별'!D113 -> #REF! | U19: =IF(D19=(G19+J19+M19),"ok","false") -> #REF!
... A30: 기타 | B30: ='전체집계표-구역별'!B31 -> #REF! | C30: / | D30: ='전체집계표-구역별'!D31 -> #REF! | E30: ='전체집계표-구역별'!B62 -> #REF! | F30: / | G30: ='전체집계표-구역별'!D62 -> #REF! | H30: ='전체집계표-구역별'!B93 -> #REF! | I30: / | J30: ='전체집계표-구역별'!D93 -> #REF! | K30: =B30-E30-H30 -> #REF! | L30: / | M30: ='전체집계표-구역별'!D124 -> #REF! | U30: =IF(D30=(G30+J30+M30),"ok","false") -> #REF!
A31: =IF(EXACT(O35,O36),,"검산확인요!!!") -> #REF! | K31: =IF(ISBLANK(#REF!),,#REF!) -> #REF!
A33: 구분 | B33: 계 | E33: 국 유 지 | H33: 공 유 지 | K33: 사 유 지 | N33: 비고
B34: 필지 | C34: / | D34: 면 적 (㎡) | E34: 필지 | F34: / | G34: 면 적 (㎡) | H34: 필지 | I34: / | J34: 면 적 (㎡) | K34: 필지 | L34: / | M34: 면 적 (㎡) | Q34: 총계 | R34: 국유지 | S34: 사유지 | T34: 국유지+사유지
A35: 계 | B35: =SUM(B36:B60) -> #REF! | C35: / | D35: =SUM(D36:D60) -> #REF! | E35: =SUM(E36:E60) -> #REF! | F35: / | G35: =SUM(G36:G60) -> #REF! | H35: =SUM(H36:H60) -> #REF! | I35: / | J35: =SUM(J36:J60) -> #REF! | K35: =SUM(K36:K60) -> #REF! | L35: / | M35: =SUM(M36:M60) -> #REF! | O35: =IF(EXACT(Q35,T35),"맞음","틀림") -> #REF! | P35: 필지 | Q35: =SUM(B36:B60) -> #REF! | R35: =SUM(H36:H60) -> #REF! | S35: =SUM(K36:K60) -> #REF! | T35: =K35+H35 -> #REF!
A36: 전 | B36: =COUNTIF(#REF!,"전") -> #REF! | C36: / | D36: =SUMIF(#REF!,"전",#REF!) -> #REF! | E36: =COUNTIF(#REF!,"전국") -> #REF! | F36: / | G36: =SUMIF(#REF!,"전국",#REF!) -> #REF! | H36: =COUNTIF(#REF!,"전공") -> #REF! | I36: / | J36: =SUMIF(#REF!,"전공",#REF!) -> #REF! | K36: =B36-E36-H36 -> #REF! | L36: / | M36: =D36-G36-J36 -> #REF! | O36: =IF(EXACT(Q36,T36),"맞음","틀림") -> #REF! | P36: 면적 | Q36: =SUM(D36:D60) -> #REF! | R36: =SUM(J36:J60) -> #REF! | S36: =SUM(M36:M60) -> #REF! | T36: =J35+M35 -> #REF!
A37: 답 | B37: =COUNTIF(#REF!,"답") -> #REF! | C37: / | D37: =SUMIF(#REF!,"답",#REF!) -> #REF! | E37: =COUNTIF(#REF!,"답국") -> #REF! | F37: / | G37: =SUMIF(#REF!,"답국",#REF!) -> #REF! | H37: =COUNTIF(#REF!,"답공") -> #REF! | I37: / | J37: =SUMIF(#REF!,"답공",#REF!) -> #REF! | K37: =B37-E37-H37 -> #REF! | L37: / | M37: =D37-G37-J37 -> #REF!
A38: 임야 | B38: =COUNTIF(#REF!,"임") -> #REF! | C38: / | D38: =SUMIF(#REF!,"임",#REF!) -> #REF! | E38: =COUNTIF(#REF!,"임국") -> #REF! | F38: / | G38: =SUMIF(#REF!,"임국",#REF!) -> #REF! | H38: =COUNTIF(#REF!,"임공") -> #REF! | I38: / | J38: =SUMIF(#REF!,"임공",#REF!) -> #REF! | K38: =B38-E38-H38 -> #REF! | L38: / | M38: =D38-G38-J38 -> #REF!
A39: 대지 | B39: =COUNTIF(#REF!,"대") -> #REF! | C39: / | D39: =SUMIF(#REF!,"대",#REF!) -> #REF! | E39: =COUNTIF(#REF!,"대국") -> #REF! | F39: / | G39: =SUMIF(#REF!,"대국",#REF!) -> #REF! | H39: =COUNTIF(#REF!,"대공") -> #REF! | I39: / | J39: =SUMIF(#REF!,"대공",#REF!) -> #REF! | K39: =B39-E39-H39 -> #REF! | L39: / | M39: =D39-G39-J39 -> #REF!
A40: 도로 | B40: =COUNTIF(#REF!,"도") -> #REF! | C40: / | D40: =SUMIF(#REF!,"도",#REF!) -> #REF! | E40: =COUNTIF(#REF!,"도국") -> #REF! | F40: / | G40: =SUMIF(#REF!,"도국",#REF!) -> #REF! | H40: =COUNTIF(#REF!,"도공") -> #REF! | I40: / | J40: =SUMIF(#REF!,"도공",#REF!) -> #REF! | K40: =B40-E40-H40 -> #REF! | L40: / | M40: =D40-G40-J40 -> #REF!
A41: 구거 | B41: =COUNTIF(#REF!,"구") -> #REF! | C41: / | D41: =SUMIF(#REF!,"구",#REF!) -> #REF! | E41: =COUNTIF(#REF!,"구국") -> #REF! | F41: / | G41: =SUMIF(#REF!,"구국",#REF!) -> #REF! | H41: =COUNTIF(#REF!,"구공") -> #REF! | I41: / | J41: =SUMIF(#REF!,"구공",#REF!) -> #REF! | K41: =B41-E41-H41 -> #REF! | L41: / | M41: =D41-G41-J41 -> #REF!
A42: 하천 | B42: =COUNTIF(#REF!,"천") -> #REF! | C42: / | D42: =SUMIF(#REF!,"천",#REF!) -> #REF! | E42: =COUNTIF(#REF!,"천국") -> #REF! | F42: / | G42: =SUMIF(#REF!,"천국",#REF!) -> #REF! | H42: =COUNTIF(#REF!,"천공") -> #REF! | I42: / | J42: =SUMIF(#REF!,"천공",#REF!) -> #REF! | K42: =B42-E42-H42 -> #REF! | L42: / | M42: =D42-G42-J42 -> #REF!
A43: 유지 | B43: =COUNTIF(#REF!,"유") -> #REF! | C43: / | D43: =SUMIF(#REF!,"유",#REF!) -> #REF! | E43: =COUNTIF(#REF!,"유국") -> #REF! | F43: / | G43: =SUMIF(#REF!,"유국",#REF!) -> #REF! | H43: =COUNTIF(#REF!,"유공") -> #REF! | I43: / | J43: =SUMIF(#REF!,"유공",#REF!) -> #REF! | K43: =B43-E43-H43 -> #REF! | L43: / | M43: =D43-G43-J43 -> #REF!
A44: 제방 | B44: =COUNTIF(#REF!,"제") -> #REF! | C44: / | D44: =SUMIF(#REF!,"제",#REF!) -> #REF! | E44: =COUNTIF(#REF!,"제국") -> #REF! | F44: / | G44: =SUMIF(#REF!,"제국",#REF!) -> #REF! | H44: =COUNTIF(#REF!,"제공") -> #REF! | I44: / | J44: =SUMIF(#REF!,"제공",#REF!) -> #REF! | K44: =B44-E44-H44 -> #REF! | L44: / | M44: =D44-G44-J44 -> #REF!
A45: 과수원 | B45: =COUNTIF(#REF!,"과") -> #REF! | C45: / | D45: =SUMIF(#REF!,"과",#REF!) -> #REF! | E45: =COUNTIF(#REF!,"과국") -> #REF! | F45: / | G45: =SUMIF(#REF!,"과국",#REF!) -> #REF! | H45: =COUNTIF(#REF!,"과공") -> #REF! | I45: / | J45: =SUMIF(#REF!,"과공",#REF!) -> #REF! | K45: =B45-E45-H45 -> #REF! | L45: / | M45: =D45-G45-J45 -> #REF!
A46: 공장 | B46: =COUNTIF(#REF!,"장") -> #REF! | C46: / | D46: =SUMIF(#REF!,"장",#REF!) -> #REF! | E46: =COUNTIF(#REF!,"장국") -> #REF! | F46: / | G46: =SUMIF(#REF!,"장국",#REF!) -> #REF! | H46: =COUNTIF(#REF!,"장공") -> #REF! | I46: / | J46: =SUMIF(#REF!,"장공",#REF!) -> #REF! | K46: =B46-E46-H46 -> #REF! | L46: / | M46: =D46-G46-J46 -> #REF!
A47: 목장 | B47: =COUNTIF(#REF!,"목") -> #REF! | C47: / | D47: =SUMIF(#REF!,"목",#REF!) -> #REF! | E47: =COUNTIF(#REF!,"목국") -> #REF! | F47: / | G47: =SUMIF(#REF!,"목국",#REF!) -> #REF! | H47: =COUNTIF(#REF!,"목공") -> #REF! | I47: / | J47: =SUMIF(#REF!,"목공",#REF!) -> #REF! | K47: =B47-E47-H47 -> #REF! | L47: / | M47: =D47-G47-J47 -> #REF!
A48: 학교용지 | B48: =COUNTIF(#REF!,"학") -> #REF! | C48: / | D48: =SUMIF(#REF!,"학",#REF!) -> #REF! | E48: =COUNTIF(#REF!,"학국") -> #REF! | F48: / | G48: =SUMIF(#REF!,"학국",#REF!) -> #REF! | H48: =COUNTIF(#REF!,"학공") -> #REF! | I48: / | J48: =SUMIF(#REF!,"학공",#REF!) -> #REF! | K48: =B48-E48-H48 -> #REF! | L48: / | M48: =D48-G48-J48 -> #REF!
A49: 철도 | B49: =COUNTIF(#REF!,"철") -> #REF! | C49: / | D49: =SUMIF(#REF!,"철",#REF!) -> #REF! | E49: =COUNTIF(#REF!,"철국") -> #REF! | F49: / | G49: =SUMIF(#REF!,"철국",#REF!) -> #REF! | H49: =COUNTIF(#REF!,"철공") -> #REF! | I49: / | J49: =SUMIF(#REF!,"철공",#REF!) -> #REF! | K49: =B49-E49-H49 -> #REF! | L49: / | M49: =D49-G49-J49 -> #REF!
A50: 묘지 | B50: =COUNTIF(#REF!,"묘") -> #REF! | C50: / | D50: =SUMIF(#REF!,"묘",#REF!) -> #REF! | E50: =COUNTIF(#REF!,"묘국") -> #REF! | F50: / | G50: =SUMIF(#REF!,"묘국",#REF!) -> #REF! | H50: =COUNTIF(#REF!,"묘공") -> #REF! | I50: / | J50: =SUMIF(#REF!,"묘공",#REF!) -> #REF! | K50: =B50-E50-H50 -> #REF! | L50: / | M50: =D50-G50-J50 -> #REF!
A51: 수도 | B51: =COUNTIF(#REF!,"수") -> #REF! | C51: / | D51: =SUMIF(#REF!,"수",#REF!) -> #REF! | E51: =COUNTIF(#REF!,"수국") -> #REF! | F51: / | G51: =SUMIF(#REF!,"수국",#REF!) -> #REF! | H51: =COUNTIF(#REF!,"수공") -> #REF! | I51: / | J51: =SUMIF(#REF!,"수공",#REF!) -> #REF! | K51: =B51-E51-H51 -> #REF! | L51: / | M51: =D51-G51-J51 -> #REF!
A52: 잡종지 | B52: =COUNTIF(#REF!,"잡") -> #REF! | C52: / | D52: =SUMIF(#REF!,"잡",#REF!) -> #REF! | E52: =COUNTIF(#REF!,"잡국") -> #REF! | F52: / | G52: =SUMIF(#REF!,"잡국",#REF!) -> #REF! | H52: =COUNTIF(#REF!,"잡공") -> #REF! | I52: / | J52: =SUMIF(#REF!,"잡공",#REF!) -> #REF! | K52: =B52-E52-H52 -> #REF! | L52: / | M52: =D52-G52-J52 -> #REF!
A53: 종교 | B53: =COUNTIF(#REF!,"종") -> #REF! | C53: / | D53: =SUMIF(#REF!,"종",#REF!) -> #REF! | E53: =COUNTIF(#REF!,"종국") -> #REF! | F53: / | G53: =SUMIF(#REF!,"종국",#REF!) -> #REF! | H53: =COUNTIF(#REF!,"종공") -> #REF! | I53: / | J53: =SUMIF(#REF!,"종공",#REF!) -> #REF! | K53: =B53-E53-H53 -> #REF! | L53: / | M53: =D53-G53-J53 -> #REF!
A54: 염전 | B54: =COUNTIF(#REF!,"염") -> #REF! | C54: / | D54: =SUMIF(#REF!,"염",#REF!) -> #REF! | E54: =COUNTIF(#REF!,"염국") -> #REF! | F54: / | G54: =SUMIF(#REF!,"염국",#REF!) -> #REF! | H54: =COUNTIF(#REF!,"염공") -> #REF! | I54: / | J54: =SUMIF(#REF!,"염공",#REF!) -> #REF! | K54: =B54-E54-H54 -> #REF! | L54: / | M54: =D54-G54-J54 -> #REF!
A55: 공원 | B55: =COUNTIF(#REF!,"공") -> #REF! | C55: / | D55: =SUMIF(#REF!,"공",#REF!) -> #REF! | E55: =COUNTIF(#REF!,"공국") -> #REF! | F55: / | G55: =SUMIF(#REF!,"공국",#REF!) -> #REF! | H55: =COUNTIF(#REF!,"공공") -> #REF! | I55: / | J55: =SUMIF(#REF!,"공공",#REF!) -> #REF! | K55: =B55-E55-H55 -> #REF! | L55: / | M55: =D55-G55-J55 -> #REF!
A56: 체육 | B56: =COUNTIF(#REF!,"체") -> #REF! | C56: / | D56: =SUMIF(#REF!,"체",#REF!) -> #REF! | E56: =COUNTIF(#REF!,"체국") -> #REF! | F56: / | G56: =SUMIF(#REF!,"체국",#REF!) -> #REF! | H56: =COUNTIF(#REF!,"체공") -> #REF! | I56: / | J56: =SUMIF(#REF!,"체공",#REF!) -> #REF! | K56: =B56-E56-H56 -> #REF! | L56: / | M56: =D56-G56-J56 -> #REF!
A57: 유원지 | B57: =COUNTIF(#REF!,"원") -> #REF! | C57: / | D57: =SUMIF(#REF!,"원",#REF!) -> #REF! | E57: =COUNTIF(#REF!,"원국") -> #REF! | F57: / | G57: =SUMIF(#REF!,"원국",#REF!) -> #REF! | H57: =COUNTIF(#REF!,"원공") -> #REF! | I57: / | J57: =SUMIF(#REF!,"원공",#REF!) -> #REF! | K57: =B57-E57-H57 -> #REF! | L57: / | M57: =D57-G57-J57 -> #REF!
A58: 주유소 | B58: =COUNTIF(#REF!,"주") -> #REF! | C58: / | D58: =SUMIF(#REF!,"주",#REF!) -> #REF! | E58: =COUNTIF(#REF!,"주국") -> #REF! | F58: / | G58: =SUMIF(#REF!,"주국",#REF!) -> #REF! | H58: =COUNTIF(#REF!,"주공") -> #REF! | I58: / | J58: =SUMIF(#REF!,"주공",#REF!) -> #REF! | K58: =B58-E58-H58 -> #REF! | L58: / | M58: =D58-G58-J58 -> #REF!
A59: 창고용지 | B59: =COUNTIF(#REF!,"창") -> #REF! | C59: / | D59: =SUMIF(#REF!,"창",#REF!) -> #REF! | E59: =COUNTIF(#REF!,"창국") -> #REF! | F59: / | G59: =SUMIF(#REF!,"창국",#REF!) -> #REF! | H59: =COUNTIF(#REF!,"창공") -> #REF! | I59: / | J59: =SUMIF(#REF!,"창공",#REF!) -> #REF! | K59: =B59-E59-H59 -> #REF! | L59: / | M59: =D59-G59-J59 -> #REF!
A60: 기타 | B60: =COUNTIF(#REF!," ") -> #REF! | C60: / | D60: =SUMIF(#REF!," ",#REF!) -> #REF! | E60: =COUNTIF(#REF!," 국") -> #REF! | F60: / | G60: =SUMIF(#REF!," 국",#REF!) -> #REF! | H60: =COUNTIF(#REF!," 공") -> #REF! | I60: / | J60: =SUMIF(#REF!," 공",#REF!) -> #REF! | K60: =B60-E60-H60 -> #REF! | L60: / | M60: =D60-G60-J60 -> #REF!
A61: =IF(EXACT(O65,O66),,"검산확인요!!!") -> #REF! | K61: =IF(ISBLANK(#REF!),,#REF!) -> #REF!
A63: 구분 | B63: 계 | E63: 국 유 지 | H63: 공 유 지 | K63: 사 유 지 | N63: 비고
B64: 필지 | C64: / | D64: 면 적 (㎡) | E64: 필지 | F64: / | G64: 면 적 (㎡) | H64: 필지 | I64: / | J64: 면 적 (㎡) | K64: 필지 | L64: / | M64: 면 적 (㎡) | Q64: 총계 | R64: 국유지 | S64: 사유지 | T64: 국유지+사유지
A65: 계 | B65: =SUM(B66:B90) -> #REF! | C65: / | D65: =SUM(D66:D90) -> #REF! | E65: =SUM(E66:E90) -> #REF! | F65: / | G65: =SUM(G66:G90) -> #REF! | H65: =SUM(H66:H90) -> #REF! | I65: / | J65: =SUM(J66:J90) -> #REF! | K65: =SUM(K66:K90) -> #REF! | L65: / | M65: =SUM(M66:M90) -> #REF! | O65: =IF(EXACT(Q65,T65),"맞음","틀림") -> #REF! | P65: 필지 | Q65: =SUM(B66:B90) -> #REF! | R65: =SUM(H66:H90) -> #REF! | S65: =SUM(K66:K90) -> #REF! | T65: =K65+H65 -> #REF!
A66: 전 | B66: =COUNTIF(#REF!,"전") -> #REF! | C66: / | D66: =SUMIF(#REF!,"전",#REF!) -> #REF! | E66: =COUNTIF(#REF!,"전국") -> #REF! | F66: / | G66: =SUMIF(#REF!,"전국",#REF!) -> #REF! | H66: =COUNTIF(#REF!,"전공") -> #REF! | I66: / | J66: =SUMIF(#REF!,"전공",#REF!) -> #REF! | K66: =B66-E66-H66 -> #REF! | L66: / | M66: =D66-G66-J66 -> #REF! | O66: =IF(EXACT(Q66,T66),"맞음","틀림") -> #REF! | P66: 면적 | Q66: =SUM(D66:D90) -> #REF! | R66: =SUM(J66:J90) -> #REF! | S66: =SUM(M66:M90) -> #REF! | T66: =J65+M65 -> #REF!
A67: 답 | B67: =COUNTIF(#REF!,"답") -> #REF! | C67: / | D67: =SUMIF(#REF!,"답",#REF!) -> #REF! | E67: =COUNTIF(#REF!,"답국") -> #REF! | F67: / | G67: =SUMIF(#REF!,"답국",#REF!) -> #REF! | H67: =COUNTIF(#REF!,"답공") -> #REF! | I67: / | J67: =SUMIF(#REF!,"답공",#REF!) -> #REF! | K67: =B67-E67-H67 -> #REF! | L67: / | M67: =D67-G67-J67 -> #REF!
A68: 임야 | B68: =COUNTIF(#REF!,"임") -> #REF! | C68: / | D68: =SUMIF(#REF!,"임",#REF!) -> #REF! | E68: =COUNTIF(#REF!,"임국") -> #REF! | F68: / | G68: =SUMIF(#REF!,"임국",#REF!) -> #REF! | H68: =COUNTIF(#REF!,"임공") -> #REF! | I68: / | J68: =SUMIF(#REF!,"임공",#REF!) -> #REF! | K68: =B68-E68-H68 -> #REF! | L68: / | M68: =D68-G68-J68 -> #REF!
A69: 대지 | B69: =COUNTIF(#REF!,"대") -> #REF! | C69: / | D69: =SUMIF(#REF!,"대",#REF!) -> #REF! | E69: =COUNTIF(#REF!,"대국") -> #REF! | F69: / | G69: =SUMIF(#REF!,"대국",#REF!) -> #REF! | H69: =COUNTIF(#REF!,"대공") -> #REF! | I69: / | J69: =SUMIF(#REF!,"대공",#REF!) -> #REF! | K69: =B69-E69-H69 -> #REF! | L69: / | M69: =D69-G69-J69 -> #REF!
A70: 도로 | B70: =COUNTIF(#REF!,"도") -> #REF! | C70: / | D70: =SUMIF(#REF!,"도",#REF!) -> #REF! | E70: =COUNTIF(#REF!,"도국") -> #REF! | F70: / | G70: =SUMIF(#REF!,"도국",#REF!) -> #REF! | H70: =COUNTIF(#REF!,"도공") -> #REF! | I70: / | J70: =SUMIF(#REF!,"도공",#REF!) -> #REF! | K70: =B70-E70-H70 -> #REF! | L70: / | M70: =D70-G70-J70 -> #REF!
A71: 구거 | B71: =COUNTIF(#REF!,"구") -> #REF! | C71: / | D71: =SUMIF(#REF!,"구",#REF!) -> #REF! | E71: =COUNTIF(#REF!,"구국") -> #REF! | F71: / | G71: =SUMIF(#REF!,"구국",#REF!) -> #REF! | H71: =COUNTIF(#REF!,"구공") -> #REF! | I71: / | J71: =SUMIF(#REF!,"구공",#REF!) -> #REF! | K71: =B71-E71-H71 -> #REF! | L71: / | M71: =D71-G71-J71 -> #REF!
A72: 하천 | B72: =COUNTIF(#REF!,"천") -> #REF! | C72: / | D72: =SUMIF(#REF!,"천",#REF!) -> #REF! | E72: =COUNTIF(#REF!,"천국") -> #REF! | F72: / | G72: =SUMIF(#REF!,"천국",#REF!) -> #REF! | H72: =COUNTIF(#REF!,"천공") -> #REF! | I72: / | J72: =SUMIF(#REF!,"천공",#REF!) -> #REF! | K72: =B72-E72-H72 -> #REF! | L72: / | M72: =D72-G72-J72 -> #REF!
A73: 유지 | B73: =COUNTIF(#REF!,"유") -> #REF! | C73: / | D73: =SUMIF(#REF!,"유",#REF!) -> #REF! | E73: =COUNTIF(#REF!,"유국") -> #REF! | F73: / | G73: =SUMIF(#REF!,"유국",#REF!) -> #REF! | H73: =COUNTIF(#REF!,"유공") -> #REF! | I73: / | J73: =SUMIF(#REF!,"유공",#REF!) -> #REF! | K73: =B73-E73-H73 -> #REF! | L73: / | M73: =D73-G73-J73 -> #REF!
A74: 제방 | B74: =COUNTIF(#REF!,"제") -> #REF! | C74: / | D74: =SUMIF(#REF!,"제",#REF!) -> #REF! | E74: =COUNTIF(#REF!,"제국") -> #REF! | F74: / | G74: =SUMIF(#REF!,"제국",#REF!) -> #REF! | H74: =COUNTIF(#REF!,"제공") -> #REF! | I74: / | J74: =SUMIF(#REF!,"제공",#REF!) -> #REF! | K74: =B74-E74-H74 -> #REF! | L74: / | M74: =D74-G74-J74 -> #REF!
A75: 과수원 | B75: =COUNTIF(#REF!,"과") -> #REF! | C75: / | D75: =SUMIF(#REF!,"과",#REF!) -> #REF! | E75: =COUNTIF(#REF!,"과국") -> #REF! | F75: / | G75: =SUMIF(#REF!,"과국",#REF!) -> #REF! | H75: =COUNTIF(#REF!,"과공") -> #REF! | I75: / | J75: =SUMIF(#REF!,"과공",#REF!) -> #REF! | K75: =B75-E75-H75 -> #REF! | L75: / | M75: =D75-G75-J75 -> #REF!
A76: 공장 | B76: =COUNTIF(#REF!,"장") -> #REF! | C76: / | D76: =SUMIF(#REF!,"장",#REF!) -> #REF! | E76: =COUNTIF(#REF!,"장국") -> #REF! | F76: / | G76: =SUMIF(#REF!,"장국",#REF!) -> #REF! | H76: =COUNTIF(#REF!,"장공") -> #REF! | I76: / | J76: =SUMIF(#REF!,"장공",#REF!) -> #REF! | K76: =B76-E76-H76 -> #REF! | L76: / | M76: =D76-G76-J76 -> #REF!
A77: 목장 | B77: =COUNTIF(#REF!,"목") -> #REF! | C77: / | D77: =SUMIF(#REF!,"목",#REF!) -> #REF! | E77: =COUNTIF(#REF!,"목국") -> #REF! | F77: / | G77: =SUMIF(#REF!,"목국",#REF!) -> #REF! | H77: =COUNTIF(#REF!,"목공") -> #REF! | I77: / | J77: =SUMIF(#REF!,"목공",#REF!) -> #REF! | K77: =B77-E77-H77 -> #REF! | L77: / | M77: =D77-G77-J77 -> #REF!
A78: 학교용지 | B78: =COUNTIF(#REF!,"학") -> #REF! | C78: / | D78: =SUMIF(#REF!,"학",#REF!) -> #REF! | E78: =COUNTIF(#REF!,"학국") -> #REF! | F78: / | G78: =SUMIF(#REF!,"학국",#REF!) -> #REF! | H78: =COUNTIF(#REF!,"학공") -> #REF! | I78: / | J78: =SUMIF(#REF!,"학공",#REF!) -> #REF! | K78: =B78-E78-H78 -> #REF! | L78: / | M78: =D78-G78-J78 -> #REF!
A79: 철도 | B79: =COUNTIF(#REF!,"철") -> #REF! | C79: / | D79: =SUMIF(#REF!,"철",#REF!) -> #REF! | E79: =COUNTIF(#REF!,"철국") -> #REF! | F79: / | G79: =SUMIF(#REF!,"철국",#REF!) -> #REF! | H79: =COUNTIF(#REF!,"철공") -> #REF! | I79: / | J79: =SUMIF(#REF!,"철공",#REF!) -> #REF! | K79: =B79-E79-H79 -> #REF! | L79: / | M79: =D79-G79-J79 -> #REF!
A80: 묘지 | B80: =COUNTIF(#REF!,"묘") -> #REF! | C80: / | D80: =SUMIF(#REF!,"묘",#REF!) -> #REF! | E80: =COUNTIF(#REF!,"묘국") -> #REF! | F80: / | G80: =SUMIF(#REF!,"묘국",#REF!) -> #REF! | H80: =COUNTIF(#REF!,"묘공") -> #REF! | I80: / | J80: =SUMIF(#REF!,"묘공",#REF!) -> #REF! | K80: =B80-E80-H80 -> #REF! | L80: / | M80: =D80-G80-J80 -> #REF!
A81: 수도 | B81: =COUNTIF(#REF!,"수") -> #REF! | C81: / | D81: =SUMIF(#REF!,"수",#REF!) -> #REF! | E81: =COUNTIF(#REF!,"수국") -> #REF! | F81: / | G81: =SUMIF(#REF!,"수국",#REF!) -> #REF! | H81: =COUNTIF(#REF!,"수공") -> #REF! | I81: / | J81: =SUMIF(#REF!,"수공",#REF!) -> #REF! | K81: =B81-E81-H81 -> #REF! | L81: / | M81: =D81-G81-J81 -> #REF!
A82: 잡종지 | B82: =COUNTIF(#REF!,"잡") -> #REF! | C82: / | D82: =SUMIF(#REF!,"잡",#REF!) -> #REF! | E82: =COUNTIF(#REF!,"잡국") -> #REF! | F82: / | G82: =SUMIF(#REF!,"잡국",#REF!) -> #REF! | H82: =COUNTIF(#REF!,"잡공") -> #REF! | I82: / | J82: =SUMIF(#REF!,"잡공",#REF!) -> #REF! | K82: =B82-E82-H82 -> #REF! | L82: / | M82: =D82-G82-J82 -> #REF!
A83: 종교 | B83: =COUNTIF(#REF!,"종") -> #REF! | C83: / | D83: =SUMIF(#REF!,"종",#REF!) -> #REF! | E83: =COUNTIF(#REF!,"종국") -> #REF! | F83: / | G83: =SUMIF(#REF!,"종국",#REF!) -> #REF! | H83: =COUNTIF(#REF!,"종공") -> #REF! | I83: / | J83: =SUMIF(#REF!,"종공",#REF!) -> #REF! | K83: =B83-E83-H83 -> #REF! | L83: / | M83: =D83-G83-J83 -> #REF!
A84: 염전 | B84: =COUNTIF(#REF!,"염") -> #REF! | C84: / | D84: =SUMIF(#REF!,"염",#REF!) -> #REF! | E84: =COUNTIF(#REF!,"염국") -> #REF! | F84: / | G84: =SUMIF(#REF!,"염국",#REF!) -> #REF! | H84: =COUNTIF(#REF!,"염공") -> #REF! | I84: / | J84: =SUMIF(#REF!,"염공",#REF!) -> #REF! | K84: =B84-E84-H84 -> #REF! | L84: / | M84: =D84-G84-J84 -> #REF!
A85: 공원 | B85: =COUNTIF(#REF!,"공") -> #REF! | C85: / | D85: =SUMIF(#REF!,"공",#REF!) -> #REF! | E85: =COUNTIF(#REF!,"공국") -> #REF! | F85: / | G85: =SUMIF(#REF!,"공국",#REF!) -> #REF! | H85: =COUNTIF(#REF!,"공공") -> #REF! | I85: / | J85: =SUMIF(#REF!,"공공",#REF!) -> #REF! | K85: =B85-E85-H85 -> #REF! | L85: / | M85: =D85-G85-J85 -> #REF!
A86: 체육 | B86: =COUNTIF(#REF!,"체") -> #REF! | C86: / | D86: =SUMIF(#REF!,"체",#REF!) -> #REF! | E86: =COUNTIF(#REF!,"체국") -> #REF! | F86: / | G86: =SUMIF(#REF!,"체국",#REF!) -> #REF! | H86: =COUNTIF(#REF!,"체공") -> #REF! | I86: / | J86: =SUMIF(#REF!,"체공",#REF!) -> #REF! | K86: =B86-E86-H86 -> #REF! | L86: / | M86: =D86-G86-J86 -> #REF!
A87: 유원지 | B87: =COUNTIF(#REF!,"원") -> #REF! | C87: / | D87: =SUMIF(#REF!,"원",#REF!) -> #REF! | E87: =COUNTIF(#REF!,"원국") -> #REF! | F87: / | G87: =SUMIF(#REF!,"원국",#REF!) -> #REF! | H87: =COUNTIF(#REF!,"원공") -> #REF! | I87: / | J87: =SUMIF(#REF!,"원공",#REF!) -> #REF! | K87: =B87-E87-H87 -> #REF! | L87: / | M87: =D87-G87-J87 -> #REF!
A88: 주유소 | B88: =COUNTIF(#REF!,"주") -> #REF! | C88: / | D88: =SUMIF(#REF!,"주",#REF!) -> #REF! | E88: =COUNTIF(#REF!,"주국") -> #REF! | F88: / | G88: =SUMIF(#REF!,"주국",#REF!) -> #REF! | H88: =COUNTIF(#REF!,"주공") -> #REF! | I88: / | J88: =SUMIF(#REF!,"주공",#REF!) -> #REF! | K88: =B88-E88-H88 -> #REF! | L88: / | M88: =D88-G88-J88 -> #REF!
A89: 창고용지 | B89: =COUNTIF(#REF!,"창") -> #REF! | C89: / | D89: =SUMIF(#REF!,"창",#REF!) -> #REF! | E89: =COUNTIF(#REF!,"창국") -> #REF! | F89: / | G89: =SUMIF(#REF!,"창국",#REF!) -> #REF! | H89: =COUNTIF(#REF!,"창공") -> #REF! | I89: / | J89: =SUMIF(#REF!,"창공",#REF!) -> #REF! | K89: =B89-E89-H89 -> #REF! | L89: / | M89: =D89-G89-J89 -> #REF!
A90: 기타 | B90: =COUNTIF(#REF!," ") -> #REF! | C90: / | D90: =SUMIF(#REF!," ",#REF!) -> #REF! | E90: =COUNTIF(#REF!," 국") -> #REF! | F90: / | G90: =SUMIF(#REF!," 국",#REF!) -> #REF! | H90: =COUNTIF(#REF!," 공") -> #REF! | I90: / | J90: =SUMIF(#REF!," 공",#REF!) -> #REF! | K90: =B90-E90-H90 -> #REF! | L90: / | M90: =D90-G90-J90 -> #REF!
A91: =IF(EXACT(O95,O96),,"검산확인요!!!") -> #REF! | K91: =IF(ISBLANK(#REF!),,#REF!) -> #REF!
A93: 구분 | B93: 계 | E93: 국 유 지 | H93: 공 유 지 | K93: 사 유 지 | N93: 비고
B94: 필지 | C94: / | D94: 면 적 (㎡) | E94: 필지 | F94: / | G94: 면 적 (㎡) | H94: 필지 | I94: / | J94: 면 적 (㎡) | K94: 필지 | L94: / | M94: 면 적 (㎡) | Q94: 총계 | R94: 국유지 | S94: 사유지 | T94: 국유지+사유지
A95: 계 | B95: =SUM(B96:B120) -> #REF! | C95: / | D95: =SUM(D96:D120) -> #REF! | E95: =SUM(E96:E120) -> #REF! | F95: / | G95: =SUM(G96:G120) -> #REF! | H95: =SUM(H96:H120) -> #REF! | I95: / | J95: =SUM(J96:J120) -> #REF! | K95: =SUM(K96:K120) -> #REF! | L95: / | M95: =SUM(M96:M120) -> #REF! | O95: =IF(EXACT(Q95,T95),"맞음","틀림") -> #REF! | P95: 필지 | Q95: =SUM(B96:B120) -> #REF! | R95: =SUM(H96:H120) -> #REF! | S95: =SUM(K96:K120) -> #REF! | T95: =K95+H95 -> #REF!
A96: 전 | B96: =COUNTIF(#REF!,"전") -> #REF! | C96: / | D96: =SUMIF(#REF!,"전",#REF!) -> #REF! | E96: =COUNTIF(#REF!,"전국") -> #REF! | F96: / | G96: =SUMIF(#REF!,"전국",#REF!) -> #REF! | H96: =COUNTIF(#REF!,"전공") -> #REF! | I96: / | J96: =SUMIF(#REF!,"전공",#REF!) -> #REF! | K96: =B96-H96 -> #REF! | L96: / | M96: =D96-J96 -> #REF! | O96: =IF(EXACT(Q96,T96),"맞음","틀림") -> #REF! | P96: 면적 | Q96: =SUM(D96:D120) -> #REF! | R96: =SUM(J96:J120) -> #REF! | S96: =SUM(M96:M120) -> #REF! | T96: =J95+M95 -> #REF!
A97: 답 | B97: =COUNTIF(#REF!,"답") -> #REF! | C97: / | D97: =SUMIF(#REF!,"답",#REF!) -> #REF! | E97: =COUNTIF(#REF!,"답국") -> #REF! | F97: / | G97: =SUMIF(#REF!,"답국",#REF!) -> #REF! | H97: =COUNTIF(#REF!,"답공") -> #REF! | I97: / | J97: =SUMIF(#REF!,"답공",#REF!) -> #REF! | K97: =B97-H97 -> #REF! | L97: / | M97: =D97-J97 -> #REF!
A98: 임야 | B98: =COUNTIF(#REF!,"임") -> #REF! | C98: / | D98: =SUMIF(#REF!,"임",#REF!) -> #REF! | E98: =COUNTIF(#REF!,"임국") -> #REF! | F98: / | G98: =SUMIF(#REF!,"임국",#REF!) -> #REF! | H98: =COUNTIF(#REF!,"임공") -> #REF! | I98: / | J98: =SUMIF(#REF!,"임공",#REF!) -> #REF! | K98: =B98-H98 -> #REF! | L98: / | M98: =D98-J98 -> #REF!
A99: 대지 | B99: =COUNTIF(#REF!,"대") -> #REF! | C99: / | D99: =SUMIF(#REF!,"대",#REF!) -> #REF! | E99: =COUNTIF(#REF!,"대국") -> #REF! | F99: / | G99: =SUMIF(#REF!,"대국",#REF!) -> #REF! | H99: =COUNTIF(#REF!,"대공") -> #REF! | I99: / | J99: =SUMIF(#REF!,"대공",#REF!) -> #REF! | K99: =B99-H99 -> #REF! | L99: / | M99: =D99-J99 -> #REF!
A100: 도로 | B100: =COUNTIF(#REF!,"도") -> #REF! | C100: / | D100: =SUMIF(#REF!,"도",#REF!) -> #REF! | E100: =COUNTIF(#REF!,"도국") -> #REF! | F100: / | G100: =SUMIF(#REF!,"도국",#REF!) -> #REF! | H100: =COUNTIF(#REF!,"도공") -> #REF! | I100: / | J100: =SUMIF(#REF!,"도공",#REF!) -> #REF! | K100: =B100-H100 -> #REF! | L100: / | M100: =D100-J100 -> #REF!
A101: 구거 | B101: =COUNTIF(#REF!,"구") -> #REF! | C101: / | D101: =SUMIF(#REF!,"구",#REF!) -> #REF! | E101: =COUNTIF(#REF!,"구국") -> #REF! | F101: / | G101: =SUMIF(#REF!,"구국",#REF!) -> #REF! | H101: =COUNTIF(#REF!,"구공") -> #REF! | I101: / | J101: =SUMIF(#REF!,"구공",#REF!) -> #REF! | K101: =B101-H101 -> #REF! | L101: / | M101: =D101-J101 -> #REF!
A102: 하천 | B102: =COUNTIF(#REF!,"천") -> #REF! | C102: / | D102: =SUMIF(#REF!,"천",#REF!) -> #REF! | E102: =COUNTIF(#REF!,"천국") -> #REF! | F102: / | G102: =SUMIF(#REF!,"천국",#REF!) -> #REF! | H102: =COUNTIF(#REF!,"천공") -> #REF! | I102: / | J102: =SUMIF(#REF!,"천공",#REF!) -> #REF! | K102: =B102-H102 -> #REF! | L102: / | M102: =D102-J102 -> #REF!
A103: 유지 | B103: =COUNTIF(#REF!,"유") -> #REF! | C103: / | D103: =SUMIF(#REF!,"유",#REF!) -> #REF! | E103: =COUNTIF(#REF!,"유국") -> #REF! | F103: / | G103: =SUMIF(#REF!,"유국",#REF!) -> #REF! | H103: =COUNTIF(#REF!,"유공") -> #REF! | I103: / | J103: =SUMIF(#REF!,"유공",#REF!) -> #REF! | K103: =B103-H103 -> #REF! | L103: / | M103: =D103-J103 -> #REF!
A104: 제방 | B104: =COUNTIF(#REF!,"제") -> #REF! | C104: / | D104: =SUMIF(#REF!,"제",#REF!) -> #REF! | E104: =COUNTIF(#REF!,"제국") -> #REF! | F104: / | G104: =SUMIF(#REF!,"제국",#REF!) -> #REF! | H104: =COUNTIF(#REF!,"제공") -> #REF! | I104: / | J104: =SUMIF(#REF!,"제공",#REF!) -> #REF! | K104: =B104-H104 -> #REF! | L104: / | M104: =D104-J104 -> #REF!
A105: 과수원 | B105: =COUNTIF(#REF!,"과") -> #REF! | C105: / | D105: =SUMIF(#REF!,"과",#REF!) -> #REF! | E105: =COUNTIF(#REF!,"과국") -> #REF! | F105: / | G105: =SUMIF(#REF!,"과국",#REF!) -> #REF! | H105: =COUNTIF(#REF!,"과공") -> #REF! | I105: / | J105: =SUMIF(#REF!,"과공",#REF!) -> #REF! | K105: =B105-H105 -> #REF! | L105: / | M105: =D105-J105 -> #REF!
A106: 공장 | B106: =COUNTIF(#REF!,"장") -> #REF! | C106: / | D106: =SUMIF(#REF!,"장",#REF!) -> #REF! | E106: =COUNTIF(#REF!,"장국") -> #REF! | F106: / | G106: =SUMIF(#REF!,"장국",#REF!) -> #REF! | H106: =COUNTIF(#REF!,"장공") -> #REF! | I106: / | J106: =SUMIF(#REF!,"장공",#REF!) -> #REF! | K106: =B106-H106 -> #REF! | L106: / | M106: =D106-J106 -> #REF!
A107: 목장 | B107: =COUNTIF(#REF!,"목") -> #REF! | C107: / | D107: =SUMIF(#REF!,"목",#REF!) -> #REF! | E107: =COUNTIF(#REF!,"목국") -> #REF! | F107: / | G107: =SUMIF(#REF!,"목국",#REF!) -> #REF! | H107: =COUNTIF(#REF!,"목공") -> #REF! | I107: / | J107: =SUMIF(#REF!,"목공",#REF!) -> #REF! | K107: =B107-H107 -> #REF! | L107: / | M107: =D107-J107 -> #REF!
A108: 학교용지 | B108: =COUNTIF(#REF!,"학") -> #REF! | C108: / | D108: =SUMIF(#REF!,"학",#REF!) -> #REF! | E108: =COUNTIF(#REF!,"학국") -> #REF! | F108: / | G108: =SUMIF(#REF!,"학국",#REF!) -> #REF! | H108: =COUNTIF(#REF!,"학공") -> #REF! | I108: / | J108: =SUMIF(#REF!,"학공",#REF!) -> #REF! | K108: =B108-H108 -> #REF! | L108: / | M108: =D108-J108 -> #REF!
A109: 철도 | B109: =COUNTIF(#REF!,"철") -> #REF! | C109: / | D109: =SUMIF(#REF!,"철",#REF!) -> #REF! | E109: =COUNTIF(#REF!,"철국") -> #REF! | F109: / | G109: =SUMIF(#REF!,"철국",#REF!) -> #REF! | H109: =COUNTIF(#REF!,"철공") -> #REF! | I109: / | J109: =SUMIF(#REF!,"철공",#REF!) -> #REF! | K109: =B109-H109 -> #REF! | L109: / | M109: =D109-J109 -> #REF!
A110: 묘지 | B110: =COUNTIF(#REF!,"묘") -> #REF! | C110: / | D110: =SUMIF(#REF!,"묘",#REF!) -> #REF! | E110: =COUNTIF(#REF!,"묘국") -> #REF! | F110: / | G110: =SUMIF(#REF!,"묘국",#REF!) -> #REF! | H110: =COUNTIF(#REF!,"묘공") -> #REF! | I110: / | J110: =SUMIF(#REF!,"묘공",#REF!) -> #REF! | K110: =B110-H110 -> #REF! | L110: / | M110: =D110-J110 -> #REF!
A111: 수도 | B111: =COUNTIF(#REF!,"수") -> #REF! | C111: / | D111: =SUMIF(#REF!,"수",#REF!) -> #REF! | E111: =COUNTIF(#REF!,"수국") -> #REF! | F111: / | G111: =SUMIF(#REF!,"수국",#REF!) -> #REF! | H111: =COUNTIF(#REF!,"수공") -> #REF! | I111: / | J111: =SUMIF(#REF!,"수공",#REF!) -> #REF! | K111: =B111-H111 -> #REF! | L111: / | M111: =D111-J111 -> #REF!
A112: 잡종지 | B112: =COUNTIF(#REF!,"잡") -> #REF! | C112: / | D112: =SUMIF(#REF!,"잡",#REF!) -> #REF! | E112: =COUNTIF(#REF!,"잡국") -> #REF! | F112: / | G112: =SUMIF(#REF!,"잡국",#REF!) -> #REF! | H112: =COUNTIF(#REF!,"잡공") -> #REF! | I112: / | J112: =SUMIF(#REF!,"잡공",#REF!) -> #REF! | K112: =B112-H112 -> #REF! | L112: / | M112: =D112-J112 -> #REF!
A113: 종교 | B113: =COUNTIF(#REF!,"종") -> #REF! | C113: / | D113: =SUMIF(#REF!,"종",#REF!) -> #REF! | E113: =COUNTIF(#REF!,"종국") -> #REF! | F113: / | G113: =SUMIF(#REF!,"종국",#REF!) -> #REF! | H113: =COUNTIF(#REF!,"종공") -> #REF! | I113: / | J113: =SUMIF(#REF!,"종공",#REF!) -> #REF! | K113: =B113-H113 -> #REF! | L113: / | M113: =D113-J113 -> #REF!
A114: 염전 | B114: =COUNTIF(#REF!,"염") -> #REF! | C114: / | D114: =SUMIF(#REF!,"염",#REF!) -> #REF! | E114: =COUNTIF(#REF!,"염국") -> #REF! | F114: / | G114: =SUMIF(#REF!,"염국",#REF!) -> #REF! | H114: =COUNTIF(#REF!,"염공") -> #REF! | I114: / | J114: =SUMIF(#REF!,"염공",#REF!) -> #REF! | K114: =B114-H114 -> #REF! | L114: / | M114: =D114-J114 -> #REF!
...

Sheet 전체집계표-구역별
A1: 전체 편입용지 집계표
A3: 구분 | B3: 계 | E3: 경기도 포천시 가산면
E4: 마산리 | H4: 감암리
B5: 필지 | C5: / | D5: 면적(㎡) | E5: 필지 | F5: / | G5: 면적(㎡) | H5: 필지 | I5: / | J5: 면적(㎡) | K5: 필지 | L5: / | M5: 면적(㎡) | N5: 필지 | O5: / | P5: 면적(㎡)
A6: 계 | B6: =SUM(B7:B31) -> #REF! | C6: / | D6: =SUM(D7:D31) -> #REF! | E6: =SUM(E7:E31) -> #REF! | F6: / | G6: =SUM(G7:G31) -> #REF! | H6: =SUM(H7:H31) -> #REF! | I6: / | J6: =SUM(J7:J31) -> #REF! | K6: =SUM(K7:K31) -> 0 | L6: / | M6: =SUM(M7:M31) -> 0 | N6: =SUM(N7:N31) -> 0 | O6: / | P6: =SUM(P7:P31) -> 0 | R6: =IF(D6=(G6+J6+M6+P6),"ok","false") -> #REF!
A7: 전 | B7: =SUM(E7,H7,K7,N7) -> #REF! | C7: / | D7: =SUM(G7,J7,M7,P7) -> #REF! | E7: ='마산리집계표(당초)'!B6 -> #REF! | F7: / | G7: ='마산리집계표(당초)'!D6 -> #REF! | H7: =#REF! -> #REF! | I7: / | J7: =#REF! -> #REF! | K7: =신흥리집계표!B6 -> 0 | L7: / | M7: =신흥리집계표!D6 -> 0 | N7: =죽림리집계표!B6 -> 0 | O7: / | P7: =죽림리집계표!D6 -> 0 | R7: =IF(D7=(G7+J7+M7+P7),"ok","false") -> #REF!
A8: 답 | B8: =SUM(E8,H8,K8,N8) -> #REF! | C8: / | D8: =SUM(G8,J8,M8,P8) -> #REF! | E8: ='마산리집계표(당초)'!B7 -> #REF! | F8: / | G8: ='마산리집계표(당초)'!D7 -> #REF! | H8: =#REF! -> #REF! | I8: / | J8: =#REF! -> #REF! | K8: =신흥리집계표!B7 -> 0 | L8: / | M8: =신흥리집계표!D7 -> 0 | N8: =죽림리집계표!B7 -> 0 | O8: / | P8: =죽림리집계표!D7 -> 0 | R8: =IF(D8=(G8+J8+M8+P8),"ok","false") -> #REF!
A9: 임야 | B9: =SUM(E9,H9,K9,N9) -> #REF! | C9: / | D9: =SUM(G9,J9,M9,P9) -> #REF! | E9: ='마산리집계표(당초)'!B8 -> #REF! | F9: / | G9: ='마산리집계표(당초)'!D8 -> #REF! | H9: =#REF! -> #REF! | I9: / | J9: =#REF! -> #REF! | K9: =신흥리집계표!B8 -> 0 | L9: / | M9: =신흥리집계표!D8 -> 0 | N9: =죽림리집계표!B8 -> 0 | O9: / | P9: =죽림리집계표!D8 -> 0 | R9: =IF(D9=(G9+J9+M9+P9),"ok","false") -> #REF!
A10: 대지 | B10: =SUM(E10,H10,K10,N10) -> #REF! | C10: / | D10: =SUM(G10,J10,M10,P10) -> #REF! | E10: ='마산리집계표(당초)'!B9 -> #REF! | F10: / | G10: ='마산리집계표(당초)'!D9 -> #REF! | H10: =#REF! -> #REF! | I10: / | J10: =#REF! -> #REF! | K10: =신흥리집계표!B9 -> 0 | L10: / | M10: =신흥리집계표!D9 -> 0 | N10: =죽림리집계표!B9 -> 0 | O10: / | P10: =죽림리집계표!D9 -> 0 | R10: =IF(D10=(G10+J10+M10+P10),"ok","false") -> #REF!
A11: 도로 | B11: =SUM(E11,H11,K11,N11) -> #REF! | C11: / | D11: =SUM(G11,J11,M11,P11) -> #REF! | E11: ='마산리집계표(당초)'!B10 -> #REF! | F11: / | G11: ='마산리집계표(당초)'!D10 -> #REF! | H11: =#REF! -> #REF! | I11: / | J11: =#REF! -> #REF! | K11: =신흥리집계표!B10 -> 0 | L11: / | M11: =신흥리집계표!D10 -> 0 | N11: =죽림리집계표!B10 -> 0 | O11: / | P11: =죽림리집계표!D10 -> 0 | R11: =IF(D11=(G11+J11+M11+P11),"ok","false") -> #REF!
A12: 구거 | B12: =SUM(E12,H12,K12,N12) -> #REF! | C12: / | D12: =SUM(G12,J12,M12,P12) -> #REF! | E12: ='마산리집계표(당초)'!B11 -> #REF! | F12: / | G12: ='마산리집계표(당초)'!D11 -> #REF! | H12: =#REF! -> #REF! | I12: / | J12: =#REF! -> #REF! | K12: =신흥리집계표!B11 -> 0 | L12: / | M12: =신흥리집계표!D11 -> 0 | N12: =죽림리집계표!B11 -> 0 | O12: / | P12: =죽림리집계표!D11 -> 0 | R12: =IF(D12=(G12+J12+M12+P12),"ok","false") -> #REF!
A13: 하천 | B13: =SUM(E13,H13,K13,N13) -> #REF! | C13: / | D13: =SUM(G13,J13,M13,P13) -> #REF! | E13: ='마산리집계표(당초)'!B12 -> #REF! | F13: / | G13: ='마산리집계표(당초)'!D12 -> #REF! | H13: =#REF! -> #REF! | I13: / | J13: =#REF! -> #REF! | K13: =신흥리집계표!B12 -> 0 | L13: / | M13: =신흥리집계표!D12 -> 0 | N13: =죽림리집계표!B12 -> 0 | O13: / | P13: =죽림리집계표!D12 -> 0 | R13: =IF(D13=(G13+J13+M13+P13),"ok","false") -> #REF!
A14: 유지 | B14: =SUM(E14,H14,K14,N14) -> #REF! | C14: / | D14: =SUM(G14,J14,M14,P14) -> #REF! | E14: ='마산리집계표(당초)'!B13 -> #REF! | F14: / | G14: ='마산리집계표(당초)'!D13 -> #REF! | H14: =#REF! -> #REF! | I14: / | J14: =#REF! -> #REF! | K14: =신흥리집계표!B13 -> 0 | L14: / | M14: =신흥리집계표!D13 -> 0 | N14: =죽림리집계표!B13 -> 0 | O14: / | P14: =죽림리집계표!D13 -> 0 | R14: =IF(D14=(G14+J14+M14+P14),"ok","false") -> #REF!
A15: 제방 | B15: =SUM(E15,H15,K15,N15) -> #REF! | C15: / | D15: =SUM(G15,J15,M15,P15) -> #REF! | E15: ='마산리집계표(당초)'!B14 -> #REF! | F15: / | G15: ='마산리집계표(당초)'!D14 -> #REF! | H15: =#REF! -> #REF! | I15: / | J15: =#REF! -> #REF! | K15: =신흥리집계표!B14 -> 0 | L15: / | M15: =신흥리집계표!D14 -> 0 | N15: =죽림리집계표!B14 -> 0 | O15: / | P15: =죽림리집계표!D14 -> 0 | R15: =IF(D15=(G15+J15+M15+P15),"ok","false") -> #REF!
A16: 과수원 | B16: =SUM(E16,H16,K16,N16) -> #REF! | C16: / | D16: =SUM(G16,J16,M16,P16) -> #REF! | E16: ='마산리집계표(당초)'!B15 -> #REF! | F16: / | G16: ='마산리집계표(당초)'!D15 -> #REF! | H16: =#REF! -> #REF! | I16: / | J16: =#REF! -> #REF! | K16: =신흥리집계표!B15 -> 0 | L16: / | M16: =신흥리집계표!D15 -> 0 | N16: =죽림리집계표!B15 -> 0 | O16: / | P16: =죽림리집계표!D15 -> 0 | R16: =IF(D16=(G16+J16+M16+P16),"ok","false") -> #REF!
A17: 공장 | B17: =SUM(E17,H17,K17,N17) -> #REF! | C17: / | D17: =SUM(G17,J17,M17,P17) -> #REF! | E17: ='마산리집계표(당초)'!B16 -> #REF! | F17: / | G17: ='마산리집계표(당초)'!D16 -> #REF! | H17: =#REF! -> #REF! | I17: / | J17: =#REF! -> #REF! | K17: =신흥리집계표!B16 -> 0 | L17: / | M17: =신흥리집계표!D16 -> 0 | N17: =죽림리집계표!B16 -> 0 | O17: / | P17: =죽림리집계표!D16 -> 0 | R17: =IF(D17=(G17+J17+M17+P17),"ok","false") -> #REF!
A18: 목장 | B18: =SUM(E18,H18,K18,N18) -> #REF! | C18: / | D18: =SUM(G18,J18,M18,P18) -> #REF! | E18: ='마산리집계표(당초)'!B17 -> #REF! | F18: / | G18: ='마산리집계표(당초)'!D17 -> #REF! | H18: =#REF! -> #REF! | I18: / | J18: =#REF! -> #REF! | K18: =신흥리집계표!B17 -> 0 | L18: / | M18: =신흥리집계표!D17 -> 0 | N18: =죽림리집계표!B17 -> 0 | O18: / | P18: =죽림리집계표!D17 -> 0 | R18: =IF(D18=(G18+J18+M18+P18),"ok","false") -> #REF!
... A31: 기타 | B31: =SUM(E31,H31,K31,N31) -> #REF! | C31: / | D31: =SUM(G31,J31,M31,P31) -> #REF! | E31: ='마산리집계표(당초)'!B30 -> #REF! | F31: / | G31: ='마산리집계표(당초)'!D30 -> #REF! | H31: =#REF! -> #REF! | I31: / | J31: =#REF! -> #REF! | K31: =신흥리집계표!B30 -> 0 | L31: / | M31: =신흥리집계표!D30 -> 0 | N31: =죽림리집계표!B30 -> 0 | O31: / | P31: =죽림리집계표!D30 -> 0 | R31: =IF(D31=(G31+J31+M31+P31),"ok","false") -> #REF!
A32: 국유지 편입용지 집계표
A34: 구분 | B34: 계 | E34: =E3 -> 경기도 포천시 가산면
E35: =E4 -> 마산리 | H35: =H4 -> 감암리 | K35: =K4 -> 0 | N35: =N4 -> 0
B36: 필지 | C36: / | D36: 면적(㎡) | E36: 필지 | F36: / | G36: 면적(㎡) | H36: 필지 | I36: / | J36: 면적(㎡) | K36: 필지 | L36: / | M36: 면적(㎡) | N36: 필지 | O36: / | P36: 면적(㎡)
A37: 계 | B37: =SUM(B38:B62) -> #REF! | C37: / | D37: =SUM(D38:D62) -> #REF! | E37: ='마산리집계표(당초)'!E5 -> #REF! | F37: / | G37: ='마산리집계표(당초)'!G5 -> #REF! | H37: =#REF! -> #REF! | I37: / | J37: =#REF! -> #REF! | K37: =신흥리집계표!E5 -> 0 | L37: / | M37: =신흥리집계표!G5 -> 0 | N37: =죽림리집계표!E5 -> 0 | O37: / | P37: =죽림리집계표!G5 -> 0 | R37: =IF(D37=(G37+J37+M37+P37),"ok","false") -> #REF!
A38: 전 | B38: =SUM(E38,H38,K38,N38) -> #REF! | C38: / | D38: =SUM(G38,J38,M38,P38) -> #REF! | E38: ='마산리집계표(당초)'!E6 -> #REF! | F38: / | G38: ='마산리집계표(당초)'!G6 -> #REF! | H38: =#REF! -> #REF! | I38: / | J38: =#REF! -> #REF! | K38: =신흥리집계표!E6 -> 0 | L38: / | M38: =신흥리집계표!G6 -> 0 | N38: =죽림리집계표!E6 -> 0 | O38: / | P38: =죽림리집계표!G6 -> 0 | R38: =IF(D38=(G38+J38+M38+P38),"ok","false") -> #REF!
A39: 답 | B39: =SUM(E39,H39,K39,N39) -> #REF! | C39: / | D39: =SUM(G39,J39,M39,P39) -> #REF! | E39: ='마산리집계표(당초)'!E7 -> #REF! | F39: / | G39: ='마산리집계표(당초)'!G7 -> #REF! | H39: =#REF! -> #REF! | I39: / | J39: =#REF! -> #REF! | K39: =신흥리집계표!E7 -> 0 | L39: / | M39: =신흥리집계표!G7 -> 0 | N39: =죽림리집계표!E7 -> 0 | O39: / | P39: =죽림리집계표!G7 -> 0 | R39: =IF(D39=(G39+J39+M39+P39),"ok","false") -> #REF!
A40: 임야 | B40: =SUM(E40,H40,K40,N40) -> #REF! | C40: / | D40: =SUM(G40,J40,M40,P40) -> #REF! | E40: ='마산리집계표(당초)'!E8 -> #REF! | F40: / | G40: ='마산리집계표(당초)'!G8 -> #REF! | H40: =#REF! -> #REF! | I40: / | J40: =#REF! -> #REF! | K40: =신흥리집계표!E8 -> 0 | L40: / | M40: =신흥리집계표!G8 -> 0 | N40: =죽림리집계표!E8 -> 0 | O40: / | P40: =죽림리집계표!G8 -> 0 | R40: =IF(D40=(G40+J40+M40+P40),"ok","false") -> #REF!
A41: 대지 | B41: =SUM(E41,H41,K41,N41) -> #REF! | C41: / | D41: =SUM(G41,J41,M41,P41) -> #REF! | E41: ='마산리집계표(당초)'!E9 -> #REF! | F41: / | G41: ='마산리집계표(당초)'!G9 -> #REF! | H41: =#REF! -> #REF! | I41: / | J41: =#REF! -> #REF! | K41: =신흥리집계표!E9 -> 0 | L41: / | M41: =신흥리집계표!G9 -> 0 | N41: =죽림리집계표!E9 -> 0 | O41: / | P41: =죽림리집계표!G9 -> 0 | R41: =IF(D41=(G41+J41+M41+P41),"ok","false") -> #REF!
A42: 도로 | B42: =SUM(E42,H42,K42,N42) -> #REF! | C42: / | D42: =SUM(G42,J42,M42,P42) -> #REF! | E42: ='마산리집계표(당초)'!E10 -> #REF! | F42: / | G42: ='마산리집계표(당초)'!G10 -> #REF! | H42: =#REF! -> #REF! | I42: / | J42: =#REF! -> #REF! | K42: =신흥리집계표!E10 -> 0 | L42: / | M42: =신흥리집계표!G10 -> 0 | N42: =죽림리집계표!E10 -> 0 | O42: / | P42: =죽림리집계표!G10 -> 0 | R42: =IF(D42=(G42+J42+M42+P42),"ok","false") -> #REF!
A43: 구거 | B43: =SUM(E43,H43,K43,N43) -> #REF! | C43: / | D43: =SUM(G43,J43,M43,P43) -> #REF! | E43: ='마산리집계표(당초)'!E11 -> #REF! | F43: / | G43: ='마산리집계표(당초)'!G11 -> #REF! | H43: =#REF! -> #REF! | I43: / | J43: =#REF! -> #REF! | K43: =신흥리집계표!E11 -> 0 | L43: / | M43: =신흥리집계표!G11 -> 0 | N43: =죽림리집계표!E11 -> 0 | O43: / | P43: =죽림리집계표!G11 -> 0 | R43: =IF(D43=(G43+J43+M43+P43),"ok","false") -> #REF!
A44: 하천 | B44: =SUM(E44,H44,K44,N44) -> #REF! | C44: / | D44: =SUM(G44,J44,M44,P44) -> #REF! | E44: ='마산리집계표(당초)'!E12 -> #REF! | F44: / | G44: ='마산리집계표(당초)'!G12 -> #REF! | H44: =#REF! -> #REF! | I44: / | J44: =#REF! -> #REF! | K44: =신흥리집계표!E12 -> 0 | L44: / | M44: =신흥리집계표!G12 -> 0 | N44: =죽림리집계표!E12 -> 0 | O44: / | P44: =죽림리집계표!G12 -> 0 | R44: =IF(D44=(G44+J44+M44+P44),"ok","false") -> #REF!
A45: 유지 | B45: =SUM(E45,H45,K45,N45) -> #REF! | C45: / | D45: =SUM(G45,J45,M45,P45) -> #REF! | E45: ='마산리집계표(당초)'!E13 -> #REF! | F45: / | G45: ='마산리집계표(당초)'!G13 -> #REF! | H45: =#REF! -> #REF! | I45: / | J45: =#REF! -> #REF! | K45: =신흥리집계표!E13 -> 0 | L45: / | M45: =신흥리집계표!G13 -> 0 | N45: =죽림리집계표!E13 -> 0 | O45: / | P45: =죽림리집계표!G13 -> 0 | R45: =IF(D45=(G45+J45+M45+P45),"ok","false") -> #REF!
A46: 제방 | B46: =SUM(E46,H46,K46,N46) -> #REF! | C46: / | D46: =SUM(G46,J46,M46,P46) -> #REF! | E46: ='마산리집계표(당초)'!E14 -> #REF! | F46: / | G46: ='마산리집계표(당초)'!G14 -> #REF! | H46: =#REF! -> #REF! | I46: / | J46: =#REF! -> #REF! | K46: =신흥리집계표!E14 -> 0 | L46: / | M46: =신흥리집계표!G14 -> 0 | N46: =죽림리집계표!E14 -> 0 | O46: / | P46: =죽림리집계표!G14 -> 0 | R46: =IF(D46=(G46+J46+M46+P46),"ok","false") -> #REF!
A47: 과수원 | B47: =SUM(E47,H47,K47,N47) -> #REF! | C47: / | D47: =SUM(G47,J47,M47,P47) -> #REF! | E47: ='마산리집계표(당초)'!E15 -> #REF! | F47: / | G47: ='마산리집계표(당초)'!G15 -> #REF! | H47: =#REF! -> #REF! | I47: / | J47: =#REF! -> #REF! | K47: =신흥리집계표!E15 -> 0 | L47: / | M47: =신흥리집계표!G15 -> 0 | N47: =죽림리집계표!E15 -> 0 | O47: / | P47: =죽림리집계표!G15 -> 0 | R47: =IF(D47=(G47+J47+M47+P47),"ok","false") -> #REF!
A48: 공장 | B48: =SUM(E48,H48,K48,N48) -> #REF! | C48: / | D48: =SUM(G48,J48,M48,P48) -> #REF! | E48: ='마산리집계표(당초)'!E16 -> #REF! | F48: / | G48: ='마산리집계표(당초)'!G16 -> #REF! | H48: =#REF! -> #REF! | I48: / | J48: =#REF! -> #REF! | K48: =신흥리집계표!E16 -> 0 | L48: / | M48: =신흥리집계표!G16 -> 0 | N48: =죽림리집계표!E16 -> 0 | O48: / | P48: =죽림리집계표!G16 -> 0 | R48: =IF(D48=(G48+J48+M48+P48),"ok","false") -> #REF!
A49: 목장 | B49: =SUM(E49,H49,K49,N49) -> #REF! | C49: / | D49: =SUM(G49,J49,M49,P49) -> #REF! | E49: ='마산리집계표(당초)'!E17 -> #REF! | F49: / | G49: ='마산리집계표(당초)'!G17 -> #REF! | H49: =#REF! -> #REF! | I49: / | J49: =#REF! -> #REF! | K49: =신흥리집계표!E17 -> 0 | L49: / | M49: =신흥리집계표!G17 -> 0 | N49: =죽림리집계표!E17 -> 0 | O49: / | P49: =죽림리집계표!G17 -> 0 | R49: =IF(D49=(G49+J49+M49+P49),"ok","false") -> #REF!
... A62: 기타 | B62: =SUM(E62,H62,K62,N62) -> #REF! | C62: / | D62: =SUM(G62,J62,M62,P62) -> #REF! | E62: ='마산리집계표(당초)'!E30 -> #REF! | F62: / | G62: ='마산리집계표(당초)'!G30 -> #REF! | H62: =#REF! -> #REF! | I62: / | J62: =#REF! -> #REF! | K62: =신흥리집계표!E30 -> 0 | L62: / | M62: =신흥리집계표!G30 -> 0 | N62: =죽림리집계표!E30 -> 0 | O62: / | P62: =죽림리집계표!G30 -> 0 | R62: =IF(D62=(G62+J62+M62+P62),"ok","false") -> #REF!
A63: 공유지 편입용지 집계표
A65: 구분 | B65: 계 | E65: =E3 -> 경기도 포천시 가산면
E66: =E4 -> 마산리 | H66: =H4 -> 감암리 | K66: =K4 -> 0 | N66: =N4 -> 0
B67: 필지 | C67: / | D67: 면적(㎡) | E67: 필지 | F67: / | G67: 면적(㎡) | H67: 필지 | I67: / | J67: 면적(㎡) | K67: 필지 | L67: / | M67: 면적(㎡) | N67: 필지 | O67: / | P67: 면적(㎡)
A68: 계 | B68: =SUM(B69:B93) -> #REF! | C68: / | D68: =SUM(D69:D93) -> #REF! | E68: =SUM(E69:E93) -> #REF! | F68: / | G68: =SUM(G69:G93) -> #REF! | H68: =SUM(H69:H93) -> #REF! | I68: / | J68: =SUM(J69:J93) -> #REF! | K68: =신흥리집계표!H5 -> 0 | L68: / | M68: =신흥리집계표!J5 -> 0 | N68: =죽림리집계표!H5 -> 0 | O68: / | P68: =죽림리집계표!J5 -> 0 | R68: =IF(D68=(G68+J68+M68+P68),"ok","false") -> #REF!
A69: 전 | B69: =SUM(E69,H69,K69,N69) -> #REF! | C69: / | D69: =SUM(G69,J69,M69,P69) -> #REF! | E69: ='마산리집계표(당초)'!H6 -> #REF! | F69: / | G69: ='마산리집계표(당초)'!J6 -> #REF! | H69: =#REF! -> #REF! | I69: / | J69: =#REF! -> #REF! | K69: =신흥리집계표!H6 -> 0 | L69: / | M69: =신흥리집계표!J6 -> 0 | N69: =죽림리집계표!H6 -> 0 | O69: / | P69: =죽림리집계표!J6 -> 0 | R69: =IF(D69=(G69+J69+M69+P69),"ok","false") -> #REF!
A70: 답 | B70: =SUM(E70,H70,K70,N70) -> #REF! | C70: / | D70: =SUM(G70,J70,M70,P70) -> #REF! | E70: ='마산리집계표(당초)'!H7 -> #REF! | F70: / | G70: ='마산리집계표(당초)'!J7 -> #REF! | H70: =#REF! -> #REF! | I70: / | J70: =#REF! -> #REF! | K70: =신흥리집계표!H7 -> 0 | L70: / | M70: =신흥리집계표!J7 -> 0 | N70: =죽림리집계표!H7 -> 0 | O70: / | P70: =죽림리집계표!J7 -> 0 | R70: =IF(D70=(G70+J70+M70+P70),"ok","false") -> #REF!
A71: 임야 | B71: =SUM(E71,H71,K71,N71) -> #REF! | C71: / | D71: =SUM(G71,J71,M71,P71) -> #REF! | E71: ='마산리집계표(당초)'!H8 -> #REF! | F71: / | G71: ='마산리집계표(당초)'!J8 -> #REF! | H71: =#REF! -> #REF! | I71: / | J71: =#REF! -> #REF! | K71: =신흥리집계표!H8 -> 0 | L71: / | M71: =신흥리집계표!J8 -> 0 | N71: =죽림리집계표!H8 -> 0 | O71: / | P71: =죽림리집계표!J8 -> 0 | R71: =IF(D71=(G71+J71+M71+P71),"ok","false") -> #REF!
A72: 대지 | B72: =SUM(E72,H72,K72,N72) -> #REF! | C72: / | D72: =SUM(G72,J72,M72,P72) -> #REF! | E72: ='마산리집계표(당초)'!H9 -> #REF! | F72: / | G72: ='마산리집계표(당초)'!J9 -> #REF! | H72: =#REF! -> #REF! | I72: / | J72: =#REF! -> #REF! | K72: =신흥리집계표!H9 -> 0 | L72: / | M72: =신흥리집계표!J9 -> 0 | N72: =죽림리집계표!H9 -> 0 | O72: / | P72: =죽림리집계표!J9 -> 0 | R72: =IF(D72=(G72+J72+M72+P72),"ok","false") -> #REF!
A73: 도로 | B73: =SUM(E73,H73,K73,N73) -> #REF! | C73: / | D73: =SUM(G73,J73,M73,P73) -> #REF! | E73: ='마산리집계표(당초)'!H10 -> #REF! | F73: / | G73: ='마산리집계표(당초)'!J10 -> #REF! | H73: =#REF! -> #REF! | I73: / | J73: =#REF! -> #REF! | K73: =신흥리집계표!H10 -> 0 | L73: / | M73: =신흥리집계표!J10 -> 0 | N73: =죽림리집계표!H10 -> 0 | O73: / | P73: =죽림리집계표!J10 -> 0 | R73: =IF(D73=(G73+J73+M73+P73),"ok","false") -> #REF!
A74: 구거 | B74: =SUM(E74,H74,K74,N74) -> #REF! | C74: / | D74: =SUM(G74,J74,M74,P74) -> #REF! | E74: ='마산리집계표(당초)'!H11 -> #REF! | F74: / | G74: ='마산리집계표(당초)'!J11 -> #REF! | H74: =#REF! -> #REF! | I74: / | J74: =#REF! -> #REF! | K74: =신흥리집계표!H11 -> 0 | L74: / | M74: =신흥리집계표!J11 -> 0 | N74: =죽림리집계표!H11 -> 0 | O74: / | P74: =죽림리집계표!J11 -> 0 | R74: =IF(D74=(G74+J74+M74+P74),"ok","false") -> #REF!
A75: 하천 | B75: =SUM(E75,H75,K75,N75) -> #REF! | C75: / | D75: =SUM(G75,J75,M75,P75) -> #REF! | E75: ='마산리집계표(당초)'!H12 -> #REF! | F75: / | G75: ='마산리집계표(당초)'!J12 -> #REF! | H75: =#REF! -> #REF! | I75: / | J75: =#REF! -> #REF! | K75: =신흥리집계표!H12 -> 0 | L75: / | M75: =신흥리집계표!J12 -> 0 | N75: =죽림리집계표!H12 -> 0 | O75: / | P75: =죽림리집계표!J12 -> 0 | R75: =IF(D75=(G75+J75+M75+P75),"ok","false") -> #REF!
A76: 유지 | B76: =SUM(E76,H76,K76,N76) -> #REF! | C76: / | D76: =SUM(G76,J76,M76,P76) -> #REF! | E76: ='마산리집계표(당초)'!H13 -> #REF! | F76: / | G76: ='마산리집계표(당초)'!J13 -> #REF! | H76: =#REF! -> #REF! | I76: / | J76: =#REF! -> #REF! | K76: =신흥리집계표!H13 -> 0 | L76: / | M76: =신흥리집계표!J13 -> 0 | N76: =죽림리집계표!H13 -> 0 | O76: / | P76: =죽림리집계표!J13 -> 0 | R76: =IF(D76=(G76+J76+M76+P76),"ok","false") -> #REF!
A77: 제방 | B77: =SUM(E77,H77,K77,N77) -> #REF! | C77: / | D77: =SUM(G77,J77,M77,P77) -> #REF! | E77: ='마산리집계표(당초)'!H14 -> #REF! | F77: / | G77: ='마산리집계표(당초)'!J14 -> #REF! | H77: =#REF! -> #REF! | I77: / | J77: =#REF! -> #REF! | K77: =신흥리집계표!H14 -> 0 | L77: / | M77: =신흥리집계표!J14 -> 0 | N77: =죽림리집계표!H14 -> 0 | O77: / | P77: =죽림리집계표!J14 -> 0 | R77: =IF(D77=(G77+J77+M77+P77),"ok","false") -> #REF!
A78: 과수원 | B78: =SUM(E78,H78,K78,N78) -> #REF! | C78: / | D78: =SUM(G78,J78,M78,P78) -> #REF! | E78: ='마산리집계표(당초)'!H15 -> #REF! | F78: / | G78: ='마산리집계표(당초)'!J15 -> #REF! | H78: =#REF! -> #REF! | I78: / | J78: =#REF! -> #REF! | K78: =신흥리집계표!H15 -> 0 | L78: / | M78: =신흥리집계표!J15 -> 0 | N78: =죽림리집계표!H15 -> 0 | O78: / | P78: =죽림리집계표!J15 -> 0 | R78: =IF(D78=(G78+J78+M78+P78),"ok","false") -> #REF!
A79: 공장 | B79: =SUM(E79,H79,K79,N79) -> #REF! | C79: / | D79: =SUM(G79,J79,M79,P79) -> #REF! | E79: ='마산리집계표(당초)'!H16 -> #REF! | F79: / | G79: ='마산리집계표(당초)'!J16 -> #REF! | H79: =#REF! -> #REF! | I79: / | J79: =#REF! -> #REF! | K79: =신흥리집계표!H16 -> 0 | L79: / | M79: =신흥리집계표!J16 -> 0 | N79: =죽림리집계표!H16 -> 0 | O79: / | P79: =죽림리집계표!J16 -> 0 | R79: =IF(D79=(G79+J79+M79+P79),"ok","false") -> #REF!
A80: 목장 | B80: =SUM(E80,H80,K80,N80) -> #REF! | C80: / | D80: =SUM(G80,J80,M80,P80) -> #REF! | E80: ='마산리집계표(당초)'!H17 -> #REF! | F80: / | G80: ='마산리집계표(당초)'!J17 -> #REF! | H80: =#REF! -> #REF! | I80: / | J80: =#REF! -> #REF! | K80: =신흥리집계표!H17 -> 0 | L80: / | M80: =신흥리집계표!J17 -> 0 | N80: =죽림리집계표!H17 -> 0 | O80: / | P80: =죽림리집계표!J17 -> 0 | R80: =IF(D80=(G80+J80+M80+P80),"ok","false") -> #REF!
... A93: 기타 | B93: =SUM(E93,H93,K93,N93) -> #REF! | C93: / | D93: =SUM(G93,J93,M93,P93) -> #REF! | E93: ='마산리집계표(당초)'!H30 -> #REF! | F93: / | G93: ='마산리집계표(당초)'!J30 -> #REF! | H93: =#REF! -> #REF! | I93: / | J93: =#REF! -> #REF! | K93: =신흥리집계표!H30 -> 0 | L93: / | M93: =신흥리집계표!J30 -> 0 | N93: =죽림리집계표!H30 -> 0 | O93: / | P93: =죽림리집계표!J30 -> 0 | R93: =IF(D93=(G93+J93+M93+P93),"ok","false") -> #REF!
A94: 사유지 편입용지 집계표
A96: 구분 | B96: 계 | E96: =E3 -> 경기도 포천시 가산면
E97: =E4 -> 마산리 | H97: =H4 -> 감암리 | K97: =K4 -> 0 | N97: =N4 -> 0
B98: 필지 | C98: / | D98: 면적(㎡) | E98: 필지 | F98: / | G98: 면적(㎡) | H98: 필지 | I98: / | J98: 면적(㎡) | K98: 필지 | L98: / | M98: 면적(㎡) | N98: 필지 | O98: / | P98: 면적(㎡)
A99: 계 | B99: =SUM(B100:B124) -> #REF! | C99: / | D99: =SUM(D100:D124) -> #REF! | E99: =SUM(E100:E124) -> #REF! | F99: / | G99: =SUM(G100:G124) -> #REF! | H99: =SUM(H100:H124) -> #REF! | I99: / | J99: =SUM(J100:J124) -> #REF! | K99: =SUM(K100:K124) -> 0 | L99: / | M99: =SUM(M100:M124) -> 0 | N99: =SUM(N100:N124) -> 0 | O99: / | P99: =SUM(P100:P124) -> 0 | R99: =IF(D99=(G99+J99+M99+P99),"ok","false") -> #REF!
A100: 전 | B100: =SUM(E100,H100,K100,N100) -> #REF! | C100: / | D100: =SUM(G100,J100,M100,P100) -> #REF! | E100: ='마산리집계표(당초)'!K6 -> #REF! | F100: / | G100: ='마산리집계표(당초)'!M6 -> #REF! | H100: =#REF! -> #REF! | I100: / | J100: =#REF! -> #REF! | K100: =신흥리집계표!K6 -> 0 | L100: / | M100: =신흥리집계표!M6 -> 0 | N100: =죽림리집계표!K6 -> 0 | O100: / | P100: =죽림리집계표!M6 -> 0 | R100: =IF(D100=(G100+J100+M100+P100),"ok","false") -> #REF!
A101: 답 | B101: =SUM(E101,H101,K101,N101) -> #REF! | C101: / | D101: =SUM(G101,J101,M101,P101) -> #REF! | E101: ='마산리집계표(당초)'!K7 -> #REF! | F101: / | G101: ='마산리집계표(당초)'!M7 -> #REF! | H101: =#REF! -> #REF! | I101: / | J101: =#REF! -> #REF! | K101: =신흥리집계표!K7 -> 0 | L101: / | M101: =신흥리집계표!M7 -> 0 | N101: =죽림리집계표!K7 -> 0 | O101: / | P101: =죽림리집계표!M7 -> 0 | R101: =IF(D101=(G101+J101+M101+P101),"ok","false") -> #REF!
A102: 임야 | B102: =SUM(E102,H102,K102,N102) -> #REF! | C102: / | D102: =SUM(G102,J102,M102,P102) -> #REF! | E102: ='마산리집계표(당초)'!K8 -> #REF! | F102: / | G102: ='마산리집계표(당초)'!M8 -> #REF! | H102: =#REF! -> #REF! | I102: / | J102: =#REF! -> #REF! | K102: =신흥리집계표!K8 -> 0 | L102: / | M102: =신흥리집계표!M8 -> 0 | N102: =죽림리집계표!K8 -> 0 | O102: / | P102: =죽림리집계표!M8 -> 0 | R102: =IF(D102=(G102+J102+M102+P102),"ok","false") -> #REF!
A103: 대지 | B103: =SUM(E103,H103,K103,N103) -> #REF! | C103: / | D103: =SUM(G103,J103,M103,P103) -> #REF! | E103: ='마산리집계표(당초)'!K9 -> #REF! | F103: / | G103: ='마산리집계표(당초)'!M9 -> #REF! | H103: =#REF! -> #REF! | I103: / | J103: =#REF! -> #REF! | K103: =신흥리집계표!K9 -> 0 | L103: / | M103: =신흥리집계표!M9 -> 0 | N103: =죽림리집계표!K9 -> 0 | O103: / | P103: =죽림리집계표!M9 -> 0 | R103: =IF(D103=(G103+J103+M103+P103),"ok","false") -> #REF!
A104: 도로 | B104: =SUM(E104,H104,K104,N104) -> #REF! | C104: / | D104: =SUM(G104,J104,M104,P104) -> #REF! | E104: ='마산리집계표(당초)'!K10 -> #REF! | F104: / | G104: ='마산리집계표(당초)'!M10 -> #REF! | H104: =#REF! -> #REF! | I104: / | J104: =#REF! -> #REF! | K104: =신흥리집계표!K10 -> 0 | L104: / | M104: =신흥리집계표!M10 -> 0 | N104: =죽림리집계표!K10 -> 0 | O104: / | P104: =죽림리집계표!M10 -> 0 | R104: =IF(D104=(G104+J104+M104+P104),"ok","false") -> #REF!
A105: 구거 | B105: =SUM(E105,H105,K105,N105) -> #REF! | C105: / | D105: =SUM(G105,J105,M105,P105) -> #REF! | E105: ='마산리집계표(당초)'!K11 -> #REF! | F105: / | G105: ='마산리집계표(당초)'!M11 -> #REF! | H105: =#REF! -> #REF! | I105: / | J105: =#REF! -> #REF! | K105: =신흥리집계표!K11 -> 0 | L105: / | M105: =신흥리집계표!M11 -> 0 | N105: =죽림리집계표!K11 -> 0 | O105: / | P105: =죽림리집계표!M11 -> 0 | R105: =IF(D105=(G105+J105+M105+P105),"ok","false") -> #REF!
A106: 하천 | B106: =SUM(E106,H106,K106,N106) -> #REF! | C106: / | D106: =SUM(G106,J106,M106,P106) -> #REF! | E106: ='마산리집계표(당초)'!K12 -> #REF! | F106: / | G106: ='마산리집계표(당초)'!M12 -> #REF! | H106: =#REF! -> #REF! | I106: / | J106: =#REF! -> #REF! | K106: =신흥리집계표!K12 -> 0 | L106: / | M106: =신흥리집계표!M12 -> 0 | N106: =죽림리집계표!K12 -> 0 | O106: / | P106: =죽림리집계표!M12 -> 0 | R106: =IF(D106=(G106+J106+M106+P106),"ok","false") -> #REF!
A107: 유지 | B107: =SUM(E107,H107,K107,N107) -> #REF! | C107: / | D107: =SUM(G107,J107,M107,P107) -> #REF! | E107: ='마산리집계표(당초)'!K13 -> #REF! | F107: / | G107: ='마산리집계표(당초)'!M13 -> #REF! | H107: =#REF! -> #REF! | I107: / | J107: =#REF! -> #REF! | K107: =신흥리집계표!K13 -> 0 | L107: / | M107: =신흥리집계표!M13 -> 0 | N107: =죽림리집계표!K13 -> 0 | O107: / | P107: =죽림리집계표!M13 -> 0 | R107: =IF(D107=(G107+J107+M107+P107),"ok","false") -> #REF!
A108: 제방 | B108: =SUM(E108,H108,K108,N108) -> #REF! | C108: / | D108: =SUM(G108,J108,M108,P108) -> #REF! | E108: ='마산리집계표(당초)'!K14 -> #REF! | F108: / | G108: ='마산리집계표(당초)'!M14 -> #REF! | H108: =#REF! -> #REF! | I108: / | J108: =#REF! -> #REF! | K108: =신흥리집계표!K14 -> 0 | L108: / | M108: =신흥리집계표!M14 -> 0 | N108: =죽림리집계표!K14 -> 0 | O108: / | P108: =죽림리집계표!M14 -> 0 | R108: =IF(D108=(G108+J108+M108+P108),"ok","false") -> #REF!
A109: 과수원 | B109: =SUM(E109,H109,K109,N109) -> #REF! | C109: / | D109: =SUM(G109,J109,M109,P109) -> #REF! | E109: ='마산리집계표(당초)'!K15 -> #REF! | F109: / | G109: ='마산리집계표(당초)'!M15 -> #REF! | H109: =#REF! -> #REF! | I109: / | J109: =#REF! -> #REF! | K109: =신흥리집계표!K15 -> 0 | L109: / | M109: =신흥리집계표!M15 -> 0 | N109: =죽림리집계표!K15 -> 0 | O109: / | P109: =죽림리집계표!M15 -> 0 | R109: =IF(D109=(G109+J109+M109+P109),"ok","false") -> #REF!
A110: 공장 | B110: =SUM(E110,H110,K110,N110) -> #REF! | C110: / | D110: =SUM(G110,J110,M110,P110) -> #REF! | E110: ='마산리집계표(당초)'!K16 -> #REF! | F110: / | G110: ='마산리집계표(당초)'!M16 -> #REF! | H110: =#REF! -> #REF! | I110: / | J110: =#REF! -> #REF! | K110: =신흥리집계표!K16 -> 0 | L110: / | M110: =신흥리집계표!M16 -> 0 | N110: =죽림리집계표!K16 -> 0 | O110: / | P110: =죽림리집계표!M16 -> 0 | R110: =IF(D110=(G110+J110+M110+P110),"ok","false") -> #REF!
A111: 목장 | B111: =SUM(E111,H111,K111,N111) -> #REF! | C111: / | D111: =SUM(G111,J111,M111,P111) -> #REF! | E111: ='마산리집계표(당초)'!K17 -> #REF! | F111: / | G111: ='마산리집계표(당초)'!M17 -> #REF! | H111: =#REF! -> #REF! | I111: / | J111: =#REF! -> #REF! | K111: =신흥리집계표!K17 -> 0 | L111: / | M111: =신흥리집계표!M17 -> 0 | N111: =죽림리집계표!K17 -> 0 | O111: / | P111: =죽림리집계표!M17 -> 0 | R111: =IF(D111=(G111+J111+M111+P111),"ok","false") -> #REF!
... A124: 기타 | B124: =SUM(E124,H124,K124,N124) -> #REF! | C124: / | D124: =SUM(G124,J124,M124,P124) -> #REF! | E124: ='마산리집계표(당초)'!K30 -> #REF! | F124: / | G124: ='마산리집계표(당초)'!M30 -> #REF! | H124: =#REF! -> #REF! | I124: / | J124: =#REF! -> #REF! | K124: =신흥리집계표!K30 -> 0 | L124: / | M124: =신흥리집계표!M30 -> 0 | N124: =죽림리집계표!K30 -> 0 | O124: / | P124: =죽림리집계표!M30 -> 0 | R124: =IF(D124=(G124+J124+M124+P124),"ok","false") -> #REF!

Sheet 집계표(마산리)
A1: 용지조서 지목별 집계표(전체분)
H2: 경기도 포천시 가산면 마산리
A4: 구 분 | C4: 계 | F4: 국 유 지 | I4: 공 유 지 | L4: 사 유 지 | O4: 비고
V5: 비고
C6: 필지 | D6: / | E6: 면 적 (㎡) | F6: 필지 | G6: / | H6: 면 적 (㎡) | I6: 필지 | J6: / | K6: 면 적 (㎡) | L6: 필지 | M6: / | N6: 면 적 (㎡) | R6: ='마산리집계표(당초)'!D5+#REF! -> #REF!
A7: 계 | B7: 당초 | C7: ='마산리집계표(당초)'!B5 -> #REF! | D7: / | E7: ='마산리집계표(당초)'!G5 -> #REF! | F7: ='마산리집계표(당초)'!H5 -> #REF! | G7: / | H7: ='마산리집계표(당초)'!J5 -> #REF! | I7: ='마산리집계표(당초)'!H5 -> #REF! | J7: / | K7: ='마산리집계표(당초)'!J5 -> #REF! | L7: ='마산리집계표(당초)'!K5 -> #REF! | M7: / | N7: ='마산리집계표(당초)'!M5 -> #REF!
B8: 변경 | C8: ='마산리집계표 (변경)'!B5 -> #REF! | D8: / | E8: ='마산리집계표 (변경)'!D5 -> #REF! | F8: ='마산리집계표 (변경)'!E5 -> #REF! | G8: / | H8: ='마산리집계표 (변경)'!G5 -> #REF! | I8: ='마산리집계표 (변경)'!H5 -> #REF! | J8: / | K8: ='마산리집계표 (변경)'!J5 -> #REF! | L8: ='마산리집계표 (변경)'!K5 -> #REF! | M8: / | N8: ='마산리집계표 (변경)'!M5 -> #REF!
A9: 전 | B9: 당초 | D9: / | G9: / | J9: / | M9: /
B10: 변경 | D10: / | G10: / | J10: / | M10: /
A11: 답 | B11: 당초 | D11: / | G11: / | J11: / | M11: /
B12: 변경 | D12: / | G12: / | J12: / | M12: /
A13: 임야 | B13: 당초 | D13: / | G13: / | J13: / | M13: /
B14: 변경 | D14: / | G14: / | J14: / | M14: /
A15: 대지 | B15: 당초 | C15: ='마산리집계표(당초)'!B9 -> #REF! | D15: / | E15: ='마산리집계표(당초)'!D9 -> #REF! | F15: ='마산리집계표(당초)'!E9 -> #REF! | G15: / | H15: ='마산리집계표(당초)'!G9 -> #REF! | I15: ='마산리집계표(당초)'!H9 -> #REF! | J15: / | K15: ='마산리집계표(당초)'!J9 -> #REF! | L15: ='마산리집계표(당초)'!K9 -> #REF! | M15: / | N15: ='마산리집계표(당초)'!M9 -> #REF!
B16: 변경 | C16: ='마산리집계표 (변경)'!B9 -> #REF! | D16: / | E16: ='마산리집계표 (변경)'!D9 -> #REF! | F16: ='마산리집계표 (변경)'!E9 -> #REF! | G16: / | H16: ='마산리집계표 (변경)'!G9 -> #REF! | I16: ='마산리집계표 (변경)'!H9 -> #REF! | J16: / | K16: ='마산리집계표 (변경)'!J9 -> #REF! | L16: ='마산리집계표 (변경)'!K9 -> #REF! | M16: / | N16: ='마산리집계표 (변경)'!M9 -> #REF!
A17: 도로 | B17: 당초 | C17: ='마산리집계표(당초)'!B10 -> #REF! | D17: / | E17: ='마산리집계표(당초)'!D10 -> #REF! | F17: ='마산리집계표(당초)'!E10 -> #REF! | G17: / | H17: ='마산리집계표(당초)'!G10 -> #REF! | I17: ='마산리집계표(당초)'!H10 -> #REF! | J17: / | K17: ='마산리집계표(당초)'!J10 -> #REF! | L17: ='마산리집계표(당초)'!K10 -> #REF! | M17: / | N17: ='마산리집계표(당초)'!M10 -> #REF!
B18: 변경 | C18: ='마산리집계표 (변경)'!B10 -> #REF! | D18: / | E18: ='마산리집계표 (변경)'!D10 -> #REF! | F18: ='마산리집계표 (변경)'!E10 -> #REF! | G18: / | H18: ='마산리집계표 (변경)'!G10 -> #REF! | I18: ='마산리집계표 (변경)'!H10 -> #REF! | J18: / | K18: ='마산리집계표 (변경)'!J10 -> #REF! | L18: ='마산리집계표 (변경)'!K10 -> #REF! | M18: / | N18: ='마산리집계표 (변경)'!M10 -> #REF!
A19: 구거 | B19: 당초 | D19: / | G19: / | J19: / | M19: /
B20: 변경 | D20: / | G20: / | J20: / | M20: /
A21: 유지 | B21: 당초 | G21: / | J21: / | M21: /
B22: 변경 | D22: / | G22: / | J22: / | M22: /
A23: 학교 | B23: 당초 | C23: ='마산리집계표(당초)'!B18 -> #REF! | E23: ='마산리집계표(당초)'!D18 -> #REF! | G23: / | I23: ='마산리집계표(당초)'!H18 -> #REF! | J23: / | K23: ='마산리집계표(당초)'!J18 -> #REF! | M23: /
B24: 변경 | C24: ='마산리집계표 (변경)'!B18 -> #REF! | D24: / | E24: ='마산리집계표 (변경)'!D18 -> #REF! | G24: / | I24: ='마산리집계표 (변경)'!H18 -> #REF! | J24: / | K24: ='마산리집계표 (변경)'!J18 -> #REF! | M24: /
F26: .

Sheet 마산리집계표(당초)
A1: 편입용지 집계표(당초)
N2: 경기도 포천시 가산면 마산리
A3: 구분 | B3: 계 | E3: 국유지 | H3: 공유지 | K3: 사유지 | N3: 비고
B4: 필지 | C4: / | D4: 면적(㎡) | E4: 필지 | F4: / | G4: 면적(㎡) | H4: 필지 | I4: / | J4: 면적(㎡) | K4: 필지 | L4: / | M4: 면적(㎡)
A5: 계 | B5: =SUM(B6:B30) -> #REF! | C5: / | D5: =SUM(D6:D30) -> #REF! | E5: =SUM(E6:E30) -> #REF! | F5: / | G5: =SUM(G6:G30) -> #REF! | H5: =SUM(H6:H30) -> #REF! | I5: / | J5: =SUM(J6:J30) -> #REF! | K5: =SUM(K6:K30) -> #REF! | L5: / | M5: =SUM(M6:M30) -> #REF! | O5: =IF(D5=(G5+J5+M5),"ok","false") -> #REF! | Q5: 국 | R5: 공 | S5: 사
A6: 전 | B6: =COUNTIF(#REF!,P6) -> #REF! | C6: / | D6: =SUMIF(#REF!,P6,#REF!) -> #REF! | E6: =COUNTIF(#REF!,Q6) -> #REF! | F6: / | G6: =SUMIF(#REF!,Q6,#REF!) -> #REF! | H6: =COUNTIF(#REF!,R6) -> #REF! | I6: / | J6: =SUMIF(#REF!,R6,#REF!) -> #REF! | K6: =COUNTIF(#REF!,S6) -> #REF! | L6: / | M6: =SUMIF(#REF!,S6,#REF!) -> #REF! | O6: =IF(D6=(G6+J6+M6),"ok","false") -> #REF! | P6: 전 | Q6: =CONCATENATE($P6,Q$5) -> 전국 | R6: =CONCATENATE($P6,R$5) -> 전공 | S6: =CONCATENATE($P6,S$5) -> 전사
A7: 답 | B7: =COUNTIF(#REF!,P7) -> #REF! | C7: / | D7: =SUMIF(#REF!,P7,#REF!) -> #REF! | E7: =COUNTIF(#REF!,"답국") -> #REF! | F7: / | G7: =SUMIF(#REF!,Q7,#REF!) -> #REF! | H7: =COUNTIF(#REF!,R7) -> #REF! | I7: / | J7: =SUMIF(#REF!,R7,#REF!) -> #REF! | K7: =COUNTIF(#REF!,S7) -> #REF! | L7: / | M7: =SUMIF(#REF!,S7,#REF!) -> #REF! | O7: =IF(D7=(G7+J7+M7),"ok","false") -> #REF! | P7: 답 | Q7: =CONCATENATE($P7,Q$5) -> 답국 | R7: =CONCATENATE($P7,R$5) -> 답공 | S7: =CONCATENATE($P7,S$5) -> 답사
A8: 임야 | B8: =COUNTIF(#REF!,P8) -> #REF! | C8: / | D8: =SUMIF(#REF!,P8,#REF!) -> #REF! | E8: =COUNTIF(#REF!,"임국") -> #REF! | F8: / | G8: =SUMIF(#REF!,Q8,#REF!) -> #REF! | H8: =COUNTIF(#REF!,R8) -> #REF! | I8: / | J8: =SUMIF(#REF!,R8,#REF!) -> #REF! | K8: =COUNTIF(#REF!,S8) -> #REF! | L8: / | M8: =SUMIF(#REF!,S8,#REF!) -> #REF! | O8: =IF(D8=(G8+J8+M8),"ok","false") -> #REF! | P8: 임 | Q8: =CONCATENATE($P8,Q$5) -> 임국 | R8: =CONCATENATE($P8,R$5) -> 임공 | S8: =CONCATENATE($P8,S$5) -> 임사
A9: 대지 | B9: =COUNTIF(#REF!,P9) -> #REF! | C9: / | D9: =SUMIF(#REF!,P9,#REF!) -> #REF! | E9: =COUNTIF(#REF!,"대국") -> #REF! | F9: / | G9: =SUMIF(#REF!,Q9,#REF!) -> #REF! | H9: =COUNTIF(#REF!,R9) -> #REF! | I9: / | J9: =SUMIF(#REF!,R9,#REF!) -> #REF! | K9: =COUNTIF(#REF!,S9) -> #REF! | L9: / | M9: =SUMIF(#REF!,S9,#REF!) -> #REF! | O9: =IF(D9=(G9+J9+M9),"ok","false") -> #REF! | P9: 대 | Q9: =CONCATENATE($P9,Q$5) -> 대국 | R9: =CONCATENATE($P9,R$5) -> 대공 | S9: =CONCATENATE($P9,S$5) -> 대사
A10: 도로 | B10: =COUNTIF(#REF!,P10) -> #REF! | C10: / | D10: =SUMIF(#REF!,P10,#REF!) -> #REF! | E10: =COUNTIF(#REF!,"도국") -> #REF! | F10: / | G10: =SUMIF(#REF!,Q10,#REF!) -> #REF! | H10: =COUNTIF(#REF!,R10) -> #REF! | I10: / | J10: =SUMIF(#REF!,R10,#REF!) -> #REF! | K10: =COUNTIF(#REF!,S10) -> #REF! | L10: / | M10: =SUMIF(#REF!,S10,#REF!) -> #REF! | O10: =IF(D10=(G10+J10+M10),"ok","false") -> #REF! | P10: 도 | Q10: =CONCATENATE($P10,Q$5) -> 도국 | R10: =CONCATENATE($P10,R$5) -> 도공 | S10: =CONCATENATE($P10,S$5) -> 도사
A11: 구거 | B11: =COUNTIF(#REF!,P11) -> #REF! | C11: / | D11: =SUMIF(#REF!,P11,#REF!) -> #REF! | E11: =COUNTIF(#REF!,"구국") -> #REF! | F11: / | G11: =SUMIF(#REF!,Q11,#REF!) -> #REF! | H11: =COUNTIF(#REF!,R11) -> #REF! | I11: / | J11: =SUMIF(#REF!,R11,#REF!) -> #REF! | K11: =COUNTIF(#REF!,S11) -> #REF! | L11: / | M11: =SUMIF(#REF!,S11,#REF!) -> #REF! | O11: =IF(D11=(G11+J11+M11),"ok","false") -> #REF! | P11: 구 | Q11: =CONCATENATE($P11,Q$5) -> 구국 | R11: =CONCATENATE($P11,R$5) -> 구공 | S11: =CONCATENATE($P11,S$5) -> 구사
A12: 하천 | B12: =COUNTIF(#REF!,P12) -> #REF! | C12: / | D12: =SUMIF(#REF!,P12,#REF!) -> #REF! | E12: =COUNTIF(#REF!,"천국") -> #REF! | F12: / | G12: =SUMIF(#REF!,Q12,#REF!) -> #REF! | H12: =COUNTIF(#REF!,R12) -> #REF! | I12: / | J12: =SUMIF(#REF!,R12,#REF!) -> #REF! | K12: =COUNTIF(#REF!,S12) -> #REF! | L12: / | M12: =SUMIF(#REF!,S12,#REF!) -> #REF! | O12: =IF(D12=(G12+J12+M12),"ok","false") -> #REF! | P12: 천 | Q12: =CONCATENATE($P12,Q$5) -> 천국 | R12: =CONCATENATE($P12,R$5) -> 천공 | S12: =CONCATENATE($P12,S$5) -> 천사
A13: 유지 | B13: =COUNTIF(#REF!,P13) -> #REF! | C13: / | D13: =SUMIF(#REF!,P13,#REF!) -> #REF! | E13: =COUNTIF(#REF!,"유국") -> #REF! | F13: / | G13: =SUMIF(#REF!,Q13,#REF!) -> #REF! | H13: =COUNTIF(#REF!,R13) -> #REF! | I13: / | J13: =SUMIF(#REF!,R13,#REF!) -> #REF! | K13: =COUNTIF(#REF!,S13) -> #REF! | L13: / | M13: =SUMIF(#REF!,S13,#REF!) -> #REF! | O13: =IF(D13=(G13+J13+M13),"ok","false") -> #REF! | P13: 유 | Q13: =CONCATENATE($P13,Q$5) -> 유국 | R13: =CONCATENATE($P13,R$5) -> 유공 | S13: =CONCATENATE($P13,S$5) -> 유사
A14: 제방 | B14: =COUNTIF(#REF!,P14) -> #REF! | C14: / | D14: =SUMIF(#REF!,P14,#REF!) -> #REF! | E14: =COUNTIF(#REF!,"제국") -> #REF! | F14: / | G14: =SUMIF(#REF!,Q14,#REF!) -> #REF! | H14: =COUNTIF(#REF!,R14) -> #REF! | I14: / | J14: =SUMIF(#REF!,R14,#REF!) -> #REF! | K14: =COUNTIF(#REF!,S14) -> #REF! | L14: / | M14: =SUMIF(#REF!,S14,#REF!) -> #REF! | O14: =IF(D14=(G14+J14+M14),"ok","false") -> #REF! | P14: 제 | Q14: =CONCATENATE($P14,Q$5) -> 제국 | R14: =CONCATENATE($P14,R$5) -> 제공 | S14: =CONCATENATE($P14,S$5) -> 제사
A15: 과수원 | B15: =COUNTIF(#REF!,P15) -> #REF! | C15: / | D15: =SUMIF(#REF!,P15,#REF!) -> #REF! | E15: =COUNTIF(#REF!,"과국") -> #REF! | F15: / | G15: =SUMIF(#REF!,Q15,#REF!) -> #REF! | H15: =COUNTIF(#REF!,R15) -> #REF! | I15: / | J15: =SUMIF(#REF!,R15,#REF!) -> #REF! | K15: =COUNTIF(#REF!,S15) -> #REF! | L15: / | M15: =SUMIF(#REF!,S15,#REF!) -> #REF! | O15: =IF(D15=(G15+J15+M15),"ok","false") -> #REF! | P15: 과 | Q15: =CONCATENATE($P15,Q$5) -> 과국 | R15: =CONCATENATE($P15,R$5) -> 과공 | S15: =CONCATENATE($P15,S$5) -> 과사
A16: 공장 | B16: =COUNTIF(#REF!,P16) -> #REF! | C16: / | D16: =SUMIF(#REF!,P16,#REF!) -> #REF! | E16: =COUNTIF(#REF!,"장국") -> #REF! | F16: / | G16: =SUMIF(#REF!,Q16,#REF!) -> #REF! | H16: =COUNTIF(#REF!,R16) -> #REF! | I16: / | J16: =SUMIF(#REF!,R16,#REF!) -> #REF! | K16: =COUNTIF(#REF!,S16) -> #REF! | L16: / | M16: =SUMIF(#REF!,S16,#REF!) -> #REF! | O16: =IF(D16=(G16+J16+M16),"ok","false") -> #REF! | P16: 장 | Q16: =CONCATENATE($P16,Q$5) -> 장국 | R16: =CONCATENATE($P16,R$5) -> 장공 | S16: =CONCATENATE($P16,S$5) -> 장사
A17: 목장 | B17: =COUNTIF(#REF!,P17) -> #REF! | C17: / | D17: =SUMIF(#REF!,P17,#REF!) -> #REF! | E17: =COUNTIF(#REF!,"목국") -> #REF! | F17: / | G17: =SUMIF(#REF!,Q17,#REF!) -> #REF! | H17: =COUNTIF(#REF!,R17) -> #REF! | I17: / | J17: =SUMIF(#REF!,R17,#REF!) -> #REF! | K17: =COUNTIF(#REF!,S17) -> #REF! | L17: / | M17: =SUMIF(#REF!,S17,#REF!) -> #REF! | O17: =IF(D17=(G17+J17+M17),"ok","false") -> #REF! | P17: 목 | Q17: =CONCATENATE($P17,Q$5) -> 목국 | R17: =CONCATENATE($P17,R$5) -> 목공 | S17: =CONCATENATE($P17,S$5) -> 목사
A18: 학교용지 | B18: =COUNTIF(#REF!,P18) -> #REF! | C18: / | D18: =SUMIF(#REF!,P18,#REF!) -> #REF! | E18: =COUNTIF(#REF!,"학국") -> #REF! | F18: / | G18: =SUMIF(#REF!,Q18,#REF!) -> #REF! | H18: =COUNTIF(#REF!,R18) -> #REF! | I18: / | J18: =SUMIF(#REF!,R18,#REF!) -> #REF! | K18: =COUNTIF(#REF!,S18) -> #REF! | L18: / | M18: =SUMIF(#REF!,S18,#REF!) -> #REF! | O18: =IF(D18=(G18+J18+M18),"ok","false") -> #REF! | P18: 학 | Q18: =CONCATENATE($P18,Q$5) -> 학국 | R18: =CONCATENATE($P18,R$5) -> 학공 | S18: =CONCATENATE($P18,S$5) -> 학사
A19: 철도 | B19: =COUNTIF(#REF!,P19) -> #REF! | C19: / | D19: =SUMIF(#REF!,P19,#REF!) -> #REF! | E19: =COUNTIF(#REF!,"철국") -> #REF! | F19: / | G19: =SUMIF(#REF!,Q19,#REF!) -> #REF! | H19: =COUNTIF(#REF!,R19) -> #REF! | I19: / | J19: =SUMIF(#REF!,R19,#REF!) -> #REF! | K19: =COUNTIF(#REF!,S19) -> #REF! | L19: / | M19: =SUMIF(#REF!,S19,#REF!) -> #REF! | O19: =IF(D19=(G19+J19+M19),"ok","false") -> #REF! | P19: 철 | Q19: =CONCATENATE($P19,Q$5) -> 철국 | R19: =CONCATENATE($P19,R$5) -> 철공 | S19: =CONCATENATE($P19,S$5) -> 철사
A20: 묘지 | B20: =COUNTIF(#REF!,P20) -> #REF! | C20: / | D20: =SUMIF(#REF!,P20,#REF!) -> #REF! | E20: =COUNTIF(#REF!,"묘국") -> #REF! | F20: / | G20: =SUMIF(#REF!,Q20,#REF!) -> #REF! | H20: =COUNTIF(#REF!,R20) -> #REF! | I20: / | J20: =SUMIF(#REF!,R20,#REF!) -> #REF! | K20: =COUNTIF(#REF!,S20) -> #REF! | L20: / | M20: =SUMIF(#REF!,S20,#REF!) -> #REF! | O20: =IF(D20=(G20+J20+M20),"ok","false") -> #REF! | P20: 묘 | Q20: =CONCATENATE($P20,Q$5) -> 묘국 | R20: =CONCATENATE($P20,R$5) -> 묘공 | S20: =CONCATENATE($P20,S$5) -> 묘사
A21: 수도 | B21: =COUNTIF(#REF!,P21) -> #REF! | C21: / | D21: =SUMIF(#REF!,P21,#REF!) -> #REF! | E21: =COUNTIF(#REF!,"수국") -> #REF! | F21: / | G21: =SUMIF(#REF!,Q21,#REF!) -> #REF! | H21: =COUNTIF(#REF!,R21) -> #REF! | I21: / | J21: =SUMIF(#REF!,R21,#REF!) -> #REF! | K21: =COUNTIF(#REF!,S21) -> #REF! | L21: / | M21: =SUMIF(#REF!,S21,#REF!) -> #REF! | O21: =IF(D21=(G21+J21+M21),"ok","false") -> #REF! | P21: 수 | Q21: =CONCATENATE($P21,Q$5) -> 수국 | R21: =CONCATENATE($P21,R$5) -> 수공 | S21: =CONCATENATE($P21,S$5) -> 수사
A22: 잡종지 | B22: =COUNTIF(#REF!,P22) -> #REF! | C22: / | D22: =SUMIF(#REF!,P22,#REF!) -> #REF! | E22: =COUNTIF(#REF!,"잡국") -> #REF! | F22: / | G22: =SUMIF(#REF!,Q22,#REF!) -> #REF! | H22: =COUNTIF(#REF!,R22) -> #REF! | I22: / | J22: =SUMIF(#REF!,R22,#REF!) -> #REF! | K22: =COUNTIF(#REF!,S22) -> #REF! | L22: / | M22: =SUMIF(#REF!,S22,#REF!) -> #REF! | O22: =IF(D22=(G22+J22+M22),"ok","false") -> #REF! | P22: 잡 | Q22: =CONCATENATE($P22,Q$5) -> 잡국 | R22: =CONCATENATE($P22,R$5) -> 잡공 | S22: =CONCATENATE($P22,S$5) -> 잡사
A23: 종교 | B23: =COUNTIF(#REF!,P23) -> #REF! | C23: / | D23: =SUMIF(#REF!,P23,#REF!) -> #REF! | E23: =COUNTIF(#REF!,"종국") -> #REF! | F23: / | G23: =SUMIF(#REF!,Q23,#REF!) -> #REF! | H23: =COUNTIF(#REF!,R23) -> #REF! | I23: / | J23: =SUMIF(#REF!,R23,#REF!) -> #REF! | K23: =COUNTIF(#REF!,S23) -> #REF! | L23: / | M23: =SUMIF(#REF!,S23,#REF!) -> #REF! | O23: =IF(D23=(G23+J23+M23),"ok","false") -> #REF! | P23: 종 | Q23: =CONCATENATE($P23,Q$5) -> 종국 | R23: =CONCATENATE($P23,R$5) -> 종공 | S23: =CONCATENATE($P23,S$5) -> 종사
A24: 염전 | B24: =COUNTIF(#REF!,P24) -> #REF! | C24: / | D24: =SUMIF(#REF!,P24,#REF!) -> #REF! | E24: =COUNTIF(#REF!,"염국") -> #REF! | F24: / | G24: =SUMIF(#REF!,Q24,#REF!) -> #REF! | H24: =COUNTIF(#REF!,R24) -> #REF! | I24: / | J24: =SUMIF(#REF!,R24,#REF!) -> #REF! | K24: =COUNTIF(#REF!,S24) -> #REF! | L24: / | M24: =SUMIF(#REF!,S24,#REF!) -> #REF! | O24: =IF(D24=(G24+J24+M24),"ok","false") -> #REF! | P24: 염 | Q24: =CONCATENATE($P24,Q$5) -> 염국 | R24: =CONCATENATE($P24,R$5) -> 염공 | S24: =CONCATENATE($P24,S$5) -> 염사
A25: 공원 | B25: =COUNTIF(#REF!,P25) -> #REF! | C25: / | D25: =SUMIF(#REF!,P25,#REF!) -> #REF! | E25: =COUNTIF(#REF!,"공국") -> #REF! | F25: / | G25: =SUMIF(#REF!,Q25,#REF!) -> #REF! | H25: =COUNTIF(#REF!,R25) -> #REF! | I25: / | J25: =SUMIF(#REF!,R25,#REF!) -> #REF! | K25: =COUNTIF(#REF!,S25) -> #REF! | L25: / | M25: =SUMIF(#REF!,S25,#REF!) -> #REF! | O25: =IF(D25=(G25+J25+M25),"ok","false") -> #REF! | P25: 공 | Q25: =CONCATENATE($P25,Q$5) -> 공국 | R25: =CONCATENATE($P25,R$5) -> 공공 | S25: =CONCATENATE($P25,S$5) -> 공사
A26: 체육 | B26: =COUNTIF(#REF!,P26) -> #REF! | C26: / | D26: =SUMIF(#REF!,P26,#REF!) -> #REF! | E26: =COUNTIF(#REF!,"체국") -> #REF! | F26: / | G26: =SUMIF(#REF!,Q26,#REF!) -> #REF! | H26: =COUNTIF(#REF!,R26) -> #REF! | I26: / | J26: =SUMIF(#REF!,R26,#REF!) -> #REF! | K26: =COUNTIF(#REF!,S26) -> #REF! | L26: / | M26: =SUMIF(#REF!,S26,#REF!) -> #REF! | O26: =IF(D26=(G26+J26+M26),"ok","false") -> #REF! | P26: 체 | Q26: =CONCATENATE($P26,Q$5) -> 체국 | R26: =CONCATENATE($P26,R$5) -> 체공 | S26: =CONCATENATE($P26,S$5) -> 체사
A27: 주차장 | B27: =COUNTIF(#REF!,P27) -> #REF! | C27: / | D27: =SUMIF(#REF!,P27,#REF!) -> #REF! | E27: =COUNTIF(#REF!,"차국") -> #REF! | F27: / | G27: =SUMIF(#REF!,Q27,#REF!) -> #REF! | H27: =COUNTIF(#REF!,R27) -> #REF! | I27: / | J27: =SUMIF(#REF!,R27,#REF!) -> #REF! | K27: =COUNTIF(#REF!,S27) -> #REF! | L27: / | M27: =SUMIF(#REF!,S27,#REF!) -> #REF! | O27: =IF(D27=(G27+J27+M27),"ok","false") -> #REF! | P27: 차 | Q27: =CONCATENATE($P27,Q$5) -> 차국 | R27: =CONCATENATE($P27,R$5) -> 차공 | S27: =CONCATENATE($P27,S$5) -> 차사
A28: 주유소 | B28: =COUNTIF(#REF!,P28) -> #REF! | C28: / | D28: =SUMIF(#REF!,P28,#REF!) -> #REF! | E28: =COUNTIF(#REF!,"주국") -> #REF! | F28: / | G28: =SUMIF(#REF!,Q28,#REF!) -> #REF! | H28: =COUNTIF(#REF!,R28) -> #REF! | I28: / | J28: =SUMIF(#REF!,R28,#REF!) -> #REF! | K28: =COUNTIF(#REF!,S28) -> #REF! | L28: / | M28: =SUMIF(#REF!,S28,#REF!) -> #REF! | O28: =IF(D28=(G28+J28+M28),"ok","false") -> #REF! | P28: 주 | Q28: =CONCATENATE($P28,Q$5) -> 주국 | R28: =CONCATENATE($P28,R$5) -> 주공 | S28: =CONCATENATE($P28,S$5) -> 주사
A29: 창고용지 | B29: =COUNTIF(#REF!,P29) -> #REF! | C29: / | D29: =SUMIF(#REF!,P29,#REF!) -> #REF! | E29: =COUNTIF(#REF!,"창국") -> #REF! | F29: / | G29: =SUMIF(#REF!,Q29,#REF!) -> #REF! | H29: =COUNTIF(#REF!,R29) -> #REF! | I29: / | J29: =SUMIF(#REF!,R29,#REF!) -> #REF! | K29: =COUNTIF(#REF!,S29) -> #REF! | L29: / | M29: =SUMIF(#REF!,S29,#REF!) -> #REF! | O29: =IF(D29=(G29+J29+M29),"ok","false") -> #REF! | P29: 창 | Q29: =CONCATENATE($P29,Q$5) -> 창국 | R29: =CONCATENATE($P29,R$5) -> 창공 | S29: =CONCATENATE($P29,S$5) -> 창사
A30: 기타 | B30: =COUNTIF(#REF!,P30) -> #REF! | C30: / | D30: =SUMIF(#REF!,P30,#REF!) -> #REF! | E30: =COUNTIF(#REF!,"가국") -> #REF! | F30: / | G30: =SUMIF(#REF!,Q30,#REF!) -> #REF! | H30: =COUNTIF(#REF!,R30) -> #REF! | I30: / | J30: =SUMIF(#REF!,R30,#REF!) -> #REF! | K30: =COUNTIF(#REF!,S30) -> #REF! | L30: / | M30: =SUMIF(#REF!,S30,#REF!) -> #REF! | O30: =IF(D30=(G30+J30+M30),"ok","false") -> #REF! | P30: 가 | Q30: =CONCATENATE($P30,Q$5) -> 가국 | R30: =CONCATENATE($P30,R$5) -> 가공 | S30: =CONCATENATE($P30,S$5) -> 가사

Sheet 마산리집계표 (변경)
A1: 편입용지 집계표(변경)
N2: 경기도 포천시 가산면 마산리
A3: 구분 | B3: 계 | E3: 국유지 | H3: 공유지 | K3: 사유지 | N3: 비고
B4: 필지 | C4: / | D4: 면적(㎡) | E4: 필지 | F4: / | G4: 면적(㎡) | H4: 필지 | I4: / | J4: 면적(㎡) | K4: 필지 | L4: / | M4: 면적(㎡)
A5: 계 | B5: =SUM(B6:B30) -> #REF! | C5: / | D5: =SUM(D6:D30) -> #REF! | E5: =SUM(E6:E30) -> #REF! | F5: / | G5: =SUM(G6:G30) -> #REF! | H5: =SUM(H6:H30) -> #REF! | I5: / | J5: =SUM(J6:J30) -> #REF! | K5: =SUM(K6:K30) -> #REF! | L5: / | M5: =SUM(M6:M30) -> #REF! | O5: =IF(D5=(G5+J5+M5),"ok","false") -> #REF! | Q5: 국 | R5: 공 | S5: 사
A6: 전 | B6: =COUNTIF(#REF!,P6) -> #REF! | C6: / | D6: =SUMIF(#REF!,P6,#REF!) -> #REF! | E6: =COUNTIF(#REF!,Q6) -> #REF! | F6: / | G6: =SUMIF(#REF!,Q6,#REF!) -> #REF! | H6: =COUNTIF(#REF!,R6) -> #REF! | I6: / | J6: =SUMIF(#REF!,R6,#REF!) -> #REF! | K6: =COUNTIF(#REF!,S6) -> #REF! | L6: / | M6: =SUMIF(#REF!,S6,#REF!) -> #REF! | O6: =IF(D6=(G6+J6+M6),"ok","false") -> #REF! | P6: 전 | Q6: =CONCATENATE($P6,Q$5) -> 전국 | R6: =CONCATENATE($P6,R$5) -> 전공 | S6: =CONCATENATE($P6,S$5) -> 전사
A7: 답 | B7: =COUNTIF(#REF!,P7) -> #REF! | C7: / | D7: =SUMIF(#REF!,P7,#REF!) -> #REF! | E7: =COUNTIF(#REF!,"답국") -> #REF! | F7: / | G7: =SUMIF(#REF!,Q7,#REF!) -> #REF! | H7: =COUNTIF(#REF!,R7) -> #REF! | I7: / | J7: =SUMIF(#REF!,R7,#REF!) -> #REF! | K7: =COUNTIF(#REF!,S7) -> #REF! | L7: / | M7: =SUMIF(#REF!,S7,#REF!) -> #REF! | O7: =IF(D7=(G7+J7+M7),"ok","false") -> #REF! | P7: 답 | Q7: =CONCATENATE($P7,Q$5) -> 답국 | R7: =CONCATENATE($P7,R$5) -> 답공 | S7: =CONCATENATE($P7,S$5) -> 답사
A8: 임야 | B8: =COUNTIF(#REF!,P8) -> #REF! | C8: / | D8: =SUMIF(#REF!,P8,#REF!) -> #REF! | E8: =COUNTIF(#REF!,"임국") -> #REF! | F8: / | G8: =SUMIF(#REF!,Q8,#REF!) -> #REF! | H8: =COUNTIF(#REF!,R8) -> #REF! | I8: / | J8: =SUMIF(#REF!,R8,#REF!) -> #REF! | K8: =COUNTIF(#REF!,S8) -> #REF! | L8: / | M8: =SUMIF(#REF!,S8,#REF!) -> #REF! | O8: =IF(D8=(G8+J8+M8),"ok","false") -> #REF! | P8: 임 | Q8: =CONCATENATE($P8,Q$5) -> 임국 | R8: =CONCATENATE($P8,R$5) -> 임공 | S8: =CONCATENATE($P8,S$5) -> 임사
A9: 대지 | B9: =COUNTIF(#REF!,P9) -> #REF! | C9: / | D9: =SUMIF(#REF!,P9,#REF!) -> #REF! | E9: =COUNTIF(#REF!,"대국") -> #REF! | F9: / | G9: =SUMIF(#REF!,Q9,#REF!) -> #REF! | H9: =COUNTIF(#REF!,R9) -> #REF! | I9: / | J9: =SUMIF(#REF!,R9,#REF!) -> #REF! | K9: =COUNTIF(#REF!,S9) -> #REF! | L9: / | M9: =SUMIF(#REF!,S9,#REF!) -> #REF! | O9: =IF(D9=(G9+J9+M9),"ok","false") -> #REF! | P9: 대 | Q9: =CONCATENATE($P9,Q$5) -> 대국 | R9: =CONCATENATE($P9,R$5) -> 대공 | S9: =CONCATENATE($P9,S$5) -> 대사
A10: 도로 | B10: =COUNTIF(#REF!,P10) -> #REF! | C10: / | D10: =SUMIF(#REF!,P10,#REF!) -> #REF! | E10: =COUNTIF(#REF!,"도국") -> #REF! | F10: / | G10: =SUMIF(#REF!,Q10,#REF!) -> #REF! | H10: =COUNTIF(#REF!,R10) -> #REF! | I10: / | J10: =SUMIF(#REF!,R10,#REF!) -> #REF! | K10: =COUNTIF(#REF!,S10) -> #REF! | L10: / | M10: =SUMIF(#REF!,S10,#REF!) -> #REF! | O10: =IF(D10=(G10+J10+M10),"ok","false") -> #REF! | P10: 도 | Q10: =CONCATENATE($P10,Q$5) -> 도국 | R10: =CONCATENATE($P10,R$5) -> 도공 | S10: =CONCATENATE($P10,S$5) -> 도사
A11: 구거 | B11: =COUNTIF(#REF!,P11) -> #REF! | C11: / | D11: =SUMIF(#REF!,P11,#REF!) -> #REF! | E11: =COUNTIF(#REF!,"구국") -> #REF! | F11: / | G11: =SUMIF(#REF!,Q11,#REF!) -> #REF! | H11: =COUNTIF(#REF!,R11) -> #REF! | I11: / | J11: =SUMIF(#REF!,R11,#REF!) -> #REF! | K11: =COUNTIF(#REF!,S11) -> #REF! | L11: / | M11: =SUMIF(#REF!,S11,#REF!) -> #REF! | O11: =IF(D11=(G11+J11+M11),"ok","false") -> #REF! | P11: 구 | Q11: =CONCATENATE($P11,Q$5) -> 구국 | R11: =CONCATENATE($P11,R$5) -> 구공 | S11: =CONCATENATE($P11,S$5) -> 구사
A12: 하천 | B12: =COUNTIF(#REF!,P12) -> #REF! | C12: / | D12: =SUMIF(#REF!,P12,#REF!) -> #REF! | E12: =COUNTIF(#REF!,"천국") -> #REF! | F12: / | G12: =SUMIF(#REF!,Q12,#REF!) -> #REF! | H12: =COUNTIF(#REF!,R12) -> #REF! | I12: / | J12: =SUMIF(#REF!,R12,#REF!) -> #REF! | K12: =COUNTIF(#REF!,S12) -> #REF! | L12: / | M12: =SUMIF(#REF!,S12,#REF!) -> #REF! | O12: =IF(D12=(G12+J12+M12),"ok","false") -> #REF! | P12: 천 | Q12: =CONCATENATE($P12,Q$5) -> 천국 | R12: =CONCATENATE($P12,R$5) -> 천공 | S12: =CONCATENATE($P12,S$5) -> 천사
A13: 유지 | B13: =COUNTIF(#REF!,P13) -> #REF! | C13: / | D13: =SUMIF(#REF!,P13,#REF!) -> #REF! | E13: =COUNTIF(#REF!,"유국") -> #REF! | F13: / | G13: =SUMIF(#REF!,Q13,#REF!) -> #REF! | H13: =COUNTIF(#REF!,R13) -> #REF! | I13: / | J13: =SUMIF(#REF!,R13,#REF!) -> #REF! | K13: =COUNTIF(#REF!,S13) -> #REF! | L13: / | M13: =SUMIF(#REF!,S13,#REF!) -> #REF! | O13: =IF(D13=(G13+J13+M13),"ok","false") -> #REF! | P13: 유 | Q13: =CONCATENATE($P13,Q$5) -> 유국 | R13: =CONCATENATE($P13,R$5) -> 유공 | S13: =CONCATENATE($P13,S$5) -> 유사
A14: 제방 | B14: =COUNTIF(#REF!,P14) -> #REF! | C14: / | D14: =SUMIF(#REF!,P14,#REF!) -> #REF! | E14: =COUNTIF(#REF!,"제국") -> #REF! | F14: / | G14: =SUMIF(#REF!,Q14,#REF!) -> #REF! | H14: =COUNTIF(#REF!,R14) -> #REF! | I14: / | J14: =SUMIF(#REF!,R14,#REF!) -> #REF! | K14: =COUNTIF(#REF!,S14) -> #REF! | L14: / | M14: =SUMIF(#REF!,S14,#REF!) -> #REF! | O14: =IF(D14=(G14+J14+M14),"ok","false") -> #REF! | P14: 제 | Q14: =CONCATENATE($P14,Q$5) -> 제국 | R14: =CONCATENATE($P14,R$5) -> 제공 | S14: =CONCATENATE($P14,S$5) -> 제사
A15: 과수원 | B15: =COUNTIF(#REF!,P15) -> #REF! | C15: / | D15: =SUMIF(#REF!,P15,#REF!) -> #REF! | E15: =COUNTIF(#REF!,"과국") -> #REF! | F15: / | G15: =SUMIF(#REF!,Q15,#REF!) -> #REF! | H15: =COUNTIF(#REF!,R15) -> #REF! | I15: / | J15: =SUMIF(#REF!,R15,#REF!) -> #REF! | K15: =COUNTIF(#REF!,S15) -> #REF! | L15: / | M15: =SUMIF(#REF!,S15,#REF!) -> #REF! | O15: =IF(D15=(G15+J15+M15),"ok","false") -> #REF! | P15: 과 | Q15: =CONCATENATE($P15,Q$5) -> 과국 | R15: =CONCATENATE($P15,R$5) -> 과공 | S15: =CONCATENATE($P15,S$5) -> 과사
A16: 공장 | B16: =COUNTIF(#REF!,P16) -> #REF! | C16: / | D16: =SUMIF(#REF!,P16,#REF!) -> #REF! | E16: =COUNTIF(#REF!,"장국") -> #REF! | F16: / | G16: =SUMIF(#REF!,Q16,#REF!) -> #REF! | H16: =COUNTIF(#REF!,R16) -> #REF! | I16: / | J16: =SUMIF(#REF!,R16,#REF!) -> #REF! | K16: =COUNTIF(#REF!,S16) -> #REF! | L16: / | M16: =SUMIF(#REF!,S16,#REF!) -> #REF! | O16: =IF(D16=(G16+J16+M16),"ok","false") -> #REF! | P16: 장 | Q16: =CONCATENATE($P16,Q$5) -> 장국 | R16: =CONCATENATE($P16,R$5) -> 장공 | S16: =CONCATENATE($P16,S$5) -> 장사
A17: 목장 | B17: =COUNTIF(#REF!,P17) -> #REF! | C17: / | D17: =SUMIF(#REF!,P17,#REF!) -> #REF! | E17: =COUNTIF(#REF!,"목국") -> #REF! | F17: / | G17: =SUMIF(#REF!,Q17,#REF!) -> #REF! | H17: =COUNTIF(#REF!,R17) -> #REF! | I17: / | J17: =SUMIF(#REF!,R17,#REF!) -> #REF! | K17: =COUNTIF(#REF!,S17) -> #REF! | L17: / | M17: =SUMIF(#REF!,S17,#REF!) -> #REF! | O17: =IF(D17=(G17+J17+M17),"ok","false") -> #REF! | P17: 목 | Q17: =CONCATENATE($P17,Q$5) -> 목국 | R17: =CONCATENATE($P17,R$5) -> 목공 | S17: =CONCATENATE($P17,S$5) -> 목사
A18: 학교용지 | B18: =COUNTIF(#REF!,P18) -> #REF! | C18: / | D18: =SUMIF(#REF!,P18,#REF!) -> #REF! | E18: =COUNTIF(#REF!,"학국") -> #REF! | F18: / | G18: =SUMIF(#REF!,Q18,#REF!) -> #REF! | H18: =COUNTIF(#REF!,R18) -> #REF! | I18: / | J18: =SUMIF(#REF!,R18,#REF!) -> #REF! | K18: =COUNTIF(#REF!,S18) -> #REF! | L18: / | M18: =SUMIF(#REF!,S18,#REF!) -> #REF! | O18: =IF(D18=(G18+J18+M18),"ok","false") -> #REF! | P18: 학 | Q18: =CONCATENATE($P18,Q$5) -> 학국 | R18: =CONCATENATE($P18,R$5) -> 학공 | S18: =CONCATENATE($P18,S$5) -> 학사
A19: 철도 | B19: =COUNTIF(#REF!,P19) -> #REF! | C19: / | D19: =SUMIF(#REF!,P19,#REF!) -> #REF! | E19: =COUNTIF(#REF!,"철국") -> #REF! | F19: / | G19: =SUMIF(#REF!,Q19,#REF!) -> #REF! | H19: =COUNTIF(#REF!,R19) -> #REF! | I19: / | J19: =SUMIF(#REF!,R19,#REF!) -> #REF! | K19: =COUNTIF(#REF!,S19) -> #REF! | L19: / | M19: =SUMIF(#REF!,S19,#REF!) -> #REF! | O19: =IF(D19=(G19+J19+M19),"ok","false") -> #REF! | P19: 철 | Q19: =CONCATENATE($P19,Q$5) -> 철국 | R19: =CONCATENATE($P19,R$5) -> 철공 | S19: =CONCATENATE($P19,S$5) -> 철사
A20: 묘지 | B20: =COUNTIF(#REF!,P20) -> #REF! | C20: / | D20: =SUMIF(#REF!,P20,#REF!) -> #REF! | E20: =COUNTIF(#REF!,"묘국") -> #REF! | F20: / | G20: =SUMIF(#REF!,Q20,#REF!) -> #REF! | H20: =COUNTIF(#REF!,R20) -> #REF! | I20: / | J20: =SUMIF(#REF!,R20,#REF!) -> #REF! | K20: =COUNTIF(#REF!,S20) -> #REF! | L20: / | M20: =SUMIF(#REF!,S20,#REF!) -> #REF! | O20: =IF(D20=(G20+J20+M20),"ok","false") -> #REF! | P20: 묘 | Q20: =CONCATENATE($P20,Q$5) -> 묘국 | R20: =CONCATENATE($P20,R$5) -> 묘공 | S20: =CONCATENATE($P20,S$5) -> 묘사
A21: 수도 | B21: =COUNTIF(#REF!,P21) -> #REF! | C21: / | D21: =SUMIF(#REF!,P21,#REF!) -> #REF! | E21: =COUNTIF(#REF!,"수국") -> #REF! | F21: / | G21: =SUMIF(#REF!,Q21,#REF!) -> #REF! | H21: =COUNTIF(#REF!,R21) -> #REF! | I21: / | J21: =SUMIF(#REF!,R21,#REF!) -> #REF! | K21: =COUNTIF(#REF!,S21) -> #REF! | L21: / | M21: =SUMIF(#REF!,S21,#REF!) -> #REF! | O21: =IF(D21=(G21+J21+M21),"ok","false") -> #REF! | P21: 수 | Q21: =CONCATENATE($P21,Q$5) -> 수국 | R21: =CONCATENATE($P21,R$5) -> 수공 | S21: =CONCATENATE($P21,S$5) -> 수사
A22: 잡종지 | B22: =COUNTIF(#REF!,P22) -> #REF! | C22: / | D22: =SUMIF(#REF!,P22,#REF!) -> #REF! | E22: =COUNTIF(#REF!,"잡국") -> #REF! | F22: / | G22: =SUMIF(#REF!,Q22,#REF!) -> #REF! | H22: =COUNTIF(#REF!,R22) -> #REF! | I22: / | J22: =SUMIF(#REF!,R22,#REF!) -> #REF! | K22: =COUNTIF(#REF!,S22) -> #REF! | L22: / | M22: =SUMIF(#REF!,S22,#REF!) -> #REF! | O22: =IF(D22=(G22+J22+M22),"ok","false") -> #REF! | P22: 잡 | Q22: =CONCATENATE($P22,Q$5) -> 잡국 | R22: =CONCATENATE($P22,R$5) -> 잡공 | S22: =CONCATENATE($P22,S$5) -> 잡사
A23: 종교 | B23: =COUNTIF(#REF!,P23) -> #REF! | C23: / | D23: =SUMIF(#REF!,P23,#REF!) -> #REF! | E23: =COUNTIF(#REF!,"종국") -> #REF! | F23: / | G23: =SUMIF(#REF!,Q23,#REF!) -> #REF! | H23: =COUNTIF(#REF!,R23) -> #REF! | I23: / | J23: =SUMIF(#REF!,R23,#REF!) -> #REF! | K23: =COUNTIF(#REF!,S23) -> #REF! | L23: / | M23: =SUMIF(#REF!,S23,#REF!) -> #REF! | O23: =IF(D23=(G23+J23+M23),"ok","false") -> #REF! | P23: 종 | Q23: =CONCATENATE($P23,Q$5) -> 종국 | R23: =CONCATENATE($P23,R$5) -> 종공 | S23: =CONCATENATE($P23,S$5) -> 종사
A24: 염전 | B24: =COUNTIF(#REF!,P24) -> #REF! | C24: / | D24: =SUMIF(#REF!,P24,#REF!) -> #REF! | E24: =COUNTIF(#REF!,"염국") -> #REF! | F24: / | G24: =SUMIF(#REF!,Q24,#REF!) -> #REF! | H24: =COUNTIF(#REF!,R24) -> #REF! | I24: / | J24: =SUMIF(#REF!,R24,#REF!) -> #REF! | K24: =COUNTIF(#REF!,S24) -> #REF! | L24: / | M24: =SUMIF(#REF!,S24,#REF!) -> #REF! | O24: =IF(D24=(G24+J24+M24),"ok","false") -> #REF! | P24: 염 | Q24: =CONCATENATE($P24,Q$5) -> 염국 | R24: =CONCATENATE($P24,R$5) -> 염공 | S24: =CONCATENATE($P24,S$5) -> 염사
A25: 공원 | B25: =COUNTIF(#REF!,P25) -> #REF! | C25: / | D25: =SUMIF(#REF!,P25,#REF!) -> #REF! | E25: =COUNTIF(#REF!,"공국") -> #REF! | F25: / | G25: =SUMIF(#REF!,Q25,#REF!) -> #REF! | H25: =COUNTIF(#REF!,R25) -> #REF! | I25: / | J25: =SUMIF(#REF!,R25,#REF!) -> #REF! | K25: =COUNTIF(#REF!,S25) -> #REF! | L25: / | M25: =SUMIF(#REF!,S25,#REF!) -> #REF! | O25: =IF(D25=(G25+J25+M25),"ok","false") -> #REF! | P25: 공 | Q25: =CONCATENATE($P25,Q$5) -> 공국 | R25: =CONCATENATE($P25,R$5) -> 공공 | S25: =CONCATENATE($P25,S$5) -> 공사
A26: 체육 | B26: =COUNTIF(#REF!,P26) -> #REF! | C26: / | D26: =SUMIF(#REF!,P26,#REF!) -> #REF! | E26: =COUNTIF(#REF!,"체국") -> #REF! | F26: / | G26: =SUMIF(#REF!,Q26,#REF!) -> #REF! | H26: =COUNTIF(#REF!,R26) -> #REF! | I26: / | J26: =SUMIF(#REF!,R26,#REF!) -> #REF! | K26: =COUNTIF(#REF!,S26) -> #REF! | L26: / | M26: =SUMIF(#REF!,S26,#REF!) -> #REF! | O26: =IF(D26=(G26+J26+M26),"ok","false") -> #REF! | P26: 체 | Q26: =CONCATENATE($P26,Q$5) -> 체국 | R26: =CONCATENATE($P26,R$5) -> 체공 | S26: =CONCATENATE($P26,S$5) -> 체사
A27: 주차장 | B27: =COUNTIF(#REF!,P27) -> #REF! | C27: / | D27: =SUMIF(#REF!,P27,#REF!) -> #REF! | E27: =COUNTIF(#REF!,"차국") -> #REF! | F27: / | G27: =SUMIF(#REF!,Q27,#REF!) -> #REF! | H27: =COUNTIF(#REF!,R27) -> #REF! | I27: / | J27: =SUMIF(#REF!,R27,#REF!) -> #REF! | K27: =COUNTIF(#REF!,S27) -> #REF! | L27: / | M27: =SUMIF(#REF!,S27,#REF!) -> #REF! | O27: =IF(D27=(G27+J27+M27),"ok","false") -> #REF! | P27: 차 | Q27: =CONCATENATE($P27,Q$5) -> 차국 | R27: =CONCATENATE($P27,R$5) -> 차공 | S27: =CONCATENATE($P27,S$5) -> 차사
A28: 주유소 | B28: =COUNTIF(#REF!,P28) -> #REF! | C28: / | D28: =SUMIF(#REF!,P28,#REF!) -> #REF! | E28: =COUNTIF(#REF!,"주국") -> #REF! | F28: / | G28: =SUMIF(#REF!,Q28,#REF!) -> #REF! | H28: =COUNTIF(#REF!,R28) -> #REF! | I28: / | J28: =SUMIF(#REF!,R28,#REF!) -> #REF! | K28: =COUNTIF(#REF!,S28) -> #REF! | L28: / | M28: =SUMIF(#REF!,S28,#REF!) -> #REF! | O28: =IF(D28=(G28+J28+M28),"ok","false") -> #REF! | P28: 주 | Q28: =CONCATENATE($P28,Q$5) -> 주국 | R28: =CONCATENATE($P28,R$5) -> 주공 | S28: =CONCATENATE($P28,S$5) -> 주사
A29: 창고용지 | B29: =COUNTIF(#REF!,P29) -> #REF! | C29: / | D29: =SUMIF(#REF!,P29,#REF!) -> #REF! | E29: =COUNTIF(#REF!,"창국") -> #REF! | F29: / | G29: =SUMIF(#REF!,Q29,#REF!) -> #REF! | H29: =COUNTIF(#REF!,R29) -> #REF! | I29: / | J29: =SUMIF(#REF!,R29,#REF!) -> #REF! | K29: =COUNTIF(#REF!,S29) -> #REF! | L29: / | M29: =SUMIF(#REF!,S29,#REF!) -> #REF! | O29: =IF(D29=(G29+J29+M29),"ok","false") -> #REF! | P29: 창 | Q29: =CONCATENATE($P29,Q$5) -> 창국 | R29: =CONCATENATE($P29,R$5) -> 창공 | S29: =CONCATENATE($P29,S$5) -> 창사
A30: 기타 | B30: =COUNTIF(#REF!,P30) -> #REF! | C30: / | D30: =SUMIF(#REF!,P30,#REF!) -> #REF! | E30: =COUNTIF(#REF!,"가국") -> #REF! | F30: / | G30: =SUMIF(#REF!,Q30,#REF!) -> #REF! | H30: =COUNTIF(#REF!,R30) -> #REF! | I30: / | J30: =SUMIF(#REF!,R30,#REF!) -> #REF! | K30: =COUNTIF(#REF!,S30) -> #REF! | L30: / | M30: =SUMIF(#REF!,S30,#REF!) -> #REF! | O30: =IF(D30=(G30+J30+M30),"ok","false") -> #REF! | P30: 가 | Q30: =CONCATENATE($P30,Q$5) -> 가국 | R30: =CONCATENATE($P30,R$5) -> 가공 | S30: =CONCATENATE($P30,S$5) -> 가사

Sheet 집계표(감암리)
A1: 용지조서 지목별 집계표(전체분)
H2: 경기도 포천시 가산면 감암리
A4: 구 분 | C4: 계 | F4: 국 유 지 | I4: 공 유 지 | L4: 사 유 지 | O4: 비고
V5: 비고
C6: 필지 | D6: / | E6: 면 적 (㎡) | F6: 필지 | G6: / | H6: 면 적 (㎡) | I6: 필지 | J6: / | K6: 면 적 (㎡) | L6: 필지 | M6: / | N6: 면 적 (㎡)
A7: 계 | B7: 당초 | C7: =#REF! -> #REF! | D7: / | E7: =#REF! -> #REF! | F7: =#REF! -> #REF! | G7: / | H7: =#REF! -> #REF! | I7: =#REF! -> #REF! | J7: / | K7: =#REF! -> #REF! | L7: =#REF! -> #REF! | M7: / | N7: =#REF! -> #REF!
B8: 변경 | C8: =#REF! -> #REF! | D8: / | E8: =#REF! -> #REF! | F8: =#REF! -> #REF! | G8: / | H8: =#REF! -> #REF! | I8: =#REF! -> #REF! | J8: / | K8: =#REF! -> #REF! | L8: =#REF! -> #REF! | M8: / | N8: =#REF! -> #REF!
A9: 전 | B9: 당초 | C9: =#REF! -> #REF! | D9: / | E9: =#REF! -> #REF! | F9: =#REF! -> #REF! | G9: / | H9: =#REF! -> #REF! | I9: =#REF! -> #REF! | J9: / | K9: =#REF! -> #REF! | L9: =#REF! -> #REF! | M9: / | N9: =#REF! -> #REF!
B10: 변경 | C10: =#REF! -> #REF! | D10: / | E10: =#REF! -> #REF! | F10: =#REF! -> #REF! | G10: / | I10: =#REF! -> #REF! | J10: / | K10: =#REF! -> #REF! | L10: =#REF! -> #REF! | M10: / | N10: =#REF! -> #REF!
A11: 답 | B11: 당초 | C11: =#REF! -> #REF! | D11: / | E11: =#REF! -> #REF! | F11: =#REF! -> #REF! | G11: / | H11: =#REF! -> #REF! | I11: =#REF! -> #REF! | J11: / | L11: =#REF! -> #REF! | M11: / | N11: =#REF! -> #REF!
B12: 변경 | C12: =#REF! -> #REF! | D12: / | E12: =#REF! -> #REF! | F12: =#REF! -> #REF! | G12: / | H12: =#REF! -> #REF! | I12: =#REF! -> #REF! | J12: / | L12: =#REF! -> #REF! | M12: / | N12: =#REF! -> #REF!
A13: 임야 | B13: 당초 | C13: =#REF! -> #REF! | D13: / | E13: =#REF! -> #REF! | F13: =#REF! -> #REF! | G13: / | H13: =#REF! -> #REF! | I13: =#REF! -> #REF! | J13: / | K13: =#REF! -> #REF! | L13: =#REF! -> #REF! | M13: / | N13: =#REF! -> #REF!
B14: 변경 | C14: =#REF! -> #REF! | D14: / | E14: =#REF! -> #REF! | F14: =#REF! -> #REF! | G14: / | I14: =#REF! -> #REF! | J14: / | K14: =#REF! -> #REF! | L14: =#REF! -> #REF! | M14: / | N14: =#REF! -> #REF!
A15: 대지 | B15: 당초 | C15: =#REF! -> #REF! | D15: / | E15: =#REF! -> #REF! | F15: =#REF! -> #REF! | G15: / | H15: =#REF! -> #REF! | I15: =#REF! -> #REF! | J15: / | L15: =#REF! -> #REF! | M15: / | N15: =#REF! -> #REF!
B16: 변경 | C16: =#REF! -> #REF! | D16: / | E16: =#REF! -> #REF! | F16: =#REF! -> #REF! | G16: / | H16: =#REF! -> #REF! | I16: =#REF! -> #REF! | J16: / | L16: =#REF! -> #REF! | M16: / | N16: =#REF! -> #REF!
A17: 도로 | B17: 당초 | C17: =#REF! -> #REF! | D17: / | E17: =#REF! -> #REF! | F17: =#REF! -> #REF! | G17: / | H17: =#REF! -> #REF! | I17: =#REF! -> #REF! | J17: / | K17: =#REF! -> #REF! | L17: =#REF! -> #REF! | M17: / | N17: =#REF! -> #REF!
B18: 변경 | C18: =#REF! -> #REF! | D18: / | E18: =#REF! -> #REF! | F18: =#REF! -> #REF! | G18: / | H18: =#REF! -> #REF! | I18: =#REF! -> #REF! | J18: / | K18: =#REF! -> #REF! | L18: =#REF! -> #REF! | M18: / | N18: =#REF! -> #REF!
A19: 구거 | B19: 당초 | C19: =#REF! -> #REF! | D19: / | E19: =#REF! -> #REF! | F19: =#REF! -> #REF! | G19: / | H19: =#REF! -> #REF! | I19: =#REF! -> #REF! | J19: / | L19: =#REF! -> #REF! | M19: /
B20: 변경 | C20: =#REF! -> #REF! | D20: / | E20: =#REF! -> #REF! | F20: =#REF! -> #REF! | G20: / | H20: =#REF! -> #REF! | I20: =#REF! -> #REF! | J20: / | L20: =#REF! -> #REF! | M20: /
A21: 유지 | B21: 당초 | C21: =#REF! -> #REF! | E21: =#REF! -> #REF! | F21: =#REF! -> #REF! | G21: / | I21: =#REF! -> #REF! | J21: / | L21: =#REF! -> #REF! | M21: / | N21: =#REF! -> #REF!
B22: 변경 | C22: =#REF! -> #REF! | D22: / | E22: =#REF! -> #REF! | F22: =#REF! -> #REF! | G22: / | I22: =#REF! -> #REF! | J22: / | L22: =#REF! -> #REF! | M22: / | N22: =#REF! -> #REF!
A23: 학교 | B23: 당초 | C23: =#REF! -> #REF! | E23: =#REF! -> #REF! | F23: =#REF! -> #REF! | G23: / | H23: =#REF! -> #REF! | I23: =#REF! -> #REF! | J23: / | K23: =#REF! -> #REF! | L23: =#REF! -> #REF! | M23: /
B24: 변경 | C24: =#REF! -> #REF! | D24: / | E24: =#REF! -> #REF! | F24: =#REF! -> #REF! | G24: / | I24: =#REF! -> #REF! | J24: / | K24: =#REF! -> #REF! | L24: =#REF! -> #REF! | M24: /
F26: .

Sheet 공고용
A1: 일련번호 | C1: 소재지 | D1: 지번 | E1: 지목 | F1: 공부면적 (m2) | G1: 편입면적(m2) | H1: 지분 | I1: 소유자 | K1: 관계인 | N1: 비고
A2: 본번 | B2: 부번 | I2: 성명 | J2: 주소 | K2: 성명 | L2: 주소 | M2: 권리관계
A3: 1 | C3: 방산동 | D3: 562-6 | E3: 전 | F3: 21 | G3: 21 | I3: 이00 | J3: 서울 서초구 동광로 | K3: 없00
A4: 2 | C4: " | D4: 562 | E4: 대 | F4: 312 | G4: 1 | I4: 이00 | J4: 서울 서초구 동광로 | K4: 없00
A5: 3 | C5: " | D5: 562-4 | E5: 도 | F5: 19 | G5: 19 | I5: 이00 | J5: 서울 서초구 동광로 | K5: 없00
A6: 4 | B6: 1 | C6: " | D6: 564 | E6: 전 | F6: 2770 | G6: 172 | I6: 추00 | J6: 서울 강남구 광평로 | K6: 없00
A7: 4 | B7: 2 | C7: " | D7: 564 | E7: 전 | F7: 2770 | G7: 172 | I7: 나00 | J7: 시흥시 문화마을로 | K7: 없00
A8: 5 | C8: " | D8: 554 | E8: 전 | F8: 1408 | G8: 80 | I8: 한00 | J8: 시흥시 신현로 33 | K8: 없00
A9: 6 | C9: " | D9: 552-1 | E9: 도 | F9: 68 | G9: 68 | I9: 한00 | J9: 시흥시 신현로 33 | K9: 없00
A10: 7 | C10: " | D10: 552 | E10: 대 | F10: 505 | G10: 27 | I10: 한00 | J10: 시흥시 신현로 33 | K10: 없00
A11: 8 | C11: " | D11: 552-2 | E11: 도 | F11: 12 | G11: 12 | I11: 한00 | J11: 시흥시 신현로 33 | K11: 없00
A12: 9 | C12: " | D12: 551-1 | E12: 도 | F12: 62 | G12: 23 | I12: 강00 | J12: 시흥시 동서로 90 | K12: 안00 | L12: 시흥시 승지로 54 | M12: 근저당, 지상권
A13: 10 | C13: " | D13: 543-8 | E13: 도 | F13: 112 | G13: 1 | I13: 강00 | J13: 시흥시 동서로 90 | K13: 안00 | L13: 시흥시 승지로 54 | M13: 근저당, 지상권
A14: 11 | B14: 1 | C14: " | D14: 544 | E14: 대 | F14: 486 | G14: 156 | I14: 정00 | J14: 시흥시 신현로 38 | K14: 북00 | L14: 시흥시 신현로 31 | M14: 근저당, 지상권
A15: 11 | B15: 2 | C15: " | D15: 544 | E15: 대 | F15: 486 | G15: 156 | I15: 김00 | J15: 시흥시 은행로 24 | K15: 없00
A16: 12 | C16: " | D16: 545 | E16: 대 | F16: 330 | G16: 53 | I16: 심00 | J16: 서울 금천구 벚꽃로 | K16: 부00 | L16: 부천시 경인로 15 | M16: 근저당
A17: 13 | C17: " | D17: 545-3 | E17: 도 | F17: 10 | G17: 10 | I17: 심00 | J17: 서울 금천구 벚꽃로 | K17: 부00 | L17: 부천시 경인로 15 | M17: 근저당
A18: 14 | C18: " | D18: 545-1 | E18: 전 | F18: 545 | G18: 14 | I18: 심00 | J18: 서울 금천구 벚꽃로 | K18: 부00 | L18: 부천시 경인로 15 | M18: 근저당
A19: 15 | C19: " | D19: 539 | E19: 목 | F19: 1828 | G19: 192 | I19: 이00 | J19: 시흥시 시흥대로26 | K19: 없00
A20: 16 | C20: " | D20: 539-3 | E20: 전 | F20: 4 | G20: 4 | I20: 김00 | J20: 사망말소 | K20: 없00
A21: 17 | C21: " | D21: 539-4 | E21: 목 | F21: 826 | G21: 38 | I21: 김00 | J21: 고양시 일산서구 고 | K21: 없00
A22: 18 | C22: " | D22: 539-2 | E22: 목 | F22: 862 | G22: 3 | I22: 김00 | J22: 시흥시 수인로340 | K22: 없00
A23: 19 | B23: 1 | C23: " | D23: 521-11 | E23: 전 | F23: 977 | G23: 151 | I23: 이00 | J23: 부천시 경인로 28 | K23: 없00
A24: 19 | B24: 2 | C24: " | D24: 521-11 | E24: 전 | F24: 977 | G24: 151 | I24: 김00 | J24: 부천시 경인로 28 | K24: 없00
A25: 20 | C25: " | D25: 521-10 | E25: 답 | F25: 266 | G25: 264 | I25: 이00 | J25: 시흥시 355-22 | K25: 없00
A26: 21 | C26: " | D26: 522-3 | E26: 전 | F26: 330 | G26: 217 | I26: 추00 | J26: 시흥시 신현로 35 | K26: 없00
A27: 22 | C27: " | D27: 522-14 | E27: 도 | F27: 86 | G27: 86 | I27: 최00 | J27: 화성시 향남읍 행정 | K27: 북00 | L27: 시흥시 신현로 31 | M27: 근저당
A28: 23 | C28: " | D28: 836 | E28: 도 | F28: 5774 | G28: 134 | I28: 국00 | J28: 생략 | K28: 없00
A29: 24 | C29: " | D29: 529 | E29: 대 | F29: 258 | G29: 171 | I29: 추00 | J29: 시흥시 신현로 36 | K29: 북00 | L29: 시흥시 신현로 31 | M29: 근저당, 지상권
A30: 25 | C30: " | D30: 527 | E30: 전 | F30: 456 | G30: 61 | I30: 추00 | J30: 시흥시 신현로 35 | K30: 없00
A31: 26 | C31: " | D31: 501 | E31: 전 | F31: 2258 | G31: 829 | I31: 강00 | J31: 시흥시 은행로 93 | K31: 없00
A32: 27 | B32: 1 | C32: " | D32: 484 | E32: 전 | F32: 476 | G32: 15 | H32: 1/5 | I32: 이00 | J32: 서울 강남구 언주로 | K32: 삼00 | L32: 서울 강남구 테헤란 | M32: 근저당
A33: 27 | B33: 2 | C33: " | D33: 484 | E33: 전 | F33: 476 | G33: 15 | H33: 2/5 | I33: 유00 | J33: 서울 강남구 언주로 | K33: 없00
A34: 27 | B34: 3 | C34: " | D34: 484 | E34: 전 | F34: 476 | G34: 15 | H34: 2/5 | I34: 이00 | J34: 서울 강남구 언주로 | K34: 삼00 | L34: 서울 강남구 테헤란 | M34: 근저당
A35: 28 | C35: " | D35: 847 | E35: 도 | F35: 417 | G35: 179 | I35: 국00 | J35: 생략 | K35: 없00
A36: 29 | B36: 1 | C36: " | D36: 482-3 | E36: 전 | F36: 846 | G36: 456 | H36: 1/5 | I36: 이00 | J36: 서울 강남구 언주로 | K36: 없00
A37: 29 | B37: 2 | C37: " | D37: 482-3 | E37: 전 | F37: 846 | G37: 456 | H37: 2/5 | I37: 유00 | J37: 서울 강남구 언주로 | K37: 없00
A38: 29 | B38: 3 | C38: " | D38: 482-3 | E38: 전 | F38: 846 | G38: 456 | H38: 2/5 | I38: 이00 | J38: 서울 강남구 언주로 | K38: 없00
A39: 30 | B39: 1 | C39: " | D39: 482-2 | E39: 답 | F39: 807 | G39: 582 | H39: 1/5 | I39: 이00 | J39: 서울 강남구 언주로 | K39: 없00
A40: 30 | B40: 2 | C40: " | D40: 482-2 | E40: 답 | F40: 807 | G40: 582 | H40: 2/5 | I40: 유00 | J40: 서울 강남구 언주로 | K40: 없00
A41: 30 | B41: 3 | C41: " | D41: 482-2 | E41: 답 | F41: 807 | G41: 582 | H41: 2/5 | I41: 이00 | J41: 서울 강남구 언주로 | K41: 없00
A42: 31 | C42: " | D42: 481 | E42: 전 | F42: 466 | G42: 73 | I42: 이00 | J42: 서울 강남구 언주로 | K42: 없00
A43: 32 | C43: " | D43: 481-1 | E43: 임 | F43: 724 | G43: 136 | I43: 이00 | J43: 서울 강남구 언주로 | K43: 없00
A44: 33 | B44: 1 | C44: " | D44: 산33 | E44: 임 | F44: 19736 | G44: 750 | H44: 1/2 | I44: 이00 | J44: 서울 강남구 언주로 | K44: 없00
A45: 33 | B45: 2 | C45: " | D45: 산33 | E45: 임 | F45: 19736 | G45: 750 | H45: 1/2 | I45: 이00 | J45: 시흥시 다지골길 2 | K45: 없00
A46: 34 | C46: " | D46: 산34-8 | E46: 임 | F46: 7761 | G46: 443 | I46: 김00 | J46: 부천시 송내대로51 | K46: 경00 | L46: 부천시 송내대로 3
A47: 35 | C47: " | D47: 559-1 | E47: 답 | F47: 995 | G47: 86 | I47: 시00 | J47: 생략 | K47: 없00
A48: 36 | C48: " | D48: 558-2 | E48: 목 | F48: 538 | G48: 90 | I48: 시00 | J48: 생략 | K48: 없00
A49: 37 | C49: " | D49: 559-3 | E49: 도 | F49: 11 | G49: 11 | I49: 시00 | J49: 생략 | K49: 없00
A50: 38 | C50: " | D50: 559-2 | E50: 도 | F50: 5 | G50: 5 | I50: 시00 | J50: 생략 | K50: 없00
A51: 39 | B51: 1 | C51: " | D51: 558 | E51: 목 | F51: 1328 | G51: 31 | H51: 989259/1417640 | I51: 추00 | J51: 시흥시 신현로 35 | K51: 없00
A52: 39 | B52: 2 | C52: " | D52: 558 | E52: 목 | F52: 1328 | G52: 31 | H52: 428381/1417640 | I52: 최00 | J52: 시흥시 신현로 33 | K52: 없00
A53: 40 | C53: " | D53: 558-3 | E53: 목 | F53: 269 | G53: 269 | I53: 시00 | J53: 생략 | K53: 없00
A54: 41 | C54: " | D54: 555-10 | E54: 도 | F54: 78 | G54: 65 | I54: 이00 | J54: 서울 서초구 동광로 | K54: 없00
A55: 42 | C55: " | D55: 555-9 | E55: 도 | F55: 446 | G55: 24 | I55: 이00 | J55: 서울 서초구 동광로 | K55: 없00
A56: 43 | C56: " | D56: 555-11 | E56: 전 | F56: 2028 | G56: 328 | I56: 이00 | J56: 서울 서초구 서초대 | K56: 없00
A57: 44 | C57: " | D57: 555-12 | E57: 대 | F57: 11 | G57: 11 | I57: 이00 | J57: 서울 서초구 동광로 | K57: 없00
A58: 45 | C58: " | D58: 555-2 | E58: 도 | F58: 98 | G58: 98 | I58: 이00 | J58: 서울 서초구 동광로 | K58: 없00
A59: 46 | C59: " | D59: 845 | E59: 도 | F59: 1228 | G59: 793 | I59: 국00 | J59: 생략 | K59: 없00
A60: 47 | C60: " | D60: 550 | E60: 전 | F60: 331 | G60: 91 | I60: 유00 | J60: 시흥시 신현로 34 | K60: 부00 | L60: 부천시 소사구 심곡 | M60: 근저당, 지상권
A61: 48 | C61: " | D61: 549 | E61: 전 | F61: 139 | G61: 40 | I61: 유00 | J61: 시흥시 신현로 34 | K61: 부00 | L61: 부천시 소사구 심곡 | M61: 근저당, 지상권
A62: 49 | C62: " | D62: 549-2 | E62: 도 | F62: 40 | G62: 14 | I62: 유00 | J62: 시흥시 신현로 34 | K62: 부00 | L62: 부천시 소사구 심곡 | M62: 근저당, 지상권
A63: 50 | B63: 1 | C63: " | D63: 548 | E63: 전 | F63: 264 | G63: 131 | H63: 1/2 | I63: 추00 | J63: 시흥시 신현로 35 | K63: 없00
A64: 50 | B64: 2 | C64: " | D64: 548 | E64: 전 | F64: 264 | G64: 131 | H64: 1/2 | I64: 추00 | J64: 시흥시 신현로 36 | K64: 없00
A65: 51 | C65: " | D65: 546-3 | E65: 전 | F65: 161 | G65: 161 | I65: 시00 | J65: 생략 | K65: 없00
A66: 52 | C66: " | D66: 546-2 | E66: 전 | F66: 50 | G66: 50 | I66: 한00 | J66: 서울 구로구 남부순 | K66: 하00 | L66: 서울 서초구 방배로 | M66: 근저당
A67: 53 | C67: " | D67: 546-1 | E67: 차 | F67: 95 | G67: 7 | I67: 한00 | J67: 서울 구로구 남부순 | K67: 하00 | L67: 서울 서초구 방배로 | M67: 근저당
A68: 54 | B68: 1 | C68: " | D68: 547-1 | E68: 전 | F68: 1150 | G68: 149 | H68: 1/3 | I68: 추00 | J68: 서울 강서구 허준로 | K68: 없00
A69: 54 | B69: 2 | C69: " | D69: 547-1 | E69: 전 | F69: 1150 | G69: 149 | H69: 1/3 | I69: 추00 | J69: 서울 영등포구 문 | K69: 없00
A70: 54 | B70: 3 | C70: " | D70: 547-1 | E70: 전 | F70: 1150 | G70: 149 | H70: 1/3 | I70: 추00 | J70: 서울 영등포구 도림 | K70: 없00
A71: 55 | C71: " | D71: 538 | E71: 전 | F71: 1451 | G71: 117 | I71: 추00 | J71: 서울 영등포구 도림 | K71: 북00 | L71: 시흥시 신현로 31 | M71: 근저당
A72: 56 | C72: " | D72: 538-1 | E72: 전 | F72: 493 | G72: 26 | I72: 박00 | J72: 시흥시 장곡로53번 | K72: 북00 | L72: 시흥시 시흥대로 1 | M72: 근저당
A73: 57 | C73: " | D73: 837 | E73: 구 | F73: 15527 | G73: 98 | I73: 국00 | J73: 생략 | K73: 없00
A74: 58 | C74: " | D74: 521-5 | E74: 전 | F74: 165 | G74: 78 | I74: 이00 | J74: 시흥시 신현로 35 | K74: 없00
A75: 59 | C75: " | D75: 523 | E75: 전 | F75: 1587 | G75: 561 | I75: 김00 | J75: 시흥시 수인로340 | K75: 우00 | L75: 시흥시 비둘기공원 | M75: 근저당, 지상권
A76: 60 | C76: " | D76: 530-3 | E76: 전 | F76: 188 | G76: 3 | I76: 추00 | J76: 시흥시 신현로 36 | K76: 북00 | L76: 시흥시 삼미시장4길 | M76: 근저당, 지상권
A77: 61 | B77: 1 | C77: " | D77: 528 | E77: 임 | F77: 3795 | G77: 2824 | H77: 1/5 | I77: 정00 | J77: 부천시 소사로309 | K77: 없00
A78: 61 | B78: 2 | C78: " | D78: 528 | E78: 임 | F78: 3795 | G78: 2824 | H78: 1/5 | I78: 정00 | J78: 부천시 삼작로256 | K78: 없00
A79: 61 | B79: 3 | C79: " | D79: 528 | E79: 임 | F79: 3795 | G79: 2824 | H79: 1/10 | I79: 정00 | J79: 부천시 중동로280 | K79: 없00
A80: 61 | B80: 4 | C80: " | D80: 528 | E80: 임 | F80: 3795 | G80: 2824 | H80: 1/10 | I80: 정00 | J80: 부천시 계남로 12 | K80: 없00
A81: 61 | B81: 5 | C81: " | D81: 528 | E81: 임 | F81: 3795 | G81: 2824 | H81: 1/5 | I81: 정00 | J81: 부천군 오정면 학리 | K81: 시00 | L81: 세정과-877 (1 | M81: 압류
A82: 61 | B82: 6 | C82: " | D82: 528 | E82: 임 | F82: 3795 | G82: 2824 | H82: 1/5 | I82: 정00 | J82: 서울 중구 태평로2 | K82: 시00 | L82: 세정과-877 (1 | M82: 압류
A83: 62 | B83: 1 | C83: " | D83: 498 | E83: 임 | F83: 526 | G83: 236 | H83: 1/5 | I83: 정00 | J83: 부천군 오정면 학리 | K83: 없00
A84: 62 | B84: 2 | C84: " | D84: 498 | E84: 임 | F84: 526 | G84: 236 | H84: 1/5 | I84: 정00 | J84: 부천군 오정면 학리 | K84: 시00 | L84: 세정과-877 (1 | M84: 압류
A85: 62 | B85: 3 | C85: " | D85: 498 | E85: 임 | F85: 526 | G85: 236 | H85: 1/5 | I85: 정00 | J85: 서울 중구 태평로2 | K85: 시00 | L85: 세정과-877 (1 | M85: 압류
A86: 62 | B86: 4 | C86: " | D86: 498 | E86: 임 | F86: 526 | G86: 236 | H86: 1/10 | I86: 정00 | J86: 부천시 중동로280 | K86: 없00
A87: 62 | B87: 5 | C87: " | D87: 498 | E87: 임 | F87: 526 | G87: 236 | H87: 1/10 | I87: 정00 | J87: 부천시 계남로 12 | K87: 없00
A88: 62 | B88: 6 | C88: " | D88: 498 | E88: 임 | F88: 526 | G88: 236 | H88: 1/5 | I88: 정00 | J88: 부천시 소사로309 | K88: 없00
A89: 63 | C89: " | D89: 499 | E89: 전 | F89: 307 | G89: 139 | I89: 임00 | J89: 시흥시 능곡중앙로 | K89: 최00 | L89: 서울 강서구 강서로 | M89: 가등기 근저당, 가등기
A90: 64 | C90: " | D90: 835-8 | E90: 구 | F90: 9119 | G90: 233 | I90: 국00 | J90: 생략 | K90: 없00
A91: 65 | C91: " | D91: 485-1 | E91: 전 | F91: 199 | G91: 141 | I91: 추00 | J91: 시흥시 다지골길 2 | K91: 메00 | L91: 서울 영등포구 국제 | M91: 근저당
A92: 66 | B92: 1 | C92: " | D92: 486-2 | E92: 목 | F92: 1727 | G92: 17 | H92: 1/2 | I92: 추00 | J92: 시흥시 은계남로 1 | K92: 없00
A93: 66 | B93: 2 | C93: " | D93: 486-2 | E93: 목 | F93: 1727 | G93: 17 | H93: 1/2 | I93: 추00 | J93: 시흥시 하중로133 | K93: 없00
A94: 67 | C94: " | D94: 487 | E94: 전 | F94: 387 | G94: 19 | I94: 추00 | J94: 시흥시 신현로 39 | K94: 북00 | L94: 시흥시 호현로 30 | M94: 근저당
A95: 68 | C95: " | D95: 848 | E95: 도 | F95: 56 | G95: 13 | I95: 국00 | J95: 생략 | K95: 없00
A96: 69 | C96: " | D96: 489-1 | E96: 전 | F96: 754 | G96: 59 | I96: 추00 | J96: 시흥시 신현로 39 | K96: 없00
A97: 70 | C97: " | D97: 853 | E97: 도 | F97: 53 | G97: 53 | I97: 국00 | J97: 생략 | K97: 없00
A98: 71 | C98: " | D98: 489 | E98: 대 | F98: 330 | G98: 6 | I98: 추00 | J98: 시흥시 신현로 39 | K98: 없00
A99: 72 | C99: " | D99: 산27-1 | E99: 임 | F99: 17851 | G99: 2418 | I99: 이00 | J99: 인천 부평구 수변로 | K99: 없00
A100: 73 | C100: " | D100: 404 | E100: 전 | F100: 860 | G100: 216 | I100: 이00 | J100: 시흥시 시흥대로 1 | K100: 없00
...

Sheet Sheet2

Sheet 고천리집계표 (2)
A1: 편입용지 집계표
N2: 인천광역시 강화군 내가면 고천리
A3: 구분 | B3: 계 | E3: 국유지 | H3: 공유지 | K3: 사유지 | N3: 비고
B4: 필지 | C4: / | D4: 면적 (㎡) | E4: 필지 | F4: / | G4: 면적 (㎡) | H4: 필지 | I4: / | J4: 면적 (㎡) | K4: 필지 | L4: / | M4: 면적 (㎡)
A5: 계 | B5: =SUM(B6:B30) -> 78 | C5: / | D5: =SUM(D6:D30) -> 16843 | E5: =SUM(E6:E30) -> 6 | F5: / | G5: =SUM(G6:G30) -> 3666 | H5: =SUM(H6:H30) -> 16 | I5: / | J5: =SUM(J6:J30) -> 3911 | K5: =SUM(K6:K30) -> 56 | L5: / | M5: =SUM(M6:M30) -> 9266 | O5: =IF(D5=(G5+J5+M5),"ok","false") -> ok | Q5: 국 | R5: 공 | S5: 사
A6: 전 | B6: =COUNTIF('고천리 (2)'!$C$3:$C$1013,P6) -> 9 | C6: / | D6: =SUMIF('고천리 (2)'!$C$3:$C$1013,P6,'고천리 (2)'!$E$3:$E$1013) -> 735 | E6: =COUNTIF('고천리 (2)'!$P$3:$P$1013,Q6) -> 0 | F6: / | G6: =SUMIF('고천리 (2)'!$P$3:$P$1013,Q6,'고천리 (2)'!$E$3:$E$1013) -> 0 | H6: =COUNTIF('고천리 (2)'!$P$3:$P$1013,R6) -> 0 | I6: / | J6: =SUMIF('고천리 (2)'!$P$3:$P$1013,R6,'고천리 (2)'!$E$3:$E$1013) -> 0 | K6: =COUNTIF('고천리 (2)'!$P$3:$P$1013,S6) -> 9 | L6: / | M6: =SUMIF('고천리 (2)'!$P$3:$P$1013,S6,'고천리 (2)'!$E$3:$E$1013) -> 735 | O6: =IF(D6=(G6+J6+M6),"ok","false") -> ok | P6: 전 | Q6: =CONCATENATE($P6,Q$5) -> 전국 | R6: =CONCATENATE($P6,R$5) -> 전공 | S6: =CONCATENATE($P6,S$5) -> 전사
A7: 답 | B7: =COUNTIF('고천리 (2)'!$C$3:$C$1013,P7) -> 18 | C7: / | D7: =SUMIF('고천리 (2)'!$C$3:$C$1013,P7,'고천리 (2)'!$E$3:$E$1013) -> 2714 | E7: =COUNTIF('고천리 (2)'!$P$3:$P$1013,"답국") -> 0 | F7: / | G7: =SUMIF('고천리 (2)'!$P$3:$P$1013,Q7,'고천리 (2)'!$E$3:$E$1013) -> 0 | H7: =COUNTIF('고천리 (2)'!$P$3:$P$1013,R7) -> 4 | I7: / | J7: =SUMIF('고천리 (2)'!$P$3:$P$1013,R7,'고천리 (2)'!$E$3:$E$1013) -> 921 | K7: =COUNTIF('고천리 (2)'!$P$3:$P$1013,S7) -> 14 | L7: / | M7: =SUMIF('고천리 (2)'!$P$3:$P$1013,S7,'고천리 (2)'!$E$3:$E$1013) -> 1793 | O7: =IF(D7=(G7+J7+M7),"ok","false") -> ok | P7: 답 | Q7: =CONCATENATE($P7,Q$5) -> 답국 | R7: =CONCATENATE($P7,R$5) -> 답공 | S7: =CONCATENATE($P7,S$5) -> 답사
A8: 임야 | B8: =COUNTIF('고천리 (2)'!$C$3:$C$1013,P8) -> 11 | C8: / | D8: =SUMIF('고천리 (2)'!$C$3:$C$1013,P8,'고천리 (2)'!$E$3:$E$1013) -> 2626 | E8: =COUNTIF('고천리 (2)'!$P$3:$P$1013,"임국") -> 0 | F8: / | G8: =SUMIF('고천리 (2)'!$P$3:$P$1013,Q8,'고천리 (2)'!$E$3:$E$1013) -> 0 | H8: =COUNTIF('고천리 (2)'!$P$3:$P$1013,R8) -> 1 | I8: / | J8: =SUMIF('고천리 (2)'!$P$3:$P$1013,R8,'고천리 (2)'!$E$3:$E$1013) -> 275 | K8: =COUNTIF('고천리 (2)'!$P$3:$P$1013,S8) -> 10 | L8: / | M8: =SUMIF('고천리 (2)'!$P$3:$P$1013,S8,'고천리 (2)'!$E$3:$E$1013) -> 2351 | O8: =IF(D8=(G8+J8+M8),"ok","false") -> ok | P8: 임 | Q8: =CONCATENATE($P8,Q$5) -> 임국 | R8: =CONCATENATE($P8,R$5) -> 임공 | S8: =CONCATENATE($P8,S$5) -> 임사
A9: 대지 | B9: =COUNTIF('고천리 (2)'!$C$3:$C$1013,P9) -> 9 | C9: / | D9: =SUMIF('고천리 (2)'!$C$3:$C$1013,P9,'고천리 (2)'!$E$3:$E$1013) -> 525 | E9: =COUNTIF('고천리 (2)'!$P$3:$P$1013,"대국") -> 0 | F9: / | G9: =SUMIF('고천리 (2)'!$P$3:$P$1013,Q9,'고천리 (2)'!$E$3:$E$1013) -> 0 | H9: =COUNTIF('고천리 (2)'!$P$3:$P$1013,R9) -> 0 | I9: / | J9: =SUMIF('고천리 (2)'!$P$3:$P$1013,R9,'고천리 (2)'!$E$3:$E$1013) -> 0 | K9: =COUNTIF('고천리 (2)'!$P$3:$P$1013,S9) -> 9 | L9: / | M9: =SUMIF('고천리 (2)'!$P$3:$P$1013,S9,'고천리 (2)'!$E$3:$E$1013) -> 525 | O9: =IF(D9=(G9+J9+M9),"ok","false") -> ok | P9: 대 | Q9: =CONCATENATE($P9,Q$5) -> 대국 | R9: =CONCATENATE($P9,R$5) -> 대공 | S9: =CONCATENATE($P9,S$5) -> 대사
A10: 도로 | B10: =COUNTIF('고천리 (2)'!$C$3:$C$1013,P10) -> 29 | C10: / | D10: =SUMIF('고천리 (2)'!$C$3:$C$1013,P10,'고천리 (2)'!$E$3:$E$1013) -> 6831 | E10: =COUNTIF('고천리 (2)'!$P$3:$P$1013,"도국") -> 5 | F10: / | G10: =SUMIF('고천리 (2)'!$P$3:$P$1013,Q10,'고천리 (2)'!$E$3:$E$1013) -> 644 | H10: =COUNTIF('고천리 (2)'!$P$3:$P$1013,R10) -> 11 | I10: / | J10: =SUMIF('고천리 (2)'!$P$3:$P$1013,R10,'고천리 (2)'!$E$3:$E$1013) -> 2715 | K10: =COUNTIF('고천리 (2)'!$P$3:$P$1013,S10) -> 13 | L10: / | M10: =SUMIF('고천리 (2)'!$P$3:$P$1013,S10,'고천리 (2)'!$E$3:$E$1013) -> 3472 | O10: =IF(D10=(G10+J10+M10),"ok","false") -> ok | P10: 도 | Q10: =CONCATENATE($P10,Q$5) -> 도국 | R10: =CONCATENATE($P10,R$5) -> 도공 | S10: =CONCATENATE($P10,S$5) -> 도사
A11: 구거 | B11: =COUNTIF('고천리 (2)'!$C$3:$C$1013,P11) -> 0 | C11: / | D11: =SUMIF('고천리 (2)'!$C$3:$C$1013,P11,'고천리 (2)'!$E$3:$E$1013) -> 0 | E11: =COUNTIF('고천리 (2)'!$P$3:$P$1013,"구국") -> 0 | F11: / | G11: =SUMIF('고천리 (2)'!$P$3:$P$1013,Q11,'고천리 (2)'!$E$3:$E$1013) -> 0 | H11: =COUNTIF('고천리 (2)'!$P$3:$P$1013,R11) -> 0 | I11: / | J11: =SUMIF('고천리 (2)'!$P$3:$P$1013,R11,'고천리 (2)'!$E$3:$E$1013) -> 0 | K11: =COUNTIF('고천리 (2)'!$P$3:$P$1013,S11) -> 0 | L11: / | M11: =SUMIF('고천리 (2)'!$P$3:$P$1013,S11,'고천리 (2)'!$E$3:$E$1013) -> 0 | O11: =IF(D11=(G11+J11+M11),"ok","false") -> ok | P11: 구 | Q11: =CONCATENATE($P11,Q$5) -> 구국 | R11: =CONCATENATE($P11,R$5) -> 구공 | S11: =CONCATENATE($P11,S$5) -> 구사
A12: 하천 | B12: =COUNTIF('고천리 (2)'!$C$3:$C$1013,P12) -> 2 | C12: / | D12: =SUMIF('고천리 (2)'!$C$3:$C$1013,P12,'고천리 (2)'!$E$3:$E$1013) -> 3412 | E12: =COUNTIF('고천리 (2)'!$P$3:$P$1013,"천국") -> 1 | F12: / | G12: =SUMIF('고천리 (2)'!$P$3:$P$1013,Q12,'고천리 (2)'!$E$3:$E$1013) -> 3022 | H12: =COUNTIF('고천리 (2)'!$P$3:$P$1013,R12) -> 0 | I12: / | J12: =SUMIF('고천리 (2)'!$P$3:$P$1013,R12,'고천리 (2)'!$E$3:$E$1013) -> 0 | K12: =COUNTIF('고천리 (2)'!$P$3:$P$1013,S12) -> 1 | L12: / | M12: =SUMIF('고천리 (2)'!$P$3:$P$1013,S12,'고천리 (2)'!$E$3:$E$1013) -> 390 | O12: =IF(D12=(G12+J12+M12),"ok","false") -> ok | P12: 천 | Q12: =CONCATENATE($P12,Q$5) -> 천국 | R12: =CONCATENATE($P12,R$5) -> 천공 | S12: =CONCATENATE($P12,S$5) -> 천사
A13: 유지 | B13: =COUNTIF('고천리 (2)'!$C$3:$C$1013,P13) -> 0 | C13: / | D13: =SUMIF('고천리 (2)'!$C$3:$C$1013,P13,'고천리 (2)'!$E$3:$E$1013) -> 0 | E13: =COUNTIF('고천리 (2)'!$P$3:$P$1013,"유국") -> 0 | F13: / | G13: =SUMIF('고천리 (2)'!$P$3:$P$1013,Q13,'고천리 (2)'!$E$3:$E$1013) -> 0 | H13: =COUNTIF('고천리 (2)'!$P$3:$P$1013,R13) -> 0 | I13: / | J13: =SUMIF('고천리 (2)'!$P$3:$P$1013,R13,'고천리 (2)'!$E$3:$E$1013) -> 0 | K13: =COUNTIF('고천리 (2)'!$P$3:$P$1013,S13) -> 0 | L13: / | M13: =SUMIF('고천리 (2)'!$P$3:$P$1013,S13,'고천리 (2)'!$E$3:$E$1013) -> 0 | O13: =IF(D13=(G13+J13+M13),"ok","false") -> ok | P13: 유 | Q13: =CONCATENATE($P13,Q$5) -> 유국 | R13: =CONCATENATE($P13,R$5) -> 유공 | S13: =CONCATENATE($P13,S$5) -> 유사
A14: 제방 | B14: =COUNTIF('고천리 (2)'!$C$3:$C$1013,P14) -> 0 | C14: / | D14: =SUMIF('고천리 (2)'!$C$3:$C$1013,P14,'고천리 (2)'!$E$3:$E$1013) -> 0 | E14: =COUNTIF('고천리 (2)'!$P$3:$P$1013,"제국") -> 0 | F14: / | G14: =SUMIF('고천리 (2)'!$P$3:$P$1013,Q14,'고천리 (2)'!$E$3:$E$1013) -> 0 | H14: =COUNTIF('고천리 (2)'!$P$3:$P$1013,R14) -> 0 | I14: / | J14: =SUMIF('고천리 (2)'!$P$3:$P$1013,R14,'고천리 (2)'!$E$3:$E$1013) -> 0 | K14: =COUNTIF('고천리 (2)'!$P$3:$P$1013,S14) -> 0 | L14: / | M14: =SUMIF('고천리 (2)'!$P$3:$P$1013,S14,'고천리 (2)'!$E$3:$E$1013) -> 0 | O14: =IF(D14=(G14+J14+M14),"ok","false") -> ok | P14: 제 | Q14: =CONCATENATE($P14,Q$5) -> 제국 | R14: =CONCATENATE($P14,R$5) -> 제공 | S14: =CONCATENATE($P14,S$5) -> 제사
A15: 과수원 | B15: =COUNTIF('고천리 (2)'!$C$3:$C$1013,P15) -> 0 | C15: / | D15: =SUMIF('고천리 (2)'!$C$3:$C$1013,P15,'고천리 (2)'!$E$3:$E$1013) -> 0 | E15: =COUNTIF('고천리 (2)'!$P$3:$P$1013,"과국") -> 0 | F15: / | G15: =SUMIF('고천리 (2)'!$P$3:$P$1013,Q15,'고천리 (2)'!$E$3:$E$1013) -> 0 | H15: =COUNTIF('고천리 (2)'!$P$3:$P$1013,R15) -> 0 | I15: / | J15: =SUMIF('고천리 (2)'!$P$3:$P$1013,R15,'고천리 (2)'!$E$3:$E$1013) -> 0 | K15: =COUNTIF('고천리 (2)'!$P$3:$P$1013,S15) -> 0 | L15: / | M15: =SUMIF('고천리 (2)'!$P$3:$P$1013,S15,'고천리 (2)'!$E$3:$E$1013) -> 0 | O15: =IF(D15=(G15+J15+M15),"ok","false") -> ok | P15: 과 | Q15: =CONCATENATE($P15,Q$5) -> 과국 | R15: =CONCATENATE($P15,R$5) -> 과공 | S15: =CONCATENATE($P15,S$5) -> 과사
A16: 공장 | B16: =COUNTIF('고천리 (2)'!$C$3:$C$1013,P16) -> 0 | C16: / | D16: =SUMIF('고천리 (2)'!$C$3:$C$1013,P16,'고천리 (2)'!$E$3:$E$1013) -> 0 | E16: =COUNTIF('고천리 (2)'!$P$3:$P$1013,"장국") -> 0 | F16: / | G16: =SUMIF('고천리 (2)'!$P$3:$P$1013,Q16,'고천리 (2)'!$E$3:$E$1013) -> 0 | H16: =COUNTIF('고천리 (2)'!$P$3:$P$1013,R16) -> 0 | I16: / | J16: =SUMIF('고천리 (2)'!$P$3:$P$1013,R16,'고천리 (2)'!$E$3:$E$1013) -> 0 | K16: =COUNTIF('고천리 (2)'!$P$3:$P$1013,S16) -> 0 | L16: / | M16: =SUMIF('고천리 (2)'!$P$3:$P$1013,S16,'고천리 (2)'!$E$3:$E$1013) -> 0 | O16: =IF(D16=(G16+J16+M16),"ok","false") -> ok | P16: 장 | Q16: =CONCATENATE($P16,Q$5) -> 장국 | R16: =CONCATENATE($P16,R$5) -> 장공 | S16: =CONCATENATE($P16,S$5) -> 장사
A17: 목장 | B17: =COUNTIF('고천리 (2)'!$C$3:$C$1013,P17) -> 0 | C17: / | D17: =SUMIF('고천리 (2)'!$C$3:$C$1013,P17,'고천리 (2)'!$E$3:$E$1013) -> 0 | E17: =COUNTIF('고천리 (2)'!$P$3:$P$1013,"목국") -> 0 | F17: / | G17: =SUMIF('고천리 (2)'!$P$3:$P$1013,Q17,'고천리 (2)'!$E$3:$E$1013) -> 0 | H17: =COUNTIF('고천리 (2)'!$P$3:$P$1013,R17) -> 0 | I17: / | J17: =SUMIF('고천리 (2)'!$P$3:$P$1013,R17,'고천리 (2)'!$E$3:$E$1013) -> 0 | K17: =COUNTIF('고천리 (2)'!$P$3:$P$1013,S17) -> 0 | L17: / | M17: =SUMIF('고천리 (2)'!$P$3:$P$1013,S17,'고천리 (2)'!$E$3:$E$1013) -> 0 | O17: =IF(D17=(G17+J17+M17),"ok","false") -> ok | P17: 목 | Q17: =CONCATENATE($P17,Q$5) -> 목국 | R17: =CONCATENATE($P17,R$5) -> 목공 | S17: =CONCATENATE($P17,S$5) -> 목사
A18: 학교용지 | B18: =COUNTIF('고천리 (2)'!$C$3:$C$1013,P18) -> 0 | C18: / | D18: =SUMIF('고천리 (2)'!$C$3:$C$1013,P18,'고천리 (2)'!$E$3:$E$1013) -> 0 | E18: =COUNTIF('고천리 (2)'!$P$3:$P$1013,"학국") -> 0 | F18: / | G18: =SUMIF('고천리 (2)'!$P$3:$P$1013,Q18,'고천리 (2)'!$E$3:$E$1013) -> 0 | H18: =COUNTIF('고천리 (2)'!$P$3:$P$1013,R18) -> 0 | I18: / | J18: =SUMIF('고천리 (2)'!$P$3:$P$1013,R18,'고천리 (2)'!$E$3:$E$1013) -> 0 | K18: =COUNTIF('고천리 (2)'!$P$3:$P$1013,S18) -> 0 | L18: / | M18: =SUMIF('고천리 (2)'!$P$3:$P$1013,S18,'고천리 (2)'!$E$3:$E$1013) -> 0 | O18: =IF(D18=(G18+J18+M18),"ok","false") -> ok | P18: 학 | Q18: =CONCATENATE($P18,Q$5) -> 학국 | R18: =CONCATENATE($P18,R$5) -> 학공 | S18: =CONCATENATE($P18,S$5) -> 학사
A19: 철도 | B19: =COUNTIF('고천리 (2)'!$C$3:$C$1013,P19) -> 0 | C19: / | D19: =SUMIF('고천리 (2)'!$C$3:$C$1013,P19,'고천리 (2)'!$E$3:$E$1013) -> 0 | E19: =COUNTIF('고천리 (2)'!$P$3:$P$1013,"철국") -> 0 | F19: / | G19: =SUMIF('고천리 (2)'!$P$3:$P$1013,Q19,'고천리 (2)'!$E$3:$E$1013) -> 0 | H19: =COUNTIF('고천리 (2)'!$P$3:$P$1013,R19) -> 0 | I19: / | J19: =SUMIF('고천리 (2)'!$P$3:$P$1013,R19,'고천리 (2)'!$E$3:$E$1013) -> 0 | K19: =COUNTIF('고천리 (2)'!$P$3:$P$1013,S19) -> 0 | L19: / | M19: =SUMIF('고천리 (2)'!$P$3:$P$1013,S19,'고천리 (2)'!$E$3:$E$1013) -> 0 | O19: =IF(D19=(G19+J19+M19),"ok","false") -> ok | P19: 철 | Q19: =CONCATENATE($P19,Q$5) -> 철국 | R19: =CONCATENATE($P19,R$5) -> 철공 | S19: =CONCATENATE($P19,S$5) -> 철사
A20: 묘지 | B20: =COUNTIF('고천리 (2)'!$C$3:$C$1013,P20) -> 0 | C20: / | D20: =SUMIF('고천리 (2)'!$C$3:$C$1013,P20,'고천리 (2)'!$E$3:$E$1013) -> 0 | E20: =COUNTIF('고천리 (2)'!$P$3:$P$1013,"묘국") -> 0 | F20: / | G20: =SUMIF('고천리 (2)'!$P$3:$P$1013,Q20,'고천리 (2)'!$E$3:$E$1013) -> 0 | H20: =COUNTIF('고천리 (2)'!$P$3:$P$1013,R20) -> 0 | I20: / | J20: =SUMIF('고천리 (2)'!$P$3:$P$1013,R20,'고천리 (2)'!$E$3:$E$1013) -> 0 | K20: =COUNTIF('고천리 (2)'!$P$3:$P$1013,S20) -> 0 | L20: / | M20: =SUMIF('고천리 (2)'!$P$3:$P$1013,S20,'고천리 (2)'!$E$3:$E$1013) -> 0 | O20: =IF(D20=(G20+J20+M20),"ok","false") -> ok | P20: 묘 | Q20: =CONCATENATE($P20,Q$5) -> 묘국 | R20: =CONCATENATE($P20,R$5) -> 묘공 | S20: =CONCATENATE($P20,S$5) -> 묘사
A21: 수도 | B21: =COUNTIF('고천리 (2)'!$C$3:$C$1013,P21) -> 0 | C21: / | D21: =SUMIF('고천리 (2)'!$C$3:$C$1013,P21,'고천리 (2)'!$E$3:$E$1013) -> 0 | E21: =COUNTIF('고천리 (2)'!$P$3:$P$1013,"수국") -> 0 | F21: / | G21: =SUMIF('고천리 (2)'!$P$3:$P$1013,Q21,'고천리 (2)'!$E$3:$E$1013) -> 0 | H21: =COUNTIF('고천리 (2)'!$P$3:$P$1013,R21) -> 0 | I21: / | J21: =SUMIF('고천리 (2)'!$P$3:$P$1013,R21,'고천리 (2)'!$E$3:$E$1013) -> 0 | K21: =COUNTIF('고천리 (2)'!$P$3:$P$1013,S21) -> 0 | L21: / | M21: =SUMIF('고천리 (2)'!$P$3:$P$1013,S21,'고천리 (2)'!$E$3:$E$1013) -> 0 | O21: =IF(D21=(G21+J21+M21),"ok","false") -> ok | P21: 수 | Q21: =CONCATENATE($P21,Q$5) -> 수국 | R21: =CONCATENATE($P21,R$5) -> 수공 | S21: =CONCATENATE($P21,S$5) -> 수사
A22: 잡종지 | B22: =COUNTIF('고천리 (2)'!$C$3:$C$1013,P22) -> 0 | C22: / | D22: =SUMIF('고천리 (2)'!$C$3:$C$1013,P22,'고천리 (2)'!$E$3:$E$1013) -> 0 | E22: =COUNTIF('고천리 (2)'!$P$3:$P$1013,"잡국") -> 0 | F22: / | G22: =SUMIF('고천리 (2)'!$P$3:$P$1013,Q22,'고천리 (2)'!$E$3:$E$1013) -> 0 | H22: =COUNTIF('고천리 (2)'!$P$3:$P$1013,R22) -> 0 | I22: / | J22: =SUMIF('고천리 (2)'!$P$3:$P$1013,R22,'고천리 (2)'!$E$3:$E$1013) -> 0 | K22: =COUNTIF('고천리 (2)'!$P$3:$P$1013,S22) -> 0 | L22: / | M22: =SUMIF('고천리 (2)'!$P$3:$P$1013,S22,'고천리 (2)'!$E$3:$E$1013) -> 0 | O22: =IF(D22=(G22+J22+M22),"ok","false") -> ok | P22: 잡 | Q22: =CONCATENATE($P22,Q$5) -> 잡국 | R22: =CONCATENATE($P22,R$5) -> 잡공 | S22: =CONCATENATE($P22,S$5) -> 잡사
A23: 종교 | B23: =COUNTIF('고천리 (2)'!$C$3:$C$1013,P23) -> 0 | C23: / | D23: =SUMIF('고천리 (2)'!$C$3:$C$1013,P23,'고천리 (2)'!$E$3:$E$1013) -> 0 | E23: =COUNTIF('고천리 (2)'!$P$3:$P$1013,"종국") -> 0 | F23: / | G23: =SUMIF('고천리 (2)'!$P$3:$P$1013,Q23,'고천리 (2)'!$E$3:$E$1013) -> 0 | H23: =COUNTIF('고천리 (2)'!$P$3:$P$1013,R23) -> 0 | I23: / | J23: =SUMIF('고천리 (2)'!$P$3:$P$1013,R23,'고천리 (2)'!$E$3:$E$1013) -> 0 | K23: =COUNTIF('고천리 (2)'!$P$3:$P$1013,S23) -> 0 | L23: / | M23: =SUMIF('고천리 (2)'!$P$3:$P$1013,S23,'고천리 (2)'!$E$3:$E$1013) -> 0 | O23: =IF(D23=(G23+J23+M23),"ok","false") -> ok | P23: 종 | Q23: =CONCATENATE($P23,Q$5) -> 종국 | R23: =CONCATENATE($P23,R$5) -> 종공 | S23: =CONCATENATE($P23,S$5) -> 종사
A24: 염전 | B24: =COUNTIF('고천리 (2)'!$C$3:$C$1013,P24) -> 0 | C24: / | D24: =SUMIF('고천리 (2)'!$C$3:$C$1013,P24,'고천리 (2)'!$E$3:$E$1013) -> 0 | E24: =COUNTIF('고천리 (2)'!$P$3:$P$1013,"염국") -> 0 | F24: / | G24: =SUMIF('고천리 (2)'!$P$3:$P$1013,Q24,'고천리 (2)'!$E$3:$E$1013) -> 0 | H24: =COUNTIF('고천리 (2)'!$P$3:$P$1013,R24) -> 0 | I24: / | J24: =SUMIF('고천리 (2)'!$P$3:$P$1013,R24,'고천리 (2)'!$E$3:$E$1013) -> 0 | K24: =COUNTIF('고천리 (2)'!$P$3:$P$1013,S24) -> 0 | L24: / | M24: =SUMIF('고천리 (2)'!$P$3:$P$1013,S24,'고천리 (2)'!$E$3:$E$1013) -> 0 | O24: =IF(D24=(G24+J24+M24),"ok","false") -> ok | P24: 염 | Q24: =CONCATENATE($P24,Q$5) -> 염국 | R24: =CONCATENATE($P24,R$5) -> 염공 | S24: =CONCATENATE($P24,S$5) -> 염사
A25: 공원 | B25: =COUNTIF('고천리 (2)'!$C$3:$C$1013,P25) -> 0 | C25: / | D25: =SUMIF('고천리 (2)'!$C$3:$C$1013,P25,'고천리 (2)'!$E$3:$E$1013) -> 0 | E25: =COUNTIF('고천리 (2)'!$P$3:$P$1013,"공국") -> 0 | F25: / | G25: =SUMIF('고천리 (2)'!$P$3:$P$1013,Q25,'고천리 (2)'!$E$3:$E$1013) -> 0 | H25: =COUNTIF('고천리 (2)'!$P$3:$P$1013,R25) -> 0 | I25: / | J25: =SUMIF('고천리 (2)'!$P$3:$P$1013,R25,'고천리 (2)'!$E$3:$E$1013) -> 0 | K25: =COUNTIF('고천리 (2)'!$P$3:$P$1013,S25) -> 0 | L25: / | M25: =SUMIF('고천리 (2)'!$P$3:$P$1013,S25,'고천리 (2)'!$E$3:$E$1013) -> 0 | O25: =IF(D25=(G25+J25+M25),"ok","false") -> ok | P25: 공 | Q25: =CONCATENATE($P25,Q$5) -> 공국 | R25: =CONCATENATE($P25,R$5) -> 공공 | S25: =CONCATENATE($P25,S$5) -> 공사
A26: 체육 | B26: =COUNTIF('고천리 (2)'!$C$3:$C$1013,P26) -> 0 | C26: / | D26: =SUMIF('고천리 (2)'!$C$3:$C$1013,P26,'고천리 (2)'!$E$3:$E$1013) -> 0 | E26: =COUNTIF('고천리 (2)'!$P$3:$P$1013,"체국") -> 0 | F26: / | G26: =SUMIF('고천리 (2)'!$P$3:$P$1013,Q26,'고천리 (2)'!$E$3:$E$1013) -> 0 | H26: =COUNTIF('고천리 (2)'!$P$3:$P$1013,R26) -> 0 | I26: / | J26: =SUMIF('고천리 (2)'!$P$3:$P$1013,R26,'고천리 (2)'!$E$3:$E$1013) -> 0 | K26: =COUNTIF('고천리 (2)'!$P$3:$P$1013,S26) -> 0 | L26: / | M26: =SUMIF('고천리 (2)'!$P$3:$P$1013,S26,'고천리 (2)'!$E$3:$E$1013) -> 0 | O26: =IF(D26=(G26+J26+M26),"ok","false") -> ok | P26: 체 | Q26: =CONCATENATE($P26,Q$5) -> 체국 | R26: =CONCATENATE($P26,R$5) -> 체공 | S26: =CONCATENATE($P26,S$5) -> 체사
A27: 주차장 | B27: =COUNTIF('고천리 (2)'!$C$3:$C$1013,P27) -> 0 | C27: / | D27: =SUMIF('고천리 (2)'!$C$3:$C$1013,P27,'고천리 (2)'!$E$3:$E$1013) -> 0 | E27: =COUNTIF('고천리 (2)'!$P$3:$P$1013,"차국") -> 0 | F27: / | G27: =SUMIF('고천리 (2)'!$P$3:$P$1013,Q27,'고천리 (2)'!$E$3:$E$1013) -> 0 | H27: =COUNTIF('고천리 (2)'!$P$3:$P$1013,R27) -> 0 | I27: / | J27: =SUMIF('고천리 (2)'!$P$3:$P$1013,R27,'고천리 (2)'!$E$3:$E$1013) -> 0 | K27: =COUNTIF('고천리 (2)'!$P$3:$P$1013,S27) -> 0 | L27: / | M27: =SUMIF('고천리 (2)'!$P$3:$P$1013,S27,'고천리 (2)'!$E$3:$E$1013) -> 0 | O27: =IF(D27=(G27+J27+M27),"ok","false") -> ok | P27: 차 | Q27: =CONCATENATE($P27,Q$5) -> 차국 | R27: =CONCATENATE($P27,R$5) -> 차공 | S27: =CONCATENATE($P27,S$5) -> 차사
A28: 주유소 | B28: =COUNTIF('고천리 (2)'!$C$3:$C$1013,P28) -> 0 | C28: / | D28: =SUMIF('고천리 (2)'!$C$3:$C$1013,P28,'고천리 (2)'!$E$3:$E$1013) -> 0 | E28: =COUNTIF('고천리 (2)'!$P$3:$P$1013,"주국") -> 0 | F28: / | G28: =SUMIF('고천리 (2)'!$P$3:$P$1013,Q28,'고천리 (2)'!$E$3:$E$1013) -> 0 | H28: =COUNTIF('고천리 (2)'!$P$3:$P$1013,R28) -> 0 | I28: / | J28: =SUMIF('고천리 (2)'!$P$3:$P$1013,R28,'고천리 (2)'!$E$3:$E$1013) -> 0 | K28: =COUNTIF('고천리 (2)'!$P$3:$P$1013,S28) -> 0 | L28: / | M28: =SUMIF('고천리 (2)'!$P$3:$P$1013,S28,'고천리 (2)'!$E$3:$E$1013) -> 0 | O28: =IF(D28=(G28+J28+M28),"ok","false") -> ok | P28: 주 | Q28: =CONCATENATE($P28,Q$5) -> 주국 | R28: =CONCATENATE($P28,R$5) -> 주공 | S28: =CONCATENATE($P28,S$5) -> 주사
A29: 창고용지 | B29: =COUNTIF('고천리 (2)'!$C$3:$C$1013,P29) -> 0 | C29: / | D29: =SUMIF('고천리 (2)'!$C$3:$C$1013,P29,'고천리 (2)'!$E$3:$E$1013) -> 0 | E29: =COUNTIF('고천리 (2)'!$P$3:$P$1013,"창국") -> 0 | F29: / | G29: =SUMIF('고천리 (2)'!$P$3:$P$1013,Q29,'고천리 (2)'!$E$3:$E$1013) -> 0 | H29: =COUNTIF('고천리 (2)'!$P$3:$P$1013,R29) -> 0 | I29: / | J29: =SUMIF('고천리 (2)'!$P$3:$P$1013,R29,'고천리 (2)'!$E$3:$E$1013) -> 0 | K29: =COUNTIF('고천리 (2)'!$P$3:$P$1013,S29) -> 0 | L29: / | M29: =SUMIF('고천리 (2)'!$P$3:$P$1013,S29,'고천리 (2)'!$E$3:$E$1013) -> 0 | O29: =IF(D29=(G29+J29+M29),"ok","false") -> ok | P29: 창 | Q29: =CONCATENATE($P29,Q$5) -> 창국 | R29: =CONCATENATE($P29,R$5) -> 창공 | S29: =CONCATENATE($P29,S$5) -> 창사
A30: 기타 | B30: =COUNTIF('고천리 (2)'!$C$3:$C$1013,P30) -> 0 | C30: / | D30: =SUMIF('고천리 (2)'!$C$3:$C$1013,P30,'고천리 (2)'!$E$3:$E$1013) -> 0 | E30: =COUNTIF('고천리 (2)'!$P$3:$P$1013,"가국") -> 0 | F30: / | G30: =SUMIF('고천리 (2)'!$P$3:$P$1013,Q30,'고천리 (2)'!$E$3:$E$1013) -> 0 | H30: =COUNTIF('고천리 (2)'!$P$3:$P$1013,R30) -> 0 | I30: / | J30: =SUMIF('고천리 (2)'!$P$3:$P$1013,R30,'고천리 (2)'!$E$3:$E$1013) -> 0 | K30: =COUNTIF('고천리 (2)'!$P$3:$P$1013,S30) -> 0 | L30: / | M30: =SUMIF('고천리 (2)'!$P$3:$P$1013,S30,'고천리 (2)'!$E$3:$E$1013) -> 0 | O30: =IF(D30=(G30+J30+M30),"ok","false") -> ok | P30: 가 | Q30: =CONCATENATE($P30,Q$5) -> 가국 | R30: =CONCATENATE($P30,R$5) -> 가공 | S30: =CONCATENATE($P30,S$5) -> 가사

Sheet 고천리 (2)
A1: 일련번호 | B1: 지번 | C1: 지목 | D1: 지적 (m2) | E1: 편입 면적 (m2) | F1: 실제이용상황 | H1: 소유자 | J1: 관계인 | M1: 비고
F2: 지목 | G2: 면 적 | H2: 성명 | I2: 주소 | J2: 성명 | K2: 주소 | L2: 권리관계 | R2: 공시지가 | S2: 사유지 | T2: 국유지 | U2: 공시가격 | V2: 2 | W2: 3 | X2: 4
A3: 1 | B3: 산505 | C3: 임 | E3: 46 | H3: 조 | N3: 3 | O3: =IF(N3=1,"국",IF(N3=2,"공","사")) -> 사 | P3: =CONCATENATE(C3,O3) -> 임사 | R3: 8440 | S3: =IF(N3=3,R3,) -> 8440 | T3: =IF(OR(N3=1,N3=2),R3,) -> 0 | U3: =S3*E3 -> 388240 | V3: =ROUND($U3*V$2,0) -> 776480 | W3: =ROUND($U3*W$2,0) -> 1164720 | X3: =ROUND($U3*X$2,0) -> 1552960
A4: =A3+1 -> 2 | B4: 산505-1 | C4: 도 | E4: 188 | H4: 강화군 | N4: 2 | O4: =IF(N4=1,"국",IF(N4=2,"공","사")) -> 공 | P4: =CONCATENATE(C4,O4) -> 도공 | R4: 2400 | S4: =IF(N4=3,R4,) -> 0 | T4: =IF(OR(N4=1,N4=2),R4,) -> 2400 | U4: =S4*E4 -> 0 | V4: =ROUND($U4*V$2,0) -> 0 | W4: =ROUND($U4*W$2,0) -> 0 | X4: =ROUND($U4*X$2,0) -> 0
A5: =A4+1 -> 3 | B5: 833-4 | C5: 도 | E5: 72 | H5: 강화군 | N5: 2 | O5: =IF(N5=1,"국",IF(N5=2,"공","사")) -> 공 | P5: =CONCATENATE(C5,O5) -> 도공 | R5: 16500 | S5: =IF(N5=3,R5,) -> 0 | T5: =IF(OR(N5=1,N5=2),R5,) -> 16500 | U5: =S5*E5 -> 0 | V5: =ROUND($U5*V$2,0) -> 0 | W5: =ROUND($U5*W$2,0) -> 0 | X5: =ROUND($U5*X$2,0) -> 0
A6: =A5+1 -> 4 | B6: 833-2 | C6: 답 | E6: 291 | H6: 강화군 | N6: 2 | O6: =IF(N6=1,"국",IF(N6=2,"공","사")) -> 공 | P6: =CONCATENATE(C6,O6) -> 답공 | R6: 60200 | S6: =IF(N6=3,R6,) -> 0 | T6: =IF(OR(N6=1,N6=2),R6,) -> 60200 | U6: =S6*E6 -> 0 | V6: =ROUND($U6*V$2,0) -> 0 | W6: =ROUND($U6*W$2,0) -> 0 | X6: =ROUND($U6*X$2,0) -> 0
A7: =A6+1 -> 5 | B7: 산504-9 | C7: 임 | E7: 67 | H7: 조 | N7: 3 | O7: =IF(N7=1,"국",IF(N7=2,"공","사")) -> 사 | P7: =CONCATENATE(C7,O7) -> 임사 | R7: 7890 | S7: =IF(N7=3,R7,) -> 7890 | T7: =IF(OR(N7=1,N7=2),R7,) -> 0 | U7: =S7*E7 -> 528630 | V7: =ROUND($U7*V$2,0) -> 1057260 | W7: =ROUND($U7*W$2,0) -> 1585890 | X7: =ROUND($U7*X$2,0) -> 2114520
A8: =A7+1 -> 6 | B8: 산504-4 | C8: 도 | E8: 294 | H8: 조 | N8: 3 | O8: =IF(N8=1,"국",IF(N8=2,"공","사")) -> 사 | P8: =CONCATENATE(C8,O8) -> 도사 | R8: 2400 | S8: =IF(N8=3,R8,) -> 2400 | T8: =IF(OR(N8=1,N8=2),R8,) -> 0 | U8: =S8*E8 -> 705600 | V8: =ROUND($U8*V$2,0) -> 1411200 | W8: =ROUND($U8*W$2,0) -> 2116800 | X8: =ROUND($U8*X$2,0) -> 2822400
A9: =A8+1 -> 7 | B9: 산504-5 | C9: 임 | E9: 74 | H9: 조 | N9: 3 | O9: =IF(N9=1,"국",IF(N9=2,"공","사")) -> 사 | P9: =CONCATENATE(C9,O9) -> 임사 | R9: 8440 | S9: =IF(N9=3,R9,) -> 8440 | T9: =IF(OR(N9=1,N9=2),R9,) -> 0 | U9: =S9*E9 -> 624560 | V9: =ROUND($U9*V$2,0) -> 1249120 | W9: =ROUND($U9*W$2,0) -> 1873680 | X9: =ROUND($U9*X$2,0) -> 2498240
A10: =A9+1 -> 8 | B10: 산494 | C10: 임 | E10: 275 | H10: 강화군 | N10: 2 | O10: =IF(N10=1,"국",IF(N10=2,"공","사")) -> 공 | P10: =CONCATENATE(C10,O10) -> 임공 | R10: 7220 | S10: =IF(N10=3,R10,) -> 0 | T10: =IF(OR(N10=1,N10=2),R10,) -> 7220 | U10: =S10*E10 -> 0 | V10: =ROUND($U10*V$2,0) -> 0 | W10: =ROUND($U10*W$2,0) -> 0 | X10: =ROUND($U10*X$2,0) -> 0
A11: =A10+1 -> 9 | B11: 산507 | C11: 임 | E11: 238 | H11: 조 | N11: 3 | O11: =IF(N11=1,"국",IF(N11=2,"공","사")) -> 사 | P11: =CONCATENATE(C11,O11) -> 임사 | R11: 8880 | S11: =IF(N11=3,R11,) -> 8880 | T11: =IF(OR(N11=1,N11=2),R11,) -> 0 | U11: =S11*E11 -> 2113440 | V11: =ROUND($U11*V$2,0) -> 4226880 | W11: =ROUND($U11*W$2,0) -> 6340320 | X11: =ROUND($U11*X$2,0) -> 8453760
A12: =A11+1 -> 10 | B12: 산507-1 | C12: 도 | E12: 1080 | H12: 강화군 | N12: 2 | O12: =IF(N12=1,"국",IF(N12=2,"공","사")) -> 공 | P12: =CONCATENATE(C12,O12) -> 도공 | R12: 16500 | S12: =IF(N12=3,R12,) -> 0 | T12: =IF(OR(N12=1,N12=2),R12,) -> 16500 | U12: =S12*E12 -> 0 | V12: =ROUND($U12*V$2,0) -> 0 | W12: =ROUND($U12*W$2,0) -> 0 | X12: =ROUND($U12*X$2,0) -> 0
A13: =A12+1 -> 11 | B13: 833-7 | C13: 임 | E13: 289 | H13: 황 | N13: 3 | O13: =IF(N13=1,"국",IF(N13=2,"공","사")) -> 사 | P13: =CONCATENATE(C13,O13) -> 임사 | R13: 8040 | S13: =IF(N13=3,R13,) -> 8040 | T13: =IF(OR(N13=1,N13=2),R13,) -> 0 | U13: =S13*E13 -> 2323560 | V13: =ROUND($U13*V$2,0) -> 4647120 | W13: =ROUND($U13*W$2,0) -> 6970680 | X13: =ROUND($U13*X$2,0) -> 9294240
A14: =A13+1 -> 12 | B14: 833-8 | C14: 임 | E14: 206 | H14: 김 | N14: 3 | O14: =IF(N14=1,"국",IF(N14=2,"공","사")) -> 사 | P14: =CONCATENATE(C14,O14) -> 임사 | R14: 8040 | S14: =IF(N14=3,R14,) -> 8040 | T14: =IF(OR(N14=1,N14=2),R14,) -> 0 | U14: =S14*E14 -> 1656240 | V14: =ROUND($U14*V$2,0) -> 3312480 | W14: =ROUND($U14*W$2,0) -> 4968720 | X14: =ROUND($U14*X$2,0) -> 6624960
A15: =A14+1 -> 13 | B15: 833 | C15: 도 | E15: 196 | H15: 강화군 | N15: 2 | O15: =IF(N15=1,"국",IF(N15=2,"공","사")) -> 공 | P15: =CONCATENATE(C15,O15) -> 도공 | R15: 16500 | S15: =IF(N15=3,R15,) -> 0 | T15: =IF(OR(N15=1,N15=2),R15,) -> 16500 | U15: =S15*E15 -> 0 | V15: =ROUND($U15*V$2,0) -> 0 | W15: =ROUND($U15*W$2,0) -> 0 | X15: =ROUND($U15*X$2,0) -> 0
A16: =A15+1 -> 14 | B16: 833-6 | C16: 답 | E16: 287 | H16: 강화군 | N16: 2 | O16: =IF(N16=1,"국",IF(N16=2,"공","사")) -> 공 | P16: =CONCATENATE(C16,O16) -> 답공 | R16: 63500 | S16: =IF(N16=3,R16,) -> 0 | T16: =IF(OR(N16=1,N16=2),R16,) -> 63500 | U16: =S16*E16 -> 0 | V16: =ROUND($U16*V$2,0) -> 0 | W16: =ROUND($U16*W$2,0) -> 0 | X16: =ROUND($U16*X$2,0) -> 0
A17: =A16+1 -> 15 | B17: 산509-1 | C17: 도 | E17: 419 | H17: 강화군 | N17: 2 | O17: =IF(N17=1,"국",IF(N17=2,"공","사")) -> 공 | P17: =CONCATENATE(C17,O17) -> 도공 | R17: 5510 | S17: =IF(N17=3,R17,) -> 0 | T17: =IF(OR(N17=1,N17=2),R17,) -> 5510 | U17: =S17*E17 -> 0 | V17: =ROUND($U17*V$2,0) -> 0 | W17: =ROUND($U17*W$2,0) -> 0 | X17: =ROUND($U17*X$2,0) -> 0
A18: =A17+1 -> 16 | B18: 산509 | C18: 임 | E18: 4 | H18: 조 | N18: 3 | O18: =IF(N18=1,"국",IF(N18=2,"공","사")) -> 사 | P18: =CONCATENATE(C18,O18) -> 임사 | R18: 13100 | S18: =IF(N18=3,R18,) -> 13100 | T18: =IF(OR(N18=1,N18=2),R18,) -> 0 | U18: =S18*E18 -> 52400 | V18: =ROUND($U18*V$2,0) -> 104800 | W18: =ROUND($U18*W$2,0) -> 157200 | X18: =ROUND($U18*X$2,0) -> 209600
A19: =A18+1 -> 17 | B19: 832 | C19: 도 | E19: 241 | H19: 강화군 | N19: 2 | O19: =IF(N19=1,"국",IF(N19=2,"공","사")) -> 공 | P19: =CONCATENATE(C19,O19) -> 도공 | R19: 16500 | S19: =IF(N19=3,R19,) -> 0 | T19: =IF(OR(N19=1,N19=2),R19,) -> 16500 | U19: =S19*E19 -> 0 | V19: =ROUND($U19*V$2,0) -> 0 | W19: =ROUND($U19*W$2,0) -> 0 | X19: =ROUND($U19*X$2,0) -> 0
A20: =A19+1 -> 18 | B20: 832-1 | C20: 답 | E20: 317 | H20: 강화군 | N20: 2 | O20: =IF(N20=1,"국",IF(N20=2,"공","사")) -> 공 | P20: =CONCATENATE(C20,O20) -> 답공 | R20: 44800 | S20: =IF(N20=3,R20,) -> 0 | T20: =IF(OR(N20=1,N20=2),R20,) -> 44800 | U20: =S20*E20 -> 0 | V20: =ROUND($U20*V$2,0) -> 0 | W20: =ROUND($U20*W$2,0) -> 0 | X20: =ROUND($U20*X$2,0) -> 0
A21: =A20+1 -> 19 | B21: 산510-1 | C21: 도 | E21: 908 | H21: 윤 | N21: 3 | O21: =IF(N21=1,"국",IF(N21=2,"공","사")) -> 사 | P21: =CONCATENATE(C21,O21) -> 도사 | R21: 5510 | S21: =IF(N21=3,R21,) -> 5510 | T21: =IF(OR(N21=1,N21=2),R21,) -> 0 | U21: =S21*E21 -> 5003080 | V21: =ROUND($U21*V$2,0) -> 10006160 | W21: =ROUND($U21*W$2,0) -> 15009240 | X21: =ROUND($U21*X$2,0) -> 20012320
A22: =A21+1 -> 20 | B22: 산510 | C22: 임 | E22: 918 | H22: 김외1명 | N22: 3 | O22: =IF(N22=1,"국",IF(N22=2,"공","사")) -> 사 | P22: =CONCATENATE(C22,O22) -> 임사 | R22: 17600 | S22: =IF(N22=3,R22,) -> 17600 | T22: =IF(OR(N22=1,N22=2),R22,) -> 0 | U22: =S22*E22 -> 16156800 | V22: =ROUND($U22*V$2,0) -> 32313600 | W22: =ROUND($U22*W$2,0) -> 48470400 | X22: =ROUND($U22*X$2,0) -> 64627200
A23: =A22+1 -> 21 | B23: 831-1 | C23: 도 | E23: 9 | H23: 강화군 | N23: 2 | O23: =IF(N23=1,"국",IF(N23=2,"공","사")) -> 공 | P23: =CONCATENATE(C23,O23) -> 도공 | R23: 21400 | S23: =IF(N23=3,R23,) -> 0 | T23: =IF(OR(N23=1,N23=2),R23,) -> 21400 | U23: =S23*E23 -> 0 | V23: =ROUND($U23*V$2,0) -> 0 | W23: =ROUND($U23*W$2,0) -> 0 | X23: =ROUND($U23*X$2,0) -> 0
A24: =A23+1 -> 22 | B24: 831 | C24: 답 | E24: 26 | H24: 강화군 | N24: 2 | O24: =IF(N24=1,"국",IF(N24=2,"공","사")) -> 공 | P24: =CONCATENATE(C24,O24) -> 답공 | R24: 57600 | S24: =IF(N24=3,R24,) -> 0 | T24: =IF(OR(N24=1,N24=2),R24,) -> 57600 | U24: =S24*E24 -> 0 | V24: =ROUND($U24*V$2,0) -> 0 | W24: =ROUND($U24*W$2,0) -> 0 | X24: =ROUND($U24*X$2,0) -> 0
A25: =A24+1 -> 23 | B25: 830-1 | C25: 도 | E25: 77 | H25: 한 | N25: 3 | O25: =IF(N25=1,"국",IF(N25=2,"공","사")) -> 사 | P25: =CONCATENATE(C25,O25) -> 도사 | R25: 21400 | S25: =IF(N25=3,R25,) -> 21400 | T25: =IF(OR(N25=1,N25=2),R25,) -> 0 | U25: =S25*E25 -> 1647800 | V25: =ROUND($U25*V$2,0) -> 3295600 | W25: =ROUND($U25*W$2,0) -> 4943400 | X25: =ROUND($U25*X$2,0) -> 6591200
A26: =A25+1 -> 24 | B26: 830 | C26: 대 | E26: 55 | H26: 신 | N26: 3 | O26: =IF(N26=1,"국",IF(N26=2,"공","사")) -> 사 | P26: =CONCATENATE(C26,O26) -> 대사 | R26: 100100 | S26: =IF(N26=3,R26,) -> 100100 | T26: =IF(OR(N26=1,N26=2),R26,) -> 0 | U26: =S26*E26 -> 5505500 | V26: =ROUND($U26*V$2,0) -> 11011000 | W26: =ROUND($U26*W$2,0) -> 16516500 | X26: =ROUND($U26*X$2,0) -> 22022000
A27: =A26+1 -> 25 | B27: 1920 | C27: 도 | E27: 141 | H27: 국 | N27: 1 | O27: =IF(N27=1,"국",IF(N27=2,"공","사")) -> 국 | P27: =CONCATENATE(C27,O27) -> 도국 | R27: 37900 | S27: =IF(N27=3,R27,) -> 0 | T27: =IF(OR(N27=1,N27=2),R27,) -> 37900 | U27: =S27*E27 -> 0 | V27: =ROUND($U27*V$2,0) -> 0 | W27: =ROUND($U27*W$2,0) -> 0 | X27: =ROUND($U27*X$2,0) -> 0
A28: =A27+1 -> 26 | B28: 830-3 | C28: 대 | E28: 4 | H28: 신 | N28: 3 | O28: =IF(N28=1,"국",IF(N28=2,"공","사")) -> 사 | P28: =CONCATENATE(C28,O28) -> 대사 | R28: 95400 | S28: =IF(N28=3,R28,) -> 95400 | T28: =IF(OR(N28=1,N28=2),R28,) -> 0 | U28: =S28*E28 -> 381600 | V28: =ROUND($U28*V$2,0) -> 763200 | W28: =ROUND($U28*W$2,0) -> 1144800 | X28: =ROUND($U28*X$2,0) -> 1526400
A29: =A28+1 -> 27 | B29: 830-4 | C29: 대 | E29: 19 | H29: 김 | N29: 3 | O29: =IF(N29=1,"국",IF(N29=2,"공","사")) -> 사 | P29: =CONCATENATE(C29,O29) -> 대사 | R29: 95400 | S29: =IF(N29=3,R29,) -> 95400 | T29: =IF(OR(N29=1,N29=2),R29,) -> 0 | U29: =S29*E29 -> 1812600 | V29: =ROUND($U29*V$2,0) -> 3625200 | W29: =ROUND($U29*W$2,0) -> 5437800 | X29: =ROUND($U29*X$2,0) -> 7250400
A30: =A29+1 -> 28 | B30: 830-2 | C30: 도 | E30: 6 | H30: 한 | N30: 3 | O30: =IF(N30=1,"국",IF(N30=2,"공","사")) -> 사 | P30: =CONCATENATE(C30,O30) -> 도사 | R30: 21400 | S30: =IF(N30=3,R30,) -> 21400 | T30: =IF(OR(N30=1,N30=2),R30,) -> 0 | U30: =S30*E30 -> 128400 | V30: =ROUND($U30*V$2,0) -> 256800 | W30: =ROUND($U30*W$2,0) -> 385200 | X30: =ROUND($U30*X$2,0) -> 513600
A31: =A30+1 -> 29 | B31: 산511 | C31: 임 | E31: 342 | H31: 학 | N31: 3 | O31: =IF(N31=1,"국",IF(N31=2,"공","사")) -> 사 | P31: =CONCATENATE(C31,O31) -> 임사 | R31: 17600 | S31: =IF(N31=3,R31,) -> 17600 | T31: =IF(OR(N31=1,N31=2),R31,) -> 0 | U31: =S31*E31 -> 6019200 | V31: =ROUND($U31*V$2,0) -> 12038400 | W31: =ROUND($U31*W$2,0) -> 18057600 | X31: =ROUND($U31*X$2,0) -> 24076800
A32: =A31+1 -> 30 | B32: 산511-1 | C32: 도 | E32: 1580 | H32: 학 | N32: 3 | O32: =IF(N32=1,"국",IF(N32=2,"공","사")) -> 사 | P32: =CONCATENATE(C32,O32) -> 도사 | R32: 5770 | S32: =IF(N32=3,R32,) -> 5770 | T32: =IF(OR(N32=1,N32=2),R32,) -> 0 | U32: =S32*E32 -> 9116600 | V32: =ROUND($U32*V$2,0) -> 18233200 | W32: =ROUND($U32*W$2,0) -> 27349800 | X32: =ROUND($U32*X$2,0) -> 36466400
A33: =A32+1 -> 31 | B33: 804-1 | C33: 대 | E33: 39 | H33: 윤 | N33: 3 | O33: =IF(N33=1,"국",IF(N33=2,"공","사")) -> 사 | P33: =CONCATENATE(C33,O33) -> 대사 | R33: 96300 | S33: =IF(N33=3,R33,) -> 96300 | T33: =IF(OR(N33=1,N33=2),R33,) -> 0 | U33: =S33*E33 -> 3755700 | V33: =ROUND($U33*V$2,0) -> 7511400 | W33: =ROUND($U33*W$2,0) -> 11267100 | X33: =ROUND($U33*X$2,0) -> 15022800
A34: =A33+1 -> 32 | B34: 804-3 | C34: 도 | E34: 42 | H34: 조 | N34: 3 | O34: =IF(N34=1,"국",IF(N34=2,"공","사")) -> 사 | P34: =CONCATENATE(C34,O34) -> 도사 | R34: 21400 | S34: =IF(N34=3,R34,) -> 21400 | T34: =IF(OR(N34=1,N34=2),R34,) -> 0 | U34: =S34*E34 -> 898800 | V34: =ROUND($U34*V$2,0) -> 1797600 | W34: =ROUND($U34*W$2,0) -> 2696400 | X34: =ROUND($U34*X$2,0) -> 3595200
A35: =A34+1 -> 33 | B35: 804-2 | C35: 대 | E35: 180 | H35: 양 | N35: 3 | O35: =IF(N35=1,"국",IF(N35=2,"공","사")) -> 사 | P35: =CONCATENATE(C35,O35) -> 대사 | R35: 65000 | S35: =IF(N35=3,R35,) -> 65000 | T35: =IF(OR(N35=1,N35=2),R35,) -> 0 | U35: =S35*E35 -> 11700000 | V35: =ROUND($U35*V$2,0) -> 23400000 | W35: =ROUND($U35*W$2,0) -> 35100000 | X35: =ROUND($U35*X$2,0) -> 46800000
A36: =A35+1 -> 34 | B36: 828-1 | C36: 임 | E36: 167 | H36: 학 | N36: 3 | O36: =IF(N36=1,"국",IF(N36=2,"공","사")) -> 사 | P36: =CONCATENATE(C36,O36) -> 임사 | R36: 20500 | S36: =IF(N36=3,R36,) -> 20500 | T36: =IF(OR(N36=1,N36=2),R36,) -> 0 | U36: =S36*E36 -> 3423500 | V36: =ROUND($U36*V$2,0) -> 6847000 | W36: =ROUND($U36*W$2,0) -> 10270500 | X36: =ROUND($U36*X$2,0) -> 13694000
A37: =A36+1 -> 35 | B37: 828-2 | C37: 도 | E37: 15 | H37: 이 | N37: 3 | O37: =IF(N37=1,"국",IF(N37=2,"공","사")) -> 사 | P37: =CONCATENATE(C37,O37) -> 도사 | R37: 5770 | S37: =IF(N37=3,R37,) -> 5770 | T37: =IF(OR(N37=1,N37=2),R37,) -> 0 | U37: =S37*E37 -> 86550 | V37: =ROUND($U37*V$2,0) -> 173100 | W37: =ROUND($U37*W$2,0) -> 259650 | X37: =ROUND($U37*X$2,0) -> 346200
A38: =A37+1 -> 36 | B38: 827-1 | C38: 전 | E38: 67 | H38: 김 | N38: 3 | O38: =IF(N38=1,"국",IF(N38=2,"공","사")) -> 사 | P38: =CONCATENATE(C38,O38) -> 전사 | R38: 98100 | S38: =IF(N38=3,R38,) -> 98100 | T38: =IF(OR(N38=1,N38=2),R38,) -> 0 | U38: =S38*E38 -> 6572700 | V38: =ROUND($U38*V$2,0) -> 13145400 | W38: =ROUND($U38*W$2,0) -> 19718100 | X38: =ROUND($U38*X$2,0) -> 26290800
A39: =A38+1 -> 37 | B39: 827 | C39: 전 | E39: 19 | H39: 김 | N39: 3 | O39: =IF(N39=1,"국",IF(N39=2,"공","사")) -> 사 | P39: =CONCATENATE(C39,O39) -> 전사 | R39: 98100 | S39: =IF(N39=3,R39,) -> 98100 | T39: =IF(OR(N39=1,N39=2),R39,) -> 0 | U39: =S39*E39 -> 1863900 | V39: =ROUND($U39*V$2,0) -> 3727800 | W39: =ROUND($U39*W$2,0) -> 5591700 | X39: =ROUND($U39*X$2,0) -> 7455600
A40: =A39+1 -> 38 | B40: 826-2 | C40: 전 | E40: 308 | H40: 한 | N40: 3 | O40: =IF(N40=1,"국",IF(N40=2,"공","사")) -> 사 | P40: =CONCATENATE(C40,O40) -> 전사 | R40: 60000 | S40: =IF(N40=3,R40,) -> 60000 | T40: =IF(OR(N40=1,N40=2),R40,) -> 0 | U40: =S40*E40 -> 18480000 | V40: =ROUND($U40*V$2,0) -> 36960000 | W40: =ROUND($U40*W$2,0) -> 55440000 | X40: =ROUND($U40*X$2,0) -> 73920000
A41: =A40+1 -> 39 | B41: 825-4 | C41: 전 | E41: 26 | H41: 김외1명 | N41: 3 | O41: =IF(N41=1,"국",IF(N41=2,"공","사")) -> 사 | P41: =CONCATENATE(C41,O41) -> 전사 | R41: 74800 | S41: =IF(N41=3,R41,) -> 74800 | T41: =IF(OR(N41=1,N41=2),R41,) -> 0 | U41: =S41*E41 -> 1944800 | V41: =ROUND($U41*V$2,0) -> 3889600 | W41: =ROUND($U41*W$2,0) -> 5834400 | X41: =ROUND($U41*X$2,0) -> 7779200
A42: =A41+1 -> 40 | B42: 825-2 | C42: 전 | E42: 92 | H42: 김 | N42: 3 | O42: =IF(N42=1,"국",IF(N42=2,"공","사")) -> 사 | P42: =CONCATENATE(C42,O42) -> 전사 | R42: 74800 | S42: =IF(N42=3,R42,) -> 74800 | T42: =IF(OR(N42=1,N42=2),R42,) -> 0 | U42: =S42*E42 -> 6881600 | V42: =ROUND($U42*V$2,0) -> 13763200 | W42: =ROUND($U42*W$2,0) -> 20644800 | X42: =ROUND($U42*X$2,0) -> 27526400
A43: =A42+1 -> 41 | B43: 822-1 | C43: 전 | E43: 33 | H43: 안 | N43: 3 | O43: =IF(N43=1,"국",IF(N43=2,"공","사")) -> 사 | P43: =CONCATENATE(C43,O43) -> 전사 | R43: 76500 | S43: =IF(N43=3,R43,) -> 76500 | T43: =IF(OR(N43=1,N43=2),R43,) -> 0 | U43: =S43*E43 -> 2524500 | V43: =ROUND($U43*V$2,0) -> 5049000 | W43: =ROUND($U43*W$2,0) -> 7573500 | X43: =ROUND($U43*X$2,0) -> 10098000
A44: =A43+1 -> 42 | B44: 822 | C44: 전 | E44: 42 | H44: 조외1명 | N44: 3 | O44: =IF(N44=1,"국",IF(N44=2,"공","사")) -> 사 | P44: =CONCATENATE(C44,O44) -> 전사 | R44: 76500 | S44: =IF(N44=3,R44,) -> 76500 | T44: =IF(OR(N44=1,N44=2),R44,) -> 0 | U44: =S44*E44 -> 3213000 | V44: =ROUND($U44*V$2,0) -> 6426000 | W44: =ROUND($U44*W$2,0) -> 9639000 | X44: =ROUND($U44*X$2,0) -> 12852000
A45: =A44+1 -> 43 | B45: 821-1 | C45: 대 | E45: 12 | H45: 전 | N45: 3 | O45: =IF(N45=1,"국",IF(N45=2,"공","사")) -> 사 | P45: =CONCATENATE(C45,O45) -> 대사 | R45: 125300 | S45: =IF(N45=3,R45,) -> 125300 | T45: =IF(OR(N45=1,N45=2),R45,) -> 0 | U45: =S45*E45 -> 1503600 | V45: =ROUND($U45*V$2,0) -> 3007200 | W45: =ROUND($U45*W$2,0) -> 4510800 | X45: =ROUND($U45*X$2,0) -> 6014400
A46: =A45+1 -> 44 | B46: 844 | C46: 도 | E46: 121 | H46: - | N46: 3 | O46: =IF(N46=1,"국",IF(N46=2,"공","사")) -> 사 | P46: =CONCATENATE(C46,O46) -> 도사 | R46: 18100 | S46: =IF(N46=3,R46,) -> 18100 | T46: =IF(OR(N46=1,N46=2),R46,) -> 0 | U46: =S46*E46 -> 2190100 | V46: =ROUND($U46*V$2,0) -> 4380200 | W46: =ROUND($U46*W$2,0) -> 6570300 | X46: =ROUND($U46*X$2,0) -> 8760400
A47: =A46+1 -> 45 | B47: 844-1 | C47: 답 | E47: 111 | H47: - | N47: 3 | O47: =IF(N47=1,"국",IF(N47=2,"공","사")) -> 사 | P47: =CONCATENATE(C47,O47) -> 답사 | R47: 60700 | S47: =IF(N47=3,R47,) -> 60700 | T47: =IF(OR(N47=1,N47=2),R47,) -> 0 | U47: =S47*E47 -> 6737700 | V47: =ROUND($U47*V$2,0) -> 13475400 | W47: =ROUND($U47*W$2,0) -> 20213100 | X47: =ROUND($U47*X$2,0) -> 26950800
A48: =A47+1 -> 46 | B48: 846 | C48: 도 | E48: 86 | H48: 한 | N48: 3 | O48: =IF(N48=1,"국",IF(N48=2,"공","사")) -> 사 | P48: =CONCATENATE(C48,O48) -> 도사 | R48: 18100 | S48: =IF(N48=3,R48,) -> 18100 | T48: =IF(OR(N48=1,N48=2),R48,) -> 0 | U48: =S48*E48 -> 1556600 | V48: =ROUND($U48*V$2,0) -> 3113200 | W48: =ROUND($U48*W$2,0) -> 4669800 | X48: =ROUND($U48*X$2,0) -> 6226400
A49: =A48+1 -> 47 | B49: 846-1 | C49: 답 | E49: 122 | H49: 한 | N49: 3 | O49: =IF(N49=1,"국",IF(N49=2,"공","사")) -> 사 | P49: =CONCATENATE(C49,O49) -> 답사 | R49: 58900 | S49: =IF(N49=3,R49,) -> 58900 | T49: =IF(OR(N49=1,N49=2),R49,) -> 0 | U49: =S49*E49 -> 7185800 | V49: =ROUND($U49*V$2,0) -> 14371600 | W49: =ROUND($U49*W$2,0) -> 21557400 | X49: =ROUND($U49*X$2,0) -> 28743200
A50: =A49+1 -> 48 | B50: 843 | C50: 답 | E50: 55 | H50: 장 | N50: 3 | O50: =IF(N50=1,"국",IF(N50=2,"공","사")) -> 사 | P50: =CONCATENATE(C50,O50) -> 답사 | R50: 49100 | S50: =IF(N50=3,R50,) -> 49100 | T50: =IF(OR(N50=1,N50=2),R50,) -> 0 | U50: =S50*E50 -> 2700500 | V50: =ROUND($U50*V$2,0) -> 5401000 | W50: =ROUND($U50*W$2,0) -> 8101500 | X50: =ROUND($U50*X$2,0) -> 10802000
A51: =A50+1 -> 49 | B51: 845 | C51: 답 | E51: 56 | H51: 방 | N51: 3 | O51: =IF(N51=1,"국",IF(N51=2,"공","사")) -> 사 | P51: =CONCATENATE(C51,O51) -> 답사 | R51: 52800 | S51: =IF(N51=3,R51,) -> 52800 | T51: =IF(OR(N51=1,N51=2),R51,) -> 0 | U51: =S51*E51 -> 2956800 | V51: =ROUND($U51*V$2,0) -> 5913600 | W51: =ROUND($U51*W$2,0) -> 8870400 | X51: =ROUND($U51*X$2,0) -> 11827200
A52: =A51+1 -> 50 | B52: 851 | C52: 답 | E52: 110 | H52: 유 | N52: 3 | O52: =IF(N52=1,"국",IF(N52=2,"공","사")) -> 사 | P52: =CONCATENATE(C52,O52) -> 답사 | R52: 52400 | S52: =IF(N52=3,R52,) -> 52400 | T52: =IF(OR(N52=1,N52=2),R52,) -> 0 | U52: =S52*E52 -> 5764000 | V52: =ROUND($U52*V$2,0) -> 11528000 | W52: =ROUND($U52*W$2,0) -> 17292000 | X52: =ROUND($U52*X$2,0) -> 23056000
A53: =A52+1 -> 51 | B53: 821 | C53: 대 | E53: 20 | H53: 전 | N53: 3 | O53: =IF(N53=1,"국",IF(N53=2,"공","사")) -> 사 | P53: =CONCATENATE(C53,O53) -> 대사 | R53: 125300 | S53: =IF(N53=3,R53,) -> 125300 | T53: =IF(OR(N53=1,N53=2),R53,) -> 0 | U53: =S53*E53 -> 2506000 | V53: =ROUND($U53*V$2,0) -> 5012000 | W53: =ROUND($U53*W$2,0) -> 7518000 | X53: =ROUND($U53*X$2,0) -> 10024000
A54: =A53+1 -> 52 | B54: 847 | C54: 전 | E54: 31 | H54: 황 | N54: 3 | O54: =IF(N54=1,"국",IF(N54=2,"공","사")) -> 사 | P54: =CONCATENATE(C54,O54) -> 전사 | R54: 55900 | S54: =IF(N54=3,R54,) -> 55900 | T54: =IF(OR(N54=1,N54=2),R54,) -> 0 | U54: =S54*E54 -> 1732900 | V54: =ROUND($U54*V$2,0) -> 3465800 | W54: =ROUND($U54*W$2,0) -> 5198700 | X54: =ROUND($U54*X$2,0) -> 6931600
A55: =A54+1 -> 53 | B55: 819 | C55: 대 | E55: 57 | H55: 조 | N55: 3 | O55: =IF(N55=1,"국",IF(N55=2,"공","사")) -> 사 | P55: =CONCATENATE(C55,O55) -> 대사 | R55: 131400 | S55: =IF(N55=3,R55,) -> 131400 | T55: =IF(OR(N55=1,N55=2),R55,) -> 0 | U55: =S55*E55 -> 7489800 | V55: =ROUND($U55*V$2,0) -> 14979600 | W55: =ROUND($U55*W$2,0) -> 22469400 | X55: =ROUND($U55*X$2,0) -> 29959200
A56: =A55+1 -> 54 | B56: 819-1 | C56: 도 | E56: 35 | H56: 강화군 | N56: 2 | O56: =IF(N56=1,"국",IF(N56=2,"공","사")) -> 공 | P56: =CONCATENATE(C56,O56) -> 도공 | R56: 18100 | S56: =IF(N56=3,R56,) -> 0 | T56: =IF(OR(N56=1,N56=2),R56,) -> 18100 | U56: =S56*E56 -> 0 | V56: =ROUND($U56*V$2,0) -> 0 | W56: =ROUND($U56*W$2,0) -> 0 | X56: =ROUND($U56*X$2,0) -> 0
A57: =A56+1 -> 55 | B57: 819-2 | C57: 전 | E57: 117 | H57: 한 | N57: 3 | O57: =IF(N57=1,"국",IF(N57=2,"공","사")) -> 사 | P57: =CONCATENATE(C57,O57) -> 전사 | R57: 76500 | S57: =IF(N57=3,R57,) -> 76500 | T57: =IF(OR(N57=1,N57=2),R57,) -> 0 | U57: =S57*E57 -> 8950500 | V57: =ROUND($U57*V$2,0) -> 17901000 | W57: =ROUND($U57*W$2,0) -> 26851500 | X57: =ROUND($U57*X$2,0) -> 35802000
A58: =A57+1 -> 56 | B58: 820 | C58: 답 | E58: 179 | H58: 황 | N58: 3 | O58: =IF(N58=1,"국",IF(N58=2,"공","사")) -> 사 | P58: =CONCATENATE(C58,O58) -> 답사 | R58: 66100 | S58: =IF(N58=3,R58,) -> 66100 | T58: =IF(OR(N58=1,N58=2),R58,) -> 0 | U58: =S58*E58 -> 11831900 | V58: =ROUND($U58*V$2,0) -> 23663800 | W58: =ROUND($U58*W$2,0) -> 35495700 | X58: =ROUND($U58*X$2,0) -> 47327600
A59: =A58+1 -> 57 | B59: 820-1 | C59: 도 | E59: 157 | H59: 황 | N59: 3 | O59: =IF(N59=1,"국",IF(N59=2,"공","사")) -> 사 | P59: =CONCATENATE(C59,O59) -> 도사 | R59: 18100 | S59: =IF(N59=3,R59,) -> 18100 | T59: =IF(OR(N59=1,N59=2),R59,) -> 0 | U59: =S59*E59 -> 2841700 | V59: =ROUND($U59*V$2,0) -> 5683400 | W59: =ROUND($U59*W$2,0) -> 8525100 | X59: =ROUND($U59*X$2,0) -> 11366800
A60: =A59+1 -> 58 | B60: 788-3 | C60: 답 | E60: 14 | H60: 송 | N60: 3 | O60: =IF(N60=1,"국",IF(N60=2,"공","사")) -> 사 | P60: =CONCATENATE(C60,O60) -> 답사 | R60: 78900 | S60: =IF(N60=3,R60,) -> 78900 | T60: =IF(OR(N60=1,N60=2),R60,) -> 0 | U60: =S60*E60 -> 1104600 | V60: =ROUND($U60*V$2,0) -> 2209200 | W60: =ROUND($U60*W$2,0) -> 3313800 | X60: =ROUND($U60*X$2,0) -> 4418400
A61: =A60+1 -> 59 | B61: 849-2 | C61: 도 | E61: 1 | H61: 조 | N61: 3 | O61: =IF(N61=1,"국",IF(N61=2,"공","사")) -> 사 | P61: =CONCATENATE(C61,O61) -> 도사 | R61: 40500 | S61: =IF(N61=3,R61,) -> 40500 | T61: =IF(OR(N61=1,N61=2),R61,) -> 0 | U61: =S61*E61 -> 40500 | V61: =ROUND($U61*V$2,0) -> 81000 | W61: =ROUND($U61*W$2,0) -> 121500 | X61: =ROUND($U61*X$2,0) -> 162000
A62: =A61+1 -> 60 | B62: 1908 | C62: 도 | E62: 8 | H62: 국 | N62: 1 | O62: =IF(N62=1,"국",IF(N62=2,"공","사")) -> 국 | P62: =CONCATENATE(C62,O62) -> 도국 | R62: 18100 | S62: =IF(N62=3,R62,) -> 0 | T62: =IF(OR(N62=1,N62=2),R62,) -> 18100 | U62: =S62*E62 -> 0 | V62: =ROUND($U62*V$2,0) -> 0 | W62: =ROUND($U62*W$2,0) -> 0 | X62: =ROUND($U62*X$2,0) -> 0
A63: =A62+1 -> 61 | B63: 863 | C63: 답 | E63: 38 | H63: 김 | N63: 3 | O63: =IF(N63=1,"국",IF(N63=2,"공","사")) -> 사 | P63: =CONCATENATE(C63,O63) -> 답사 | R63: 54800 | S63: =IF(N63=3,R63,) -> 54800 | T63: =IF(OR(N63=1,N63=2),R63,) -> 0 | U63: =S63*E63 -> 2082400 | V63: =ROUND($U63*V$2,0) -> 4164800 | W63: =ROUND($U63*W$2,0) -> 6247200 | X63: =ROUND($U63*X$2,0) -> 8329600
A64: =A63+1 -> 62 | B64: 864-6 | C64: 도 | E64: 103 | H64: 강화군 | N64: 2 | O64: =IF(N64=1,"국",IF(N64=2,"공","사")) -> 공 | P64: =CONCATENATE(C64,O64) -> 도공 | R64: 18100 | S64: =IF(N64=3,R64,) -> 0 | T64: =IF(OR(N64=1,N64=2),R64,) -> 18100 | U64: =S64*E64 -> 0 | V64: =ROUND($U64*V$2,0) -> 0 | W64: =ROUND($U64*W$2,0) -> 0 | X64: =ROUND($U64*X$2,0) -> 0
A65: =A64+1 -> 63 | B65: 864-3 | C65: 천 | E65: 390 | H65: 한 | N65: 3 | O65: =IF(N65=1,"국",IF(N65=2,"공","사")) -> 사 | P65: =CONCATENATE(C65,O65) -> 천사 | R65: 18100 | S65: =IF(N65=3,R65,) -> 18100 | T65: =IF(OR(N65=1,N65=2),R65,) -> 0 | U65: =S65*E65 -> 7059000 | V65: =ROUND($U65*V$2,0) -> 14118000 | W65: =ROUND($U65*W$2,0) -> 21177000 | X65: =ROUND($U65*X$2,0) -> 28236000
A66: =A65+1 -> 64 | B66: 864-7 | C66: 답 | E66: 184 | H66: 송 | N66: 3 | O66: =IF(N66=1,"국",IF(N66=2,"공","사")) -> 사 | P66: =CONCATENATE(C66,O66) -> 답사 | R66: 74200 | S66: =IF(N66=3,R66,) -> 74200 | T66: =IF(OR(N66=1,N66=2),R66,) -> 0 | U66: =S66*E66 -> 13652800 | V66: =ROUND($U66*V$2,0) -> 27305600 | W66: =ROUND($U66*W$2,0) -> 40958400 | X66: =ROUND($U66*X$2,0) -> 54611200
A67: =A66+1 -> 65 | B67: 864-1 | C67: 답 | E67: 269 | H67: 한 | N67: 3 | O67: =IF(N67=1,"국",IF(N67=2,"공","사")) -> 사 | P67: =CONCATENATE(C67,O67) -> 답사 | R67: 117900 | S67: =IF(N67=3,R67,) -> 117900 | T67: =IF(OR(N67=1,N67=2),R67,) -> 0 | U67: =S67*E67 -> 31715100 | V67: =ROUND($U67*V$2,0) -> 63430200 | W67: =ROUND($U67*W$2,0) -> 95145300 | X67: =ROUND($U67*X$2,0) -> 126860400
A68: =A67+1 -> 66 | B68: 864-5 | C68: 도 | E68: 182 | H68: 강화군 | N68: 2 | O68: =IF(N68=1,"국",IF(N68=2,"공","사")) -> 공 | P68: =CONCATENATE(C68,O68) -> 도공 | R68: 18100 | S68: =IF(N68=3,R68,) -> 0 | T68: =IF(OR(N68=1,N68=2),R68,) -> 18100 | U68: =S68*E68 -> 0 | V68: =ROUND($U68*V$2,0) -> 0 | W68: =ROUND($U68*W$2,0) -> 0 | X68: =ROUND($U68*X$2,0) -> 0
A69: =A68+1 -> 67 | B69: 864-4 | C69: 답 | E69: 40 | H69: 김 | N69: 3 | O69: =IF(N69=1,"국",IF(N69=2,"공","사")) -> 사 | P69: =CONCATENATE(C69,O69) -> 답사 | R69: 54800 | S69: =IF(N69=3,R69,) -> 54800 | T69: =IF(OR(N69=1,N69=2),R69,) -> 0 | U69: =S69*E69 -> 2192000 | V69: =ROUND($U69*V$2,0) -> 4384000 | W69: =ROUND($U69*W$2,0) -> 6576000 | X69: =ROUND($U69*X$2,0) -> 8768000
A70: =A69+1 -> 68 | B70: 788-1 | C70: 답 | E70: 60 | H70: 한 | N70: 3 | O70: =IF(N70=1,"국",IF(N70=2,"공","사")) -> 사 | P70: =CONCATENATE(C70,O70) -> 답사 | R70: 83400 | S70: =IF(N70=3,R70,) -> 83400 | T70: =IF(OR(N70=1,N70=2),R70,) -> 0 | U70: =S70*E70 -> 5004000 | V70: =ROUND($U70*V$2,0) -> 10008000 | W70: =ROUND($U70*W$2,0) -> 15012000 | X70: =ROUND($U70*X$2,0) -> 20016000
A71: =A70+1 -> 69 | B71: 787 | C71: 답 | E71: 378 | H71: 김 | N71: 3 | O71: =IF(N71=1,"국",IF(N71=2,"공","사")) -> 사 | P71: =CONCATENATE(C71,O71) -> 답사 | R71: 84000 | S71: =IF(N71=3,R71,) -> 84000 | T71: =IF(OR(N71=1,N71=2),R71,) -> 0 | U71: =S71*E71 -> 31752000 | V71: =ROUND($U71*V$2,0) -> 63504000 | W71: =ROUND($U71*W$2,0) -> 95256000 | X71: =ROUND($U71*X$2,0) -> 127008000
A72: =A71+1 -> 70 | B72: 787-1 | C72: 도 | E72: 190 | H72: 강화군 | N72: 2 | O72: =IF(N72=1,"국",IF(N72=2,"공","사")) -> 공 | P72: =CONCATENATE(C72,O72) -> 도공 | R72: 18000 | S72: =IF(N72=3,R72,) -> 0 | T72: =IF(OR(N72=1,N72=2),R72,) -> 18000 | U72: =S72*E72 -> 0 | V72: =ROUND($U72*V$2,0) -> 0 | W72: =ROUND($U72*W$2,0) -> 0 | X72: =ROUND($U72*X$2,0) -> 0
A73: =A72+1 -> 71 | B73: 786-2 | C73: 대 | E73: 139 | H73: 삼도농협 | N73: 3 | O73: =IF(N73=1,"국",IF(N73=2,"공","사")) -> 사 | P73: =CONCATENATE(C73,O73) -> 대사 | R73: 213400 | S73: =IF(N73=3,R73,) -> 213400 | T73: =IF(OR(N73=1,N73=2),R73,) -> 0 | U73: =S73*E73 -> 29662600 | V73: =ROUND($U73*V$2,0) -> 59325200 | W73: =ROUND($U73*W$2,0) -> 88987800 | X73: =ROUND($U73*X$2,0) -> 118650400
A74: =A73+1 -> 72 | B74: 786-1 | C74: 도 | E74: 76 | H74: 박 | N74: 3 | O74: =IF(N74=1,"국",IF(N74=2,"공","사")) -> 사 | P74: =CONCATENATE(C74,O74) -> 도사 | R74: 70900 | S74: =IF(N74=3,R74,) -> 70900 | T74: =IF(OR(N74=1,N74=2),R74,) -> 0 | U74: =S74*E74 -> 5388400 | V74: =ROUND($U74*V$2,0) -> 10776800 | W74: =ROUND($U74*W$2,0) -> 16165200 | X74: =ROUND($U74*X$2,0) -> 21553600
A75: =A74+1 -> 73 | B75: 920-4 | C75: 답 | E75: 177 | H75: 고 | N75: 3 | O75: =IF(N75=1,"국",IF(N75=2,"공","사")) -> 사 | P75: =CONCATENATE(C75,O75) -> 답사 | R75: 111600 | S75: =IF(N75=3,R75,) -> 111600 | T75: =IF(OR(N75=1,N75=2),R75,) -> 0 | U75: =S75*E75 -> 19753200 | V75: =ROUND($U75*V$2,0) -> 39506400 | W75: =ROUND($U75*W$2,0) -> 59259600 | X75: =ROUND($U75*X$2,0) -> 79012800
A76: =A75+1 -> 74 | B76: 920-5 | C76: 도 | E76: 109 | H76: 조 | N76: 3 | O76: =IF(N76=1,"국",IF(N76=2,"공","사")) -> 사 | P76: =CONCATENATE(C76,O76) -> 도사 | R76: 70900 | S76: =IF(N76=3,R76,) -> 70900 | T76: =IF(OR(N76=1,N76=2),R76,) -> 0 | U76: =S76*E76 -> 7728100 | V76: =ROUND($U76*V$2,0) -> 15456200 | W76: =ROUND($U76*W$2,0) -> 23184300 | X76: =ROUND($U76*X$2,0) -> 30912400
A77: =A76+1 -> 75 | B77: 1926-1 | C77: 천 | E77: 3022 | H77: 국 | N77: 1 | O77: =IF(N77=1,"국",IF(N77=2,"공","사")) -> 국 | P77: =CONCATENATE(C77,O77) -> 천국 | R77: 14800 | S77: =IF(N77=3,R77,) -> 0 | T77: =IF(OR(N77=1,N77=2),R77,) -> 14800 | U77: =S77*E77 -> 0 | V77: =ROUND($U77*V$2,0) -> 0 | W77: =ROUND($U77*W$2,0) -> 0 | X77: =ROUND($U77*X$2,0) -> 0
A78: =A77+1 -> 76 | B78: 1910-13 | C78: 도 | E78: 451 | H78: 국 | N78: 1 | O78: =IF(N78=1,"국",IF(N78=2,"공","사")) -> 국 | P78: =CONCATENATE(C78,O78) -> 도국 | R78: 70900 | S78: =IF(N78=3,R78,) -> 0 | T78: =IF(OR(N78=1,N78=2),R78,) -> 70900 | U78: =S78*E78 -> 0 | V78: =ROUND($U78*V$2,0) -> 0 | W78: =ROUND($U78*W$2,0) -> 0 | X78: =ROUND($U78*X$2,0) -> 0
A79: =A78+1 -> 77 | B79: 920-3 | C79: 도 | E79: 35 | H79: 국 | N79: 1 | O79: =IF(N79=1,"국",IF(N79=2,"공","사")) -> 국 | P79: =CONCATENATE(C79,O79) -> 도국 | R79: 25200 | S79: =IF(N79=3,R79,) -> 0 | T79: =IF(OR(N79=1,N79=2),R79,) -> 25200 | U79: =S79*E79 -> 0 | V79: =ROUND($U79*V$2,0) -> 0 | W79: =ROUND($U79*W$2,0) -> 0 | X79: =ROUND($U79*X$2,0) -> 0
A80: =A79+1 -> 78 | B80: 919-4 | C80: 도 | E80: 9 | H80: 국 | N80: 1 | O80: =IF(N80=1,"국",IF(N80=2,"공","사")) -> 국 | P80: =CONCATENATE(C80,O80) -> 도국 | R80: 25201 | S80: =IF(N80=3,R80,) -> 0 | T80: =IF(OR(N80=1,N80=2),R80,) -> 25201 | U80: =S80*E80 -> 0 | V80: =ROUND($U80*V$2,0) -> 0 | W80: =ROUND($U80*W$2,0) -> 0 | X80: =ROUND($U80*X$2,0) -> 0
A102: 계 | D102: =SUBTOTAL(9,D3:D101) -> 0 | E102: =SUBTOTAL(9,E3:E101) -> 16843 | P102: =CONCATENATE(C102,H102)
P103: =CONCATENATE(C103,H103) | S103: =IF(N124=3,R124,) -> 0 | T103: =IF(OR(N124=1,N124=2),R124,) -> 0 | U103: =SUBTOTAL(9,U3:U102) -> 338591900 | V103: =ROUND($U103*V$2,0) -> 677183800 | W103: =ROUND($U103*W$2,0) -> 1015775700 | X103: =ROUND($U103*X$2,0) -> 1354367600
P104: =CONCATENATE(C104,H104)
P105: =CONCATENATE(C105,H105)
P106: =CONCATENATE(C106,H106)
P107: =CONCATENATE(C107,H107)
P108: =CONCATENATE(C108,H108)
P109: =CONCATENATE(C109,H109)
P110: =CONCATENATE(C110,H110)
P111: =CONCATENATE(C111,H111)
P112: =CONCATENATE(C112,H112)
P113: =CONCATENATE(C113,H113)
P114: =CONCATENATE(C114,H114)
P115: =CONCATENATE(C115,H115)
... P277: =CONCATENATE(C277,H277)

Sheet 고천리참고조서
A1: 일련번호 | B1: 지번 | C1: 지목 | D1: 지적 (m2) | E1: 편입 면적 (m2) | F1: 실제이용상황 | H1: 소유자 | J1: 관계인 | M1: 비고
F2: 지목 | G2: 면 적 | H2: 성명 | I2: 주소 | J2: 성명 | K2: 주소 | L2: 권리관계 | R2: 공시지가 | S2: 사유지 | T2: 국유지 | U2: 공시가격 | V2: 2 | W2: 3 | X2: 4
A3: 1 | B3: 산505-2 | C3: 임 | D3: 379 | E3: 46 | H3: 강화군 | N3: 3 | O3: =IF(N3=1,"국",IF(N3=2,"공","사")) -> 사 | P3: =CONCATENATE(C3,O3) -> 임사 | R3: 8440 | S3: =IF(N3=3,R3,) -> 8440 | T3: =IF(OR(N3=1,N3=2),R3,) -> 0 | U3: =S3*E3 -> 388240 | V3: =ROUND($U3*V$2,0) -> 776480 | W3: =ROUND($U3*W$2,0) -> 1164720 | X3: =ROUND($U3*X$2,0) -> 1552960
A4: =A3+1 -> 2 | B4: 833-4 | C4: 도 | E4: 72 | H4: 강화군 | N4: 2 | O4: =IF(N4=1,"국",IF(N4=2,"공","사")) -> 공 | P4: =CONCATENATE(C4,O4) -> 도공 | R4: 16500 | S4: =IF(N4=3,R4,) -> 0 | T4: =IF(OR(N4=1,N4=2),R4,) -> 16500 | U4: =S4*E4 -> 0 | V4: =ROUND($U4*V$2,0) -> 0 | W4: =ROUND($U4*W$2,0) -> 0 | X4: =ROUND($U4*X$2,0) -> 0
A5: =A4+1 -> 3 | B5: 산504-5 | C5: 임 | D5: 74 | E5: 74 | H5: 조재유 | I5: 삼산면 매음리 124 | N5: 3 | O5: =IF(N5=1,"국",IF(N5=2,"공","사")) -> 사 | P5: =CONCATENATE(C5,O5) -> 임사 | R5: 8440 | S5: =IF(N5=3,R5,) -> 8440 | T5: =IF(OR(N5=1,N5=2),R5,) -> 0 | U5: =S5*E5 -> 624560 | V5: =ROUND($U5*V$2,0) -> 1249120 | W5: =ROUND($U5*W$2,0) -> 1873680 | X5: =ROUND($U5*X$2,0) -> 2498240
A6: =A5+1 -> 4 | B6: 산504-4 | C6: 도 | D6: 294 | E6: 294 | H6: 조재유 | I6: 삼산면 매음리 124 | N6: 3 | O6: =IF(N6=1,"국",IF(N6=2,"공","사")) -> 사 | P6: =CONCATENATE(C6,O6) -> 도사 | R6: 2400 | S6: =IF(N6=3,R6,) -> 2400 | T6: =IF(OR(N6=1,N6=2),R6,) -> 0 | U6: =S6*E6 -> 705600 | V6: =ROUND($U6*V$2,0) -> 1411200 | W6: =ROUND($U6*W$2,0) -> 2116800 | X6: =ROUND($U6*X$2,0) -> 2822400
A7: =A6+1 -> 5 | B7: 산507-1 | C7: 도 | E7: 1080 | H7: 강화군 | N7: 2 | O7: =IF(N7=1,"국",IF(N7=2,"공","사")) -> 공 | P7: =CONCATENATE(C7,O7) -> 도공 | R7: 16500 | S7: =IF(N7=3,R7,) -> 0 | T7: =IF(OR(N7=1,N7=2),R7,) -> 16500 | U7: =S7*E7 -> 0 | V7: =ROUND($U7*V$2,0) -> 0 | W7: =ROUND($U7*W$2,0) -> 0 | X7: =ROUND($U7*X$2,0) -> 0
A8: =A7+1 -> 6 | B8: 산509-1 | C8: 도 | E8: 378 | H8: 강화군 | N8: 2 | O8: =IF(N8=1,"국",IF(N8=2,"공","사")) -> 공 | P8: =CONCATENATE(C8,O8) -> 도공 | R8: 5510 | S8: =IF(N8=3,R8,) -> 0 | T8: =IF(OR(N8=1,N8=2),R8,) -> 5510 | U8: =S8*E8 -> 0 | V8: =ROUND($U8*V$2,0) -> 0 | W8: =ROUND($U8*W$2,0) -> 0 | X8: =ROUND($U8*X$2,0) -> 0
A9: =A8+1 -> 7 | B9: 831-1 | C9: 도 | E9: 9 | H9: 강화군 | N9: 2 | O9: =IF(N9=1,"국",IF(N9=2,"공","사")) -> 공 | P9: =CONCATENATE(C9,O9) -> 도공 | R9: 21400 | S9: =IF(N9=3,R9,) -> 0 | T9: =IF(OR(N9=1,N9=2),R9,) -> 21400 | U9: =S9*E9 -> 0 | V9: =ROUND($U9*V$2,0) -> 0 | W9: =ROUND($U9*W$2,0) -> 0 | X9: =ROUND($U9*X$2,0) -> 0
A10: =A9+1 -> 8 | B10: 830-1 | C10: 도 | D10: 77 | E10: 77 | H10: 한대수 | I10: 서울시 관악구 봉천동 457-192 | N10: 3 | O10: =IF(N10=1,"국",IF(N10=2,"공","사")) -> 사 | P10: =CONCATENATE(C10,O10) -> 도사 | R10: 21400 | S10: =IF(N10=3,R10,) -> 21400 | T10: =IF(OR(N10=1,N10=2),R10,) -> 0 | U10: =S10*E10 -> 1647800 | V10: =ROUND($U10*V$2,0) -> 3295600 | W10: =ROUND($U10*W$2,0) -> 4943400 | X10: =ROUND($U10*X$2,0) -> 6591200
A11: =A10+1 -> 9 | B11: 1920 | C11: 도 | E11: 140 | H11: 국 | N11: 1 | O11: =IF(N11=1,"국",IF(N11=2,"공","사")) -> 국 | P11: =CONCATENATE(C11,O11) -> 도국 | R11: 37900 | S11: =IF(N11=3,R11,) -> 0 | T11: =IF(OR(N11=1,N11=2),R11,) -> 37900 | U11: =S11*E11 -> 0 | V11: =ROUND($U11*V$2,0) -> 0 | W11: =ROUND($U11*W$2,0) -> 0 | X11: =ROUND($U11*X$2,0) -> 0
A12: =A11+1 -> 10 | B12: 산510-1 | C12: 도 | D12: 902 | E12: 872 | H12: 윤옥상 | I12: 고천리 797 | N12: 3 | O12: =IF(N12=1,"국",IF(N12=2,"공","사")) -> 사 | P12: =CONCATENATE(C12,O12) -> 도사 | R12: 5510 | S12: =IF(N12=3,R12,) -> 5510 | T12: =IF(OR(N12=1,N12=2),R12,) -> 0 | U12: =S12*E12 -> 4804720 | V12: =ROUND($U12*V$2,0) -> 9609440 | W12: =ROUND($U12*W$2,0) -> 14414160 | X12: =ROUND($U12*X$2,0) -> 19218880
A13: =A12+1 -> 11 | B13: 830-2 | C13: 도 | D13: 34 | E13: 6 | H13: 한대수 | I13: 서울시 관악구 봉천동 457-192 | N13: 3 | O13: =IF(N13=1,"국",IF(N13=2,"공","사")) -> 사 | P13: =CONCATENATE(C13,O13) -> 도사 | R13: 21400 | S13: =IF(N13=3,R13,) -> 21400 | T13: =IF(OR(N13=1,N13=2),R13,) -> 0 | U13: =S13*E13 -> 128400 | V13: =ROUND($U13*V$2,0) -> 256800 | W13: =ROUND($U13*W$2,0) -> 385200 | X13: =ROUND($U13*X$2,0) -> 513600
A14: =A13+1 -> 12 | B14: 산511 | C14: 임 | D14: 11999 | E14: 342 | H14: 학교법인 삼양학원 | I14: 고천리 1266 | N14: 3 | O14: =IF(N14=1,"국",IF(N14=2,"공","사")) -> 사 | P14: =CONCATENATE(C14,O14) -> 임사 | R14: 17600 | S14: =IF(N14=3,R14,) -> 17600 | T14: =IF(OR(N14=1,N14=2),R14,) -> 0 | U14: =S14*E14 -> 6019200 | V14: =ROUND($U14*V$2,0) -> 12038400 | W14: =ROUND($U14*W$2,0) -> 18057600 | X14: =ROUND($U14*X$2,0) -> 24076800
A15: =A14+1 -> 13 | B15: 산511-1 | C15: 도 | E15: 1580 | H15: 학교법인 삼양학원 | I15: 고천리 1266 | N15: 3 | O15: =IF(N15=1,"국",IF(N15=2,"공","사")) -> 사 | P15: =CONCATENATE(C15,O15) -> 도사 | R15: 5770 | S15: =IF(N15=3,R15,) -> 5770 | T15: =IF(OR(N15=1,N15=2),R15,) -> 0 | U15: =S15*E15 -> 9116600 | V15: =ROUND($U15*V$2,0) -> 18233200 | W15: =ROUND($U15*W$2,0) -> 27349800 | X15: =ROUND($U15*X$2,0) -> 36466400
A16: =A15+1 -> 14 | B16: 804-3 | C16: 도 | D16: 41 | E16: 42 | H16: 조재준 | I16: 인천시 남구 용현동 16-11 | N16: 3 | O16: =IF(N16=1,"국",IF(N16=2,"공","사")) -> 사 | P16: =CONCATENATE(C16,O16) -> 도사 | R16: 21400 | S16: =IF(N16=3,R16,) -> 21400 | T16: =IF(OR(N16=1,N16=2),R16,) -> 0 | U16: =S16*E16 -> 898800 | V16: =ROUND($U16*V$2,0) -> 1797600 | W16: =ROUND($U16*W$2,0) -> 2696400 | X16: =ROUND($U16*X$2,0) -> 3595200
A17: =A16+1 -> 15 | B17: 804-2 | C17: 대 | D17: 594 | E17: 180 | H17: 양부석 | I17: 내가면 강화서로 213-4 | N17: 3 | O17: =IF(N17=1,"국",IF(N17=2,"공","사")) -> 사 | P17: =CONCATENATE(C17,O17) -> 대사 | R17: 65000 | S17: =IF(N17=3,R17,) -> 65000 | T17: =IF(OR(N17=1,N17=2),R17,) -> 0 | U17: =S17*E17 -> 11700000 | V17: =ROUND($U17*V$2,0) -> 23400000 | W17: =ROUND($U17*W$2,0) -> 35100000 | X17: =ROUND($U17*X$2,0) -> 46800000
A18: =A17+1 -> 16 | B18: 827-1 | C18: 전 | D18: 388 | E18: 67 | H18: 김순영 | I18: 인천광역시 서구 단봉로 12, 102동 803호 (왕길동, 유승아파트) | N18: 3 | O18: =IF(N18=1,"국",IF(N18=2,"공","사")) -> 사 | P18: =CONCATENATE(C18,O18) -> 전사 | R18: 98100 | S18: =IF(N18=3,R18,) -> 98100 | T18: =IF(OR(N18=1,N18=2),R18,) -> 0 | U18: =S18*E18 -> 6572700 | V18: =ROUND($U18*V$2,0) -> 13145400 | W18: =ROUND($U18*W$2,0) -> 19718100 | X18: =ROUND($U18*X$2,0) -> 26290800
A19: =A18+1 -> 17 | B19: 1926-1 | C19: 천 | D19: 106715 | E19: 2849 | H19: 국 | I19: 국토해양부 | N19: 1 | O19: =IF(N19=1,"국",IF(N19=2,"공","사")) -> 국 | P19: =CONCATENATE(C19,O19) -> 천국 | R19: 14800 | S19: =IF(N19=3,R19,) -> 0 | T19: =IF(OR(N19=1,N19=2),R19,) -> 14800 | U19: =S19*E19 -> 0 | V19: =ROUND($U19*V$2,0) -> 0 | W19: =ROUND($U19*W$2,0) -> 0 | X19: =ROUND($U19*X$2,0) -> 0
A20: =A19+1 -> 18 | B20: 826-2 | C20: 전 | D20: 942 | E20: 308 | H20: 한삼수 | I20: 고천리 806 | N20: 3 | O20: =IF(N20=1,"국",IF(N20=2,"공","사")) -> 사 | P20: =CONCATENATE(C20,O20) -> 전사 | R20: 60000 | S20: =IF(N20=3,R20,) -> 60000 | T20: =IF(OR(N20=1,N20=2),R20,) -> 0 | U20: =S20*E20 -> 18480000 | V20: =ROUND($U20*V$2,0) -> 36960000 | W20: =ROUND($U20*W$2,0) -> 55440000 | X20: =ROUND($U20*X$2,0) -> 73920000
A21: =A20+1 -> 19 | B21: 825-4 | C21: 전 | D21: 1436 | E21: 26 | H21: 안선영 외1인 | I21: 고양시 일산동구 일산로 205, 210동 301호 (마두동, 백마마을) | N21: 3 | O21: =IF(N21=1,"국",IF(N21=2,"공","사")) -> 사 | P21: =CONCATENATE(C21,O21) -> 전사 | R21: 74800 | S21: =IF(N21=3,R21,) -> 74800 | T21: =IF(OR(N21=1,N21=2),R21,) -> 0 | U21: =S21*E21 -> 1944800 | V21: =ROUND($U21*V$2,0) -> 3889600 | W21: =ROUND($U21*W$2,0) -> 5834400 | X21: =ROUND($U21*X$2,0) -> 7779200
A22: =A21+1 -> 20 | B22: 825-2 | C22: 전 | D22: 576 | E22: 92 | H22: 김향숙 | I22: 고양시 일산동구 장발산동 1122-5 | N22: 3 | O22: =IF(N22=1,"국",IF(N22=2,"공","사")) -> 사 | P22: =CONCATENATE(C22,O22) -> 전사 | R22: 74800 | S22: =IF(N22=3,R22,) -> 74800 | T22: =IF(OR(N22=1,N22=2),R22,) -> 0 | U22: =S22*E22 -> 6881600 | V22: =ROUND($U22*V$2,0) -> 13763200 | W22: =ROUND($U22*W$2,0) -> 20644800 | X22: =ROUND($U22*X$2,0) -> 27526400
A23: =A22+1 -> 21 | B23: 844 | C23: 도 | D23: 121 | E23: 121 | H23: 한필교 | I23: 고천리 844 | N23: 3 | O23: =IF(N23=1,"국",IF(N23=2,"공","사")) -> 사 | P23: =CONCATENATE(C23,O23) -> 도사 | R23: 18100 | S23: =IF(N23=3,R23,) -> 18100 | T23: =IF(OR(N23=1,N23=2),R23,) -> 0 | U23: =S23*E23 -> 2190100 | V23: =ROUND($U23*V$2,0) -> 4380200 | W23: =ROUND($U23*W$2,0) -> 6570300 | X23: =ROUND($U23*X$2,0) -> 8760400
A24: =A23+1 -> 22 | B24: 846 | C24: 도 | D24: 86 | E24: 86 | H24: 한상면 | I24: 고천리 886 | N24: 3 | O24: =IF(N24=1,"국",IF(N24=2,"공","사")) -> 사 | P24: =CONCATENATE(C24,O24) -> 도사 | R24: 18100 | S24: =IF(N24=3,R24,) -> 18100 | T24: =IF(OR(N24=1,N24=2),R24,) -> 0 | U24: =S24*E24 -> 1556600 | V24: =ROUND($U24*V$2,0) -> 3113200 | W24: =ROUND($U24*W$2,0) -> 4669800 | X24: =ROUND($U24*X$2,0) -> 6226400
A25: =A24+1 -> 23 | B25: 819-1 | C25: 도 | D25: 35 | E25: 35 | H25: 강화군 | N25: 2 | O25: =IF(N25=1,"국",IF(N25=2,"공","사")) -> 공 | P25: =CONCATENATE(C25,O25) -> 도공 | R25: 18100 | S25: =IF(N25=3,R25,) -> 0 | T25: =IF(OR(N25=1,N25=2),R25,) -> 18100 | U25: =S25*E25 -> 0 | V25: =ROUND($U25*V$2,0) -> 0 | W25: =ROUND($U25*W$2,0) -> 0 | X25: =ROUND($U25*X$2,0) -> 0
A26: =A25+1 -> 24 | B26: 819 | C26: 대 | D26: 237 | E26: 62 | H26: 조근혁 | I26: 고천리 819 | N26: 3 | O26: =IF(N26=1,"국",IF(N26=2,"공","사")) -> 사 | P26: =CONCATENATE(C26,O26) -> 대사 | R26: 131400 | S26: =IF(N26=3,R26,) -> 131400 | T26: =IF(OR(N26=1,N26=2),R26,) -> 0 | U26: =S26*E26 -> 8146800 | V26: =ROUND($U26*V$2,0) -> 16293600 | W26: =ROUND($U26*W$2,0) -> 24440400 | X26: =ROUND($U26*X$2,0) -> 32587200
A27: =A26+1 -> 25 | B27: 819-2 | C27: 전 | D27: 740 | E27: 139 | H27: 한일섭 | I27: 인천광역시 부평구 길주로 623 101동1308 | N27: 3 | O27: =IF(N27=1,"국",IF(N27=2,"공","사")) -> 사 | P27: =CONCATENATE(C27,O27) -> 전사 | R27: 76500 | S27: =IF(N27=3,R27,) -> 76500 | T27: =IF(OR(N27=1,N27=2),R27,) -> 0 | U27: =S27*E27 -> 10633500 | V27: =ROUND($U27*V$2,0) -> 21267000 | W27: =ROUND($U27*W$2,0) -> 31900500 | X27: =ROUND($U27*X$2,0) -> 42534000
A28: =A27+1 -> 26 | B28: 820 | C28: 답 | D28: 207 | E28: 207 | H28: 황태구 | I28: 서울시 구로구 구로동 23.24 구로우성아파트 2-1102 | N28: 3 | O28: =IF(N28=1,"국",IF(N28=2,"공","사")) -> 사 | P28: =CONCATENATE(C28,O28) -> 답사 | R28: 66100 | S28: =IF(N28=3,R28,) -> 66100 | T28: =IF(OR(N28=1,N28=2),R28,) -> 0 | U28: =S28*E28 -> 13682700 | V28: =ROUND($U28*V$2,0) -> 27365400 | W28: =ROUND($U28*W$2,0) -> 41048100 | X28: =ROUND($U28*X$2,0) -> 54730800
A29: =A28+1 -> 27 | B29: 788-3 | C29: 답 | D29: 340 | E29: 194 | H29: 송인숙 | I29: 인천광역시 서구 가좌동 129-43 | N29: 3 | O29: =IF(N29=1,"국",IF(N29=2,"공","사")) -> 사 | P29: =CONCATENATE(C29,O29) -> 답사 | R29: 78900 | S29: =IF(N29=3,R29,) -> 78900 | T29: =IF(OR(N29=1,N29=2),R29,) -> 0 | U29: =S29*E29 -> 15306600 | V29: =ROUND($U29*V$2,0) -> 30613200 | W29: =ROUND($U29*W$2,0) -> 45919800 | X29: =ROUND($U29*X$2,0) -> 61226400
A30: =A29+1 -> 28 | B30: 864-7 | C30: 답 | D30: 190 | E30: 162 | H30: 송인숙 | I30: 인천광역시 서구 가좌동 129-43 | N30: 3 | O30: =IF(N30=1,"국",IF(N30=2,"공","사")) -> 사 | P30: =CONCATENATE(C30,O30) -> 답사 | R30: 74200 | S30: =IF(N30=3,R30,) -> 74200 | T30: =IF(OR(N30=1,N30=2),R30,) -> 0 | U30: =S30*E30 -> 12020400 | V30: =ROUND($U30*V$2,0) -> 24040800 | W30: =ROUND($U30*W$2,0) -> 36061200 | X30: =ROUND($U30*X$2,0) -> 48081600
A31: =A30+1 -> 29 | B31: 864-1 | C31: 답 | D31: 312 | E31: 103 | H31: 한영순 | I31: 인천 부평구 십정동 387-8 | N31: 3 | O31: =IF(N31=1,"국",IF(N31=2,"공","사")) -> 사 | P31: =CONCATENATE(C31,O31) -> 답사 | R31: 117900 | S31: =IF(N31=3,R31,) -> 117900 | T31: =IF(OR(N31=1,N31=2),R31,) -> 0 | U31: =S31*E31 -> 12143700 | V31: =ROUND($U31*V$2,0) -> 24287400 | W31: =ROUND($U31*W$2,0) -> 36431100 | X31: =ROUND($U31*X$2,0) -> 48574800
A32: =A31+1 -> 30 | B32: 788-1 | C32: 답 | D32: 857 | E32: 358 | H32: 한영순 | I32: 인천 부평구 십정동 387-8 | N32: 3 | O32: =IF(N32=1,"국",IF(N32=2,"공","사")) -> 사 | P32: =CONCATENATE(C32,O32) -> 답사 | R32: 83400 | S32: =IF(N32=3,R32,) -> 83400 | T32: =IF(OR(N32=1,N32=2),R32,) -> 0 | U32: =S32*E32 -> 29857200 | V32: =ROUND($U32*V$2,0) -> 59714400 | W32: =ROUND($U32*W$2,0) -> 89571600 | X32: =ROUND($U32*X$2,0) -> 119428800
A33: =A32+1 -> 31 | B33: 787 | C33: 답 | D33: 1883 | E33: 779 | H33: 김길자 | I33: 서울 강서구 화곡동 395-10 호성그린빌라 501호 | N33: 3 | O33: =IF(N33=1,"국",IF(N33=2,"공","사")) -> 사 | P33: =CONCATENATE(C33,O33) -> 답사 | R33: 84000 | S33: =IF(N33=3,R33,) -> 84000 | T33: =IF(OR(N33=1,N33=2),R33,) -> 0 | U33: =S33*E33 -> 65436000 | V33: =ROUND($U33*V$2,0) -> 130872000 | W33: =ROUND($U33*W$2,0) -> 196308000 | X33: =ROUND($U33*X$2,0) -> 261744000
A34: =A33+1 -> 32 | B34: 786-2 | C34: 대 | D34: 304 | E34: 48 | H34: 삼도농업협동조합 | I34: 고천리 868-1 | N34: 3 | O34: =IF(N34=1,"국",IF(N34=2,"공","사")) -> 사 | P34: =CONCATENATE(C34,O34) -> 대사 | R34: 213400 | S34: =IF(N34=3,R34,) -> 213400 | T34: =IF(OR(N34=1,N34=2),R34,) -> 0 | U34: =S34*E34 -> 10243200 | V34: =ROUND($U34*V$2,0) -> 20486400 | W34: =ROUND($U34*W$2,0) -> 30729600 | X34: =ROUND($U34*X$2,0) -> 40972800
A35: =A34+1 -> 33 | B35: 1910-13 | C35: 도 | D35: 1876 | E35: 253 | H35: 국 | I35: 국토해양부 | N35: 1 | O35: =IF(N35=1,"국",IF(N35=2,"공","사")) -> 국 | P35: =CONCATENATE(C35,O35) -> 도국 | R35: 70900 | S35: =IF(N35=3,R35,) -> 0 | T35: =IF(OR(N35=1,N35=2),R35,) -> 70900 | U35: =S35*E35 -> 0 | V35: =ROUND($U35*V$2,0) -> 0 | W35: =ROUND($U35*W$2,0) -> 0 | X35: =ROUND($U35*X$2,0) -> 0
A36: =A35+1 -> 34 | B36: 920-4 | C36: 답 | D36: 940 | E36: 362 | H36: 고학준 | I36: 서울시 관악구 봉천동 1703 봉천동아파트 108-1202 | N36: 3 | O36: =IF(N36=1,"국",IF(N36=2,"공","사")) -> 사 | P36: =CONCATENATE(C36,O36) -> 답사 | R36: 111600 | S36: =IF(N36=3,R36,) -> 111600 | T36: =IF(OR(N36=1,N36=2),R36,) -> 0 | U36: =S36*E36 -> 40399200 | V36: =ROUND($U36*V$2,0) -> 80798400 | W36: =ROUND($U36*W$2,0) -> 121197600 | X36: =ROUND($U36*X$2,0) -> 161596800
A37: =A36+1 -> 35 | B37: 920-3 | C37: 도 | D37: 598 | E37: 96 | H37: 국 | I37: 국토해양부 | N37: 1 | O37: =IF(N37=1,"국",IF(N37=2,"공","사")) -> 국 | P37: =CONCATENATE(C37,O37) -> 도국 | R37: 25200 | S37: =IF(N37=3,R37,) -> 0 | T37: =IF(OR(N37=1,N37=2),R37,) -> 25200 | U37: =S37*E37 -> 0 | V37: =ROUND($U37*V$2,0) -> 0 | W37: =ROUND($U37*W$2,0) -> 0 | X37: =ROUND($U37*X$2,0) -> 0
A38: =A37+1 -> 36 | B38: 833-2 | C38: 답 | E38: 291 | H38: 강화군 | N38: 2 | O38: =IF(N38=1,"국",IF(N38=2,"공","사")) -> 공 | P38: =CONCATENATE(C38,O38) -> 답공 | R38: 60200 | S38: =IF(N38=3,R38,) -> 0 | T38: =IF(OR(N38=1,N38=2),R38,) -> 60200 | U38: =S38*E38 -> 0 | V38: =ROUND($U38*V$2,0) -> 0 | W38: =ROUND($U38*W$2,0) -> 0 | X38: =ROUND($U38*X$2,0) -> 0
A39: =A38+1 -> 37 | B39: 산494 | C39: 임 | E39: 275 | H39: 강화군 | N39: 2 | O39: =IF(N39=1,"국",IF(N39=2,"공","사")) -> 공 | P39: =CONCATENATE(C39,O39) -> 임공 | R39: 7220 | S39: =IF(N39=3,R39,) -> 0 | T39: =IF(OR(N39=1,N39=2),R39,) -> 7220 | U39: =S39*E39 -> 0 | V39: =ROUND($U39*V$2,0) -> 0 | W39: =ROUND($U39*W$2,0) -> 0 | X39: =ROUND($U39*X$2,0) -> 0
A40: =A39+1 -> 38 | B40: 산490 | C40: 임 | D40: 992 | H40: 강성관 | I40: 양도면 건평리
A41: =A40+1 -> 39 | B41: 833-7 | C41: 임 | D41: 771 | E41: 289 | H41: 황영남 | I41: 고양시 일산구 대화동 2228 장성마을 101-802 | N41: 3 | O41: =IF(N41=1,"국",IF(N41=2,"공","사")) -> 사 | P41: =CONCATENATE(C41,O41) -> 임사 | R41: 8040 | S41: =IF(N41=3,R41,) -> 8040 | T41: =IF(OR(N41=1,N41=2),R41,) -> 0 | U41: =S41*E41 -> 2323560 | V41: =ROUND($U41*V$2,0) -> 4647120 | W41: =ROUND($U41*W$2,0) -> 6970680 | X41: =ROUND($U41*X$2,0) -> 9294240
A42: =A41+1 -> 40 | B42: 833-8 | C42: 임 | D42: 771 | E42: 206 | H42: 김성범 | I42: 강화읍 갑곳리 430 유성아파트 라-502 | N42: 3 | O42: =IF(N42=1,"국",IF(N42=2,"공","사")) -> 사 | P42: =CONCATENATE(C42,O42) -> 임사 | R42: 8040 | S42: =IF(N42=3,R42,) -> 8040 | T42: =IF(OR(N42=1,N42=2),R42,) -> 0 | U42: =S42*E42 -> 1656240 | V42: =ROUND($U42*V$2,0) -> 3312480 | W42: =ROUND($U42*W$2,0) -> 4968720 | X42: =ROUND($U42*X$2,0) -> 6624960
A43: =A42+1 -> 41 | B43: 833-6 | C43: 답 | E43: 287 | H43: 강화군 | N43: 2 | O43: =IF(N43=1,"국",IF(N43=2,"공","사")) -> 공 | P43: =CONCATENATE(C43,O43) -> 답공 | R43: 63500 | S43: =IF(N43=3,R43,) -> 0 | T43: =IF(OR(N43=1,N43=2),R43,) -> 63500 | U43: =S43*E43 -> 0 | V43: =ROUND($U43*V$2,0) -> 0 | W43: =ROUND($U43*W$2,0) -> 0 | X43: =ROUND($U43*X$2,0) -> 0
A44: =A43+1 -> 42 | B44: 833 | C44: 도 | E44: 196 | H44: 강화군 | N44: 2 | O44: =IF(N44=1,"국",IF(N44=2,"공","사")) -> 공 | P44: =CONCATENATE(C44,O44) -> 도공 | R44: 16500 | S44: =IF(N44=3,R44,) -> 0 | T44: =IF(OR(N44=1,N44=2),R44,) -> 16500 | U44: =S44*E44 -> 0 | V44: =ROUND($U44*V$2,0) -> 0 | W44: =ROUND($U44*W$2,0) -> 0 | X44: =ROUND($U44*X$2,0) -> 0
A45: =A44+1 -> 43 | B45: 832 | C45: 도 | E45: 241 | H45: 강화군 | N45: 2 | O45: =IF(N45=1,"국",IF(N45=2,"공","사")) -> 공 | P45: =CONCATENATE(C45,O45) -> 도공 | R45: 16500 | S45: =IF(N45=3,R45,) -> 0 | T45: =IF(OR(N45=1,N45=2),R45,) -> 16500 | U45: =S45*E45 -> 0 | V45: =ROUND($U45*V$2,0) -> 0 | W45: =ROUND($U45*W$2,0) -> 0 | X45: =ROUND($U45*X$2,0) -> 0
A46: =A45+1 -> 44 | B46: 832-1 | C46: 답 | E46: 327 | H46: 강화군 | N46: 2 | O46: =IF(N46=1,"국",IF(N46=2,"공","사")) -> 공 | P46: =CONCATENATE(C46,O46) -> 답공 | R46: 44800 | S46: =IF(N46=3,R46,) -> 0 | T46: =IF(OR(N46=1,N46=2),R46,) -> 44800 | U46: =S46*E46 -> 0 | V46: =ROUND($U46*V$2,0) -> 0 | W46: =ROUND($U46*W$2,0) -> 0 | X46: =ROUND($U46*X$2,0) -> 0
A47: =A46+1 -> 45 | B47: 831 | C47: 답 | E47: 32 | H47: 강화군 | N47: 2 | O47: =IF(N47=1,"국",IF(N47=2,"공","사")) -> 공 | P47: =CONCATENATE(C47,O47) -> 답공 | R47: 57600 | S47: =IF(N47=3,R47,) -> 0 | T47: =IF(OR(N47=1,N47=2),R47,) -> 57600 | U47: =S47*E47 -> 0 | V47: =ROUND($U47*V$2,0) -> 0 | W47: =ROUND($U47*W$2,0) -> 0 | X47: =ROUND($U47*X$2,0) -> 0
A48: =A47+1 -> 46 | B48: 830 | C48: 대 | D48: 513 | E48: 61 | H48: 신숙경 | I48: 고천리 830 | N48: 3 | O48: =IF(N48=1,"국",IF(N48=2,"공","사")) -> 사 | P48: =CONCATENATE(C48,O48) -> 대사 | R48: 100100 | S48: =IF(N48=3,R48,) -> 100100 | T48: =IF(OR(N48=1,N48=2),R48,) -> 0 | U48: =S48*E48 -> 6106100 | V48: =ROUND($U48*V$2,0) -> 12212200 | W48: =ROUND($U48*W$2,0) -> 18318300 | X48: =ROUND($U48*X$2,0) -> 24424400
A49: =A48+1 -> 47 | B49: 830-3 | C49: 대 | D49: 514 | E49: 4 | H49: 신남이 | I49: 내가면 강화서로 227번길 57-2 | N49: 3 | O49: =IF(N49=1,"국",IF(N49=2,"공","사")) -> 사 | P49: =CONCATENATE(C49,O49) -> 대사 | R49: 95400 | S49: =IF(N49=3,R49,) -> 95400 | T49: =IF(OR(N49=1,N49=2),R49,) -> 0 | U49: =S49*E49 -> 381600 | V49: =ROUND($U49*V$2,0) -> 763200 | W49: =ROUND($U49*W$2,0) -> 1144800 | X49: =ROUND($U49*X$2,0) -> 1526400
A50: =A49+1 -> 48 | B50: 830-4 | C50: 대 | D50: 500 | E50: 19 | H50: 김사택 | I50: 내가면 강화서로 227번길 57-2 | N50: 3 | O50: =IF(N50=1,"국",IF(N50=2,"공","사")) -> 사 | P50: =CONCATENATE(C50,O50) -> 대사 | R50: 95400 | S50: =IF(N50=3,R50,) -> 95400 | T50: =IF(OR(N50=1,N50=2),R50,) -> 0 | U50: =S50*E50 -> 1812600 | V50: =ROUND($U50*V$2,0) -> 3625200 | W50: =ROUND($U50*W$2,0) -> 5437800 | X50: =ROUND($U50*X$2,0) -> 7250400
A51: =A50+1 -> 49 | B51: 830-5 | C51: 대 | D51: 504 | H51: 유옥원 | I51: 고천리 830
A52: =A51+1 -> 50 | B52: 1925 | C52: 도 | D52: 132 | H52: 국
A53: =A52+1 -> 51 | B53: 828 | C53: 답 | D53: 413 | H53: 강화군
A54: =A53+1 -> 52 | B54: 828-1 | C54: 임 | E54: 167 | H54: 학교법인 삼양학원 | I54: 고천리 1266 | N54: 3 | O54: =IF(N54=1,"국",IF(N54=2,"공","사")) -> 사 | P54: =CONCATENATE(C54,O54) -> 임사 | R54: 20500 | S54: =IF(N54=3,R54,) -> 20500 | T54: =IF(OR(N54=1,N54=2),R54,) -> 0 | U54: =S54*E54 -> 3423500 | V54: =ROUND($U54*V$2,0) -> 6847000 | W54: =ROUND($U54*W$2,0) -> 10270500 | X54: =ROUND($U54*X$2,0) -> 13694000
A55: =A54+1 -> 53 | B55: 828-2 | C55: 도 | D55: 34 | E55: 15 | H55: 이주연 | I55: 양사면 전망대로 1133-1 | N55: 3 | O55: =IF(N55=1,"국",IF(N55=2,"공","사")) -> 사 | P55: =CONCATENATE(C55,O55) -> 도사 | R55: 5770 | S55: =IF(N55=3,R55,) -> 5770 | T55: =IF(OR(N55=1,N55=2),R55,) -> 0 | U55: =S55*E55 -> 86550 | V55: =ROUND($U55*V$2,0) -> 173100 | W55: =ROUND($U55*W$2,0) -> 259650 | X55: =ROUND($U55*X$2,0) -> 346200
A56: =A55+1 -> 54 | B56: 841 | C56: 답 | D56: 3064 | H56: 이한철 | I56: 인천 서구 가정동 500-18
A57: =A56+1 -> 55 | B57: 844-1 | C57: 답 | D57: 127 | E57: 111 | H57: 한필교 | I57: 고천리 844 | N57: 3 | O57: =IF(N57=1,"국",IF(N57=2,"공","사")) -> 사 | P57: =CONCATENATE(C57,O57) -> 답사 | R57: 60700 | S57: =IF(N57=3,R57,) -> 60700 | T57: =IF(OR(N57=1,N57=2),R57,) -> 0 | U57: =S57*E57 -> 6737700 | V57: =ROUND($U57*V$2,0) -> 13475400 | W57: =ROUND($U57*W$2,0) -> 20213100 | X57: =ROUND($U57*X$2,0) -> 26950800
A58: =A57+1 -> 56 | B58: 843 | C58: 답 | D58: 2281 | E58: 55 | H58: 장일광 | I58: 내가면 강화서로 227번길 17-1 | N58: 3 | O58: =IF(N58=1,"국",IF(N58=2,"공","사")) -> 사 | P58: =CONCATENATE(C58,O58) -> 답사 | R58: 49100 | S58: =IF(N58=3,R58,) -> 49100 | T58: =IF(OR(N58=1,N58=2),R58,) -> 0 | U58: =S58*E58 -> 2700500 | V58: =ROUND($U58*V$2,0) -> 5401000 | W58: =ROUND($U58*W$2,0) -> 8101500 | X58: =ROUND($U58*X$2,0) -> 10802000
A59: =A58+1 -> 57 | B59: 845 | C59: 답 | D59: 1514 | E59: 56 | H59: 방순란 | I59: 인천 남구 학익동 645 신동아아파트 42-605 | N59: 3 | O59: =IF(N59=1,"국",IF(N59=2,"공","사")) -> 사 | P59: =CONCATENATE(C59,O59) -> 답사 | R59: 52800 | S59: =IF(N59=3,R59,) -> 52800 | T59: =IF(OR(N59=1,N59=2),R59,) -> 0 | U59: =S59*E59 -> 2956800 | V59: =ROUND($U59*V$2,0) -> 5913600 | W59: =ROUND($U59*W$2,0) -> 8870400 | X59: =ROUND($U59*X$2,0) -> 11827200
A60: =A59+1 -> 58 | B60: 846-1 | C60: 답 | D60: 122 | E60: 122 | H60: 한윤현 | I60: 인천광역시 남동구 구월남로 345-3, 202호 | N60: 3 | O60: =IF(N60=1,"국",IF(N60=2,"공","사")) -> 사 | P60: =CONCATENATE(C60,O60) -> 답사 | R60: 58900 | S60: =IF(N60=3,R60,) -> 58900 | T60: =IF(OR(N60=1,N60=2),R60,) -> 0 | U60: =S60*E60 -> 7185800 | V60: =ROUND($U60*V$2,0) -> 14371600 | W60: =ROUND($U60*W$2,0) -> 21557400 | X60: =ROUND($U60*X$2,0) -> 28743200
A61: =A60+1 -> 59 | B61: 851 | C61: 답 | D61: 3379 | E61: 110 | H61: 유선호 | I61: 화도면 해안남로 1691번길 30 | N61: 3 | O61: =IF(N61=1,"국",IF(N61=2,"공","사")) -> 사 | P61: =CONCATENATE(C61,O61) -> 답사 | R61: 52400 | S61: =IF(N61=3,R61,) -> 52400 | T61: =IF(OR(N61=1,N61=2),R61,) -> 0 | U61: =S61*E61 -> 5764000 | V61: =ROUND($U61*V$2,0) -> 11528000 | W61: =ROUND($U61*W$2,0) -> 17292000 | X61: =ROUND($U61*X$2,0) -> 23056000
A62: =A61+1 -> 60 | B62: 847 | C62: 전 | D62: 83 | E62: 31 | H62: 황인필 | I62: 고천리 915-10 | N62: 3 | O62: =IF(N62=1,"국",IF(N62=2,"공","사")) -> 사 | P62: =CONCATENATE(C62,O62) -> 전사 | R62: 55900 | S62: =IF(N62=3,R62,) -> 55900 | T62: =IF(OR(N62=1,N62=2),R62,) -> 0 | U62: =S62*E62 -> 1732900 | V62: =ROUND($U62*V$2,0) -> 3465800 | W62: =ROUND($U62*W$2,0) -> 5198700 | X62: =ROUND($U62*X$2,0) -> 6931600
A63: =A62+1 -> 61 | B63: 820-1 | C63: 도 | D63: 157 | E63: 157 | H63: 황태구 | I63: 서울시 구로구 구로동 23.24 구로우성아파트 2-1102 | N63: 3 | O63: =IF(N63=1,"국",IF(N63=2,"공","사")) -> 사 | P63: =CONCATENATE(C63,O63) -> 도사 | R63: 18100 | S63: =IF(N63=3,R63,) -> 18100 | T63: =IF(OR(N63=1,N63=2),R63,) -> 0 | U63: =S63*E63 -> 2841700 | V63: =ROUND($U63*V$2,0) -> 5683400 | W63: =ROUND($U63*W$2,0) -> 8525100 | X63: =ROUND($U63*X$2,0) -> 11366800
A64: =A63+1 -> 62 | B64: 864-3 | C64: 천 | D64: 390 | E64: 5 | H64: 한호연 | I64: 고천리 857 | N64: 3 | O64: =IF(N64=1,"국",IF(N64=2,"공","사")) -> 사 | P64: =CONCATENATE(C64,O64) -> 천사 | R64: 18100 | S64: =IF(N64=3,R64,) -> 18100 | T64: =IF(OR(N64=1,N64=2),R64,) -> 0 | U64: =S64*E64 -> 90500 | V64: =ROUND($U64*V$2,0) -> 181000 | W64: =ROUND($U64*W$2,0) -> 271500 | X64: =ROUND($U64*X$2,0) -> 362000
A65: =A64+1 -> 63 | B65: 864-6 | C65: 도 | D65: 103 | E65: 50 | H65: 강화군 | N65: 2 | O65: =IF(N65=1,"국",IF(N65=2,"공","사")) -> 공 | P65: =CONCATENATE(C65,O65) -> 도공 | R65: 18100 | S65: =IF(N65=3,R65,) -> 0 | T65: =IF(OR(N65=1,N65=2),R65,) -> 18100 | U65: =S65*E65 -> 0 | V65: =ROUND($U65*V$2,0) -> 0 | W65: =ROUND($U65*W$2,0) -> 0 | X65: =ROUND($U65*X$2,0) -> 0
A66: =A65+1 -> 64 | B66: 864-5 | C66: 도 | D66: 182 | E66: 182 | H66: 강화군
A67: =A66+1 -> 65 | B67: 787-1 | C67: 도 | D67: 190 | E67: 190 | H67: 강화군
A68: =A67+1 -> 66 | B68: 786-1 | C68: 도 | D68: 76 | E68: 76 | H68: 박상진 | I68: 고천리 914
A69: =A68+1 -> 67 | B69: 920-5 | C69: 도 | D69: 121 | E69: 121 | H69: 조석구 | I69: 고천리 789
B72: 804-1 | C72: 대 | D72: 1124 | E72: 39 | H72: 윤희선 | I72: 고천리 879 | N72: 3 | O72: =IF(N72=1,"국",IF(N72=2,"공","사")) -> 사 | P72: =CONCATENATE(C72,O72) -> 대사 | R72: 96300 | S72: =IF(N72=3,R72,) -> 96300 | T72: =IF(OR(N72=1,N72=2),R72,) -> 0 | U72: =S72*E72 -> 3755700 | V72: =ROUND($U72*V$2,0) -> 7511400 | W72: =ROUND($U72*W$2,0) -> 11267100 | X72: =ROUND($U72*X$2,0) -> 15022800
B73: 827 | C73: 전 | D73: 200 | E73: 19 | H73: 김문구 | I73: 양도면 도장리 136-2 | N73: 3 | O73: =IF(N73=1,"국",IF(N73=2,"공","사")) -> 사 | P73: =CONCATENATE(C73,O73) -> 전사 | R73: 98100 | S73: =IF(N73=3,R73,) -> 98100 | T73: =IF(OR(N73=1,N73=2),R73,) -> 0 | U73: =S73*E73 -> 1863900 | V73: =ROUND($U73*V$2,0) -> 3727800 | W73: =ROUND($U73*W$2,0) -> 5591700 | X73: =ROUND($U73*X$2,0) -> 7455600
B74: 822-1 | C74: 전 | D74: 15 | E74: 33 | H74: 안선영 | I74: 고양시 일산동구 일산로 205, 210동 301호 (마두동, 백마마을) | N74: 3 | O74: =IF(N74=1,"국",IF(N74=2,"공","사")) -> 사 | P74: =CONCATENATE(C74,O74) -> 전사 | R74: 76500 | S74: =IF(N74=3,R74,) -> 76500 | T74: =IF(OR(N74=1,N74=2),R74,) -> 0 | U74: =S74*E74 -> 2524500 | V74: =ROUND($U74*V$2,0) -> 5049000 | W74: =ROUND($U74*W$2,0) -> 7573500 | X74: =ROUND($U74*X$2,0) -> 10098000
B75: 822 | C75: 전 | D75: 230 | E75: 42 | H75: 조연순 외1인 | I75: 대전광역시 동구 동구청로 67, 101동 1404호(가오동, 은어송마을1단지) | N75: 3 | O75: =IF(N75=1,"국",IF(N75=2,"공","사")) -> 사 | P75: =CONCATENATE(C75,O75) -> 전사 | R75: 76500 | S75: =IF(N75=3,R75,) -> 76500 | T75: =IF(OR(N75=1,N75=2),R75,) -> 0 | U75: =S75*E75 -> 3213000 | V75: =ROUND($U75*V$2,0) -> 6426000 | W75: =ROUND($U75*W$2,0) -> 9639000 | X75: =ROUND($U75*X$2,0) -> 12852000
B76: 821-1 | C76: 대 | D76: 258 | E76: 12 | H76: 전기배 | I76: 내가면 강화서로 227번길 16-28 | N76: 3 | O76: =IF(N76=1,"국",IF(N76=2,"공","사")) -> 사 | P76: =CONCATENATE(C76,O76) -> 대사 | R76: 125300 | S76: =IF(N76=3,R76,) -> 125300 | T76: =IF(OR(N76=1,N76=2),R76,) -> 0 | U76: =S76*E76 -> 1503600 | V76: =ROUND($U76*V$2,0) -> 3007200 | W76: =ROUND($U76*W$2,0) -> 4510800 | X76: =ROUND($U76*X$2,0) -> 6014400
B77: 823-3 | C77: 임 | D77: 7 | H77: 이주연 | I77: 양사면 전망대로 1133-1
B78: 804-5 | C78: 임 | D78: 169 | H78: 학교법인 삼양학원 | I78: 고천리 1266
B79: 804-6 | C79: 임 | D79: 50 | H79: 인천광역시
B80: 822-1 | C80: 전 | D80: 15 | H80: 안선영 | I80: 고양시 일산동구 일산로 205, 210동 301호 (마두동, 백마마을)
B81: 822 | C81: 전 | D81: 230 | H81: 조연순 외1인 | I81: 대전광역시 동구 동구청로 67, 101동 1404호(가오동, 은어송마을1단지)
B82: 848-1 | C82: 도 | D82: 51 | H82: 강화군
B83: 848 | C83: 대 | D83: 346 | H83: 황인필 | I83: 고천리 915-10
B84: 849 | C84: 대 | D84: 602 | H84: 조은정 | I84: 인천광역시 서구 원당동 원당지구 80블럭 3,4롯트원당2차금호어울림 201-802
B85: 790 | C85: 대 | D85: 843 | H85: 한민수 | I85: 고천리 790
B86: 863 | C86: 답 | D86: 288 | H86: 김종철 | I86: 인천 서구 심곡동 259-4 극동늘푸른아파트 108-1606
B87: 864-4 | C87: 답 | D87: 417 | H87: 김종철 | I87: 인천 서구 심곡동 259-4 극동늘푸른아파트 108-1606
B88: 839-1 | C88: 답 | D88: 668 | H88: 이종원 | I88: 강화읍 강화대로 312번길 3
B89: 839 | C89: 답 | D89: 661 | H89: 조희순 | I89: 경기도 시흥시 비둘기공원7길 37, 202동 1702호(대야동, 청구아파트)
B90: 804-4 | C90: 대 | D90: 984 | H90: 학교법인 삼양학원 | I90: 고천리 1266
A102: 계 | D102: =SUBTOTAL(9,D3:D101) -> 157268 | E102: =SUBTOTAL(9,E3:E101) -> 15360 | P102: =CONCATENATE(C102,H102) | S102: =COUNT(S3:S101) -> 63
P103: =CONCATENATE(C103,H103) | S103: =IF(N124=3,R124,) -> 0 | T103: =IF(OR(N124=1,N124=2),R124,) -> 0 | U103: =SUBTOTAL(9,U3:U102) -> 350189770 | V103: =ROUND($U103*V$2,0) -> 700379540 | W103: =ROUND($U103*W$2,0) -> 1050569310 | X103: =ROUND($U103*X$2,0) -> 1400759080
P104: =CONCATENATE(C104,H104)
P105: =CONCATENATE(C105,H105)
P106: =CONCATENATE(C106,H106)
P107: =CONCATENATE(C107,H107)
P108: =CONCATENATE(C108,H108)
P109: =CONCATENATE(C109,H109)
P110: =CONCATENATE(C110,H110)
P111: =CONCATENATE(C111,H111)
P112: =CONCATENATE(C112,H112)
P113: =CONCATENATE(C113,H113)
...

Sheet 내리2구간집계표
A1: 편입용지 집계표
A3: 구분 | B3: 계 | E3: 국유지 | H3: 공유지 | K3: 사유지 | N3: 비고
B4: 필지 | C4: / | D4: 면적 (㎡) | E4: 필지 | F4: / | G4: 면적 (㎡) | H4: 필지 | I4: / | J4: 면적 (㎡) | K4: 필지 | L4: / | M4: 면적 (㎡)
A5: 계 | B5: =SUM(B6:B30) -> 3 | C5: / | D5: =SUM(D6:D30) -> 0 | E5: =SUM(E6:E30) -> 1 | F5: / | G5: =SUM(G6:G30) -> 0 | H5: =SUM(H6:H30) -> 0 | I5: / | J5: =SUM(J6:J30) -> 0 | K5: =SUM(K6:K30) -> 2 | L5: / | M5: =SUM(M6:M30) -> 0 | O5: =IF(D5=(G5+J5+M5),"ok","false") -> ok | Q5: 국 | R5: 공 | S5: 사
A6: 전 | B6: =COUNTIF(내리2구간!$C$3:$C$1121,P6) -> 2 | C6: / | D6: =SUMIF(내리2구간!$C$3:$C$1121,P6,내리2구간!$E$3:$E$1121) -> 0 | E6: =COUNTIF(내리2구간!$P$3:$P$1121,Q6) -> 0 | F6: / | G6: =SUMIF(내리2구간!$P$3:$P$1121,Q6,내리2구간!$E$3:$E$1121) -> 0 | H6: =COUNTIF(내리2구간!$P$3:$P$1121,R6) -> 0 | I6: / | J6: =SUMIF(내리2구간!$P$3:$P$1121,R6,내리2구간!$E$3:$E$1121) -> 0 | K6: =COUNTIF(내리2구간!$P$3:$P$1121,S6) -> 2 | L6: / | M6: =SUMIF(내리2구간!$P$3:$P$1121,S6,내리2구간!$E$3:$E$1121) -> 0 | O6: =IF(D6=(G6+J6+M6),"ok","false") -> ok | P6: 전 | Q6: =CONCATENATE($P6,Q$5) -> 전국 | R6: =CONCATENATE($P6,R$5) -> 전공 | S6: =CONCATENATE($P6,S$5) -> 전사
A7: 답 | B7: =COUNTIF(내리2구간!$C$3:$C$1121,P7) -> 0 | C7: / | D7: =SUMIF(내리2구간!$C$3:$C$1121,P7,내리2구간!$E$3:$E$1121) -> 0 | E7: =COUNTIF(내리2구간!$P$3:$P$1121,"답국") -> 0 | F7: / | G7: =SUMIF(내리2구간!$P$3:$P$1121,Q7,내리2구간!$E$3:$E$1121) -> 0 | H7: =COUNTIF(내리2구간!$P$3:$P$1121,R7) -> 0 | I7: / | J7: =SUMIF(내리2구간!$P$3:$P$1121,R7,내리2구간!$E$3:$E$1121) -> 0 | K7: =COUNTIF(내리2구간!$P$3:$P$1121,S7) -> 0 | L7: / | M7: =SUMIF(내리2구간!$P$3:$P$1121,S7,내리2구간!$E$3:$E$1121) -> 0 | O7: =IF(D7=(G7+J7+M7),"ok","false") -> ok | P7: 답 | Q7: =CONCATENATE($P7,Q$5) -> 답국 | R7: =CONCATENATE($P7,R$5) -> 답공 | S7: =CONCATENATE($P7,S$5) -> 답사
A8: 임야 | B8: =COUNTIF(내리2구간!$C$3:$C$1121,P8) -> 0 | C8: / | D8: =SUMIF(내리2구간!$C$3:$C$1121,P8,내리2구간!$E$3:$E$1121) -> 0 | E8: =COUNTIF(내리2구간!$P$3:$P$1121,"임국") -> 0 | F8: / | G8: =SUMIF(내리2구간!$P$3:$P$1121,Q8,내리2구간!$E$3:$E$1121) -> 0 | H8: =COUNTIF(내리2구간!$P$3:$P$1121,R8) -> 0 | I8: / | J8: =SUMIF(내리2구간!$P$3:$P$1121,R8,내리2구간!$E$3:$E$1121) -> 0 | K8: =COUNTIF(내리2구간!$P$3:$P$1121,S8) -> 0 | L8: / | M8: =SUMIF(내리2구간!$P$3:$P$1121,S8,내리2구간!$E$3:$E$1121) -> 0 | O8: =IF(D8=(G8+J8+M8),"ok","false") -> ok | P8: 임 | Q8: =CONCATENATE($P8,Q$5) -> 임국 | R8: =CONCATENATE($P8,R$5) -> 임공 | S8: =CONCATENATE($P8,S$5) -> 임사
A9: 대지 | B9: =COUNTIF(내리2구간!$C$3:$C$1121,P9) -> 0 | C9: / | D9: =SUMIF(내리2구간!$C$3:$C$1121,P9,내리2구간!$E$3:$E$1121) -> 0 | E9: =COUNTIF(내리2구간!$P$3:$P$1121,"대국") -> 0 | F9: / | G9: =SUMIF(내리2구간!$P$3:$P$1121,Q9,내리2구간!$E$3:$E$1121) -> 0 | H9: =COUNTIF(내리2구간!$P$3:$P$1121,R9) -> 0 | I9: / | J9: =SUMIF(내리2구간!$P$3:$P$1121,R9,내리2구간!$E$3:$E$1121) -> 0 | K9: =COUNTIF(내리2구간!$P$3:$P$1121,S9) -> 0 | L9: / | M9: =SUMIF(내리2구간!$P$3:$P$1121,S9,내리2구간!$E$3:$E$1121) -> 0 | O9: =IF(D9=(G9+J9+M9),"ok","false") -> ok | P9: 대 | Q9: =CONCATENATE($P9,Q$5) -> 대국 | R9: =CONCATENATE($P9,R$5) -> 대공 | S9: =CONCATENATE($P9,S$5) -> 대사
A10: 도로 | B10: =COUNTIF(내리2구간!$C$3:$C$1121,P10) -> 1 | C10: / | D10: =SUMIF(내리2구간!$C$3:$C$1121,P10,내리2구간!$E$3:$E$1121) -> 0 | E10: =COUNTIF(내리2구간!$P$3:$P$1121,"도국") -> 1 | F10: / | G10: =SUMIF(내리2구간!$P$3:$P$1121,Q10,내리2구간!$E$3:$E$1121) -> 0 | H10: =COUNTIF(내리2구간!$P$3:$P$1121,R10) -> 0 | I10: / | J10: =SUMIF(내리2구간!$P$3:$P$1121,R10,내리2구간!$E$3:$E$1121) -> 0 | K10: =COUNTIF(내리2구간!$P$3:$P$1121,S10) -> 0 | L10: / | M10: =SUMIF(내리2구간!$P$3:$P$1121,S10,내리2구간!$E$3:$E$1121) -> 0 | O10: =IF(D10=(G10+J10+M10),"ok","false") -> ok | P10: 도 | Q10: =CONCATENATE($P10,Q$5) -> 도국 | R10: =CONCATENATE($P10,R$5) -> 도공 | S10: =CONCATENATE($P10,S$5) -> 도사
A11: 구거 | B11: =COUNTIF(내리2구간!$C$3:$C$1121,P11) -> 0 | C11: / | D11: =SUMIF(내리2구간!$C$3:$C$1121,P11,내리2구간!$E$3:$E$1121) -> 0 | E11: =COUNTIF(내리2구간!$P$3:$P$1121,"구국") -> 0 | F11: / | G11: =SUMIF(내리2구간!$P$3:$P$1121,Q11,내리2구간!$E$3:$E$1121) -> 0 | H11: =COUNTIF(내리2구간!$P$3:$P$1121,R11) -> 0 | I11: / | J11: =SUMIF(내리2구간!$P$3:$P$1121,R11,내리2구간!$E$3:$E$1121) -> 0 | K11: =COUNTIF(내리2구간!$P$3:$P$1121,S11) -> 0 | L11: / | M11: =SUMIF(내리2구간!$P$3:$P$1121,S11,내리2구간!$E$3:$E$1121) -> 0 | O11: =IF(D11=(G11+J11+M11),"ok","false") -> ok | P11: 구 | Q11: =CONCATENATE($P11,Q$5) -> 구국 | R11: =CONCATENATE($P11,R$5) -> 구공 | S11: =CONCATENATE($P11,S$5) -> 구사
A12: 하천 | B12: =COUNTIF(내리2구간!$C$3:$C$1121,P12) -> 0 | C12: / | D12: =SUMIF(내리2구간!$C$3:$C$1121,P12,내리2구간!$E$3:$E$1121) -> 0 | E12: =COUNTIF(내리2구간!$P$3:$P$1121,"천국") -> 0 | F12: / | G12: =SUMIF(내리2구간!$P$3:$P$1121,Q12,내리2구간!$E$3:$E$1121) -> 0 | H12: =COUNTIF(내리2구간!$P$3:$P$1121,R12) -> 0 | I12: / | J12: =SUMIF(내리2구간!$P$3:$P$1121,R12,내리2구간!$E$3:$E$1121) -> 0 | K12: =COUNTIF(내리2구간!$P$3:$P$1121,S12) -> 0 | L12: / | M12: =SUMIF(내리2구간!$P$3:$P$1121,S12,내리2구간!$E$3:$E$1121) -> 0 | O12: =IF(D12=(G12+J12+M12),"ok","false") -> ok | P12: 천 | Q12: =CONCATENATE($P12,Q$5) -> 천국 | R12: =CONCATENATE($P12,R$5) -> 천공 | S12: =CONCATENATE($P12,S$5) -> 천사
A13: 유지 | B13: =COUNTIF(내리2구간!$C$3:$C$1121,P13) -> 0 | C13: / | D13: =SUMIF(내리2구간!$C$3:$C$1121,P13,내리2구간!$E$3:$E$1121) -> 0 | E13: =COUNTIF(내리2구간!$P$3:$P$1121,"유국") -> 0 | F13: / | G13: =SUMIF(내리2구간!$P$3:$P$1121,Q13,내리2구간!$E$3:$E$1121) -> 0 | H13: =COUNTIF(내리2구간!$P$3:$P$1121,R13) -> 0 | I13: / | J13: =SUMIF(내리2구간!$P$3:$P$1121,R13,내리2구간!$E$3:$E$1121) -> 0 | K13: =COUNTIF(내리2구간!$P$3:$P$1121,S13) -> 0 | L13: / | M13: =SUMIF(내리2구간!$P$3:$P$1121,S13,내리2구간!$E$3:$E$1121) -> 0 | O13: =IF(D13=(G13+J13+M13),"ok","false") -> ok | P13: 유 | Q13: =CONCATENATE($P13,Q$5) -> 유국 | R13: =CONCATENATE($P13,R$5) -> 유공 | S13: =CONCATENATE($P13,S$5) -> 유사
A14: 제방 | B14: =COUNTIF(내리2구간!$C$3:$C$1121,P14) -> 0 | C14: / | D14: =SUMIF(내리2구간!$C$3:$C$1121,P14,내리2구간!$E$3:$E$1121) -> 0 | E14: =COUNTIF(내리2구간!$P$3:$P$1121,"제국") -> 0 | F14: / | G14: =SUMIF(내리2구간!$P$3:$P$1121,Q14,내리2구간!$E$3:$E$1121) -> 0 | H14: =COUNTIF(내리2구간!$P$3:$P$1121,R14) -> 0 | I14: / | J14: =SUMIF(내리2구간!$P$3:$P$1121,R14,내리2구간!$E$3:$E$1121) -> 0 | K14: =COUNTIF(내리2구간!$P$3:$P$1121,S14) -> 0 | L14: / | M14: =SUMIF(내리2구간!$P$3:$P$1121,S14,내리2구간!$E$3:$E$1121) -> 0 | O14: =IF(D14=(G14+J14+M14),"ok","false") -> ok | P14: 제 | Q14: =CONCATENATE($P14,Q$5) -> 제국 | R14: =CONCATENATE($P14,R$5) -> 제공 | S14: =CONCATENATE($P14,S$5) -> 제사
A15: 과수원 | B15: =COUNTIF(내리2구간!$C$3:$C$1121,P15) -> 0 | C15: / | D15: =SUMIF(내리2구간!$C$3:$C$1121,P15,내리2구간!$E$3:$E$1121) -> 0 | E15: =COUNTIF(내리2구간!$P$3:$P$1121,"과국") -> 0 | F15: / | G15: =SUMIF(내리2구간!$P$3:$P$1121,Q15,내리2구간!$E$3:$E$1121) -> 0 | H15: =COUNTIF(내리2구간!$P$3:$P$1121,R15) -> 0 | I15: / | J15: =SUMIF(내리2구간!$P$3:$P$1121,R15,내리2구간!$E$3:$E$1121) -> 0 | K15: =COUNTIF(내리2구간!$P$3:$P$1121,S15) -> 0 | L15: / | M15: =SUMIF(내리2구간!$P$3:$P$1121,S15,내리2구간!$E$3:$E$1121) -> 0 | O15: =IF(D15=(G15+J15+M15),"ok","false") -> ok | P15: 과 | Q15: =CONCATENATE($P15,Q$5) -> 과국 | R15: =CONCATENATE($P15,R$5) -> 과공 | S15: =CONCATENATE($P15,S$5) -> 과사
A16: 공장 | B16: =COUNTIF(내리2구간!$C$3:$C$1121,P16) -> 0 | C16: / | D16: =SUMIF(내리2구간!$C$3:$C$1121,P16,내리2구간!$E$3:$E$1121) -> 0 | E16: =COUNTIF(내리2구간!$P$3:$P$1121,"장국") -> 0 | F16: / | G16: =SUMIF(내리2구간!$P$3:$P$1121,Q16,내리2구간!$E$3:$E$1121) -> 0 | H16: =COUNTIF(내리2구간!$P$3:$P$1121,R16) -> 0 | I16: / | J16: =SUMIF(내리2구간!$P$3:$P$1121,R16,내리2구간!$E$3:$E$1121) -> 0 | K16: =COUNTIF(내리2구간!$P$3:$P$1121,S16) -> 0 | L16: / | M16: =SUMIF(내리2구간!$P$3:$P$1121,S16,내리2구간!$E$3:$E$1121) -> 0 | O16: =IF(D16=(G16+J16+M16),"ok","false") -> ok | P16: 장 | Q16: =CONCATENATE($P16,Q$5) -> 장국 | R16: =CONCATENATE($P16,R$5) -> 장공 | S16: =CONCATENATE($P16,S$5) -> 장사
A17: 목장 | B17: =COUNTIF(내리2구간!$C$3:$C$1121,P17) -> 0 | C17: / | D17: =SUMIF(내리2구간!$C$3:$C$1121,P17,내리2구간!$E$3:$E$1121) -> 0 | E17: =COUNTIF(내리2구간!$P$3:$P$1121,"목국") -> 0 | F17: / | G17: =SUMIF(내리2구간!$P$3:$P$1121,Q17,내리2구간!$E$3:$E$1121) -> 0 | H17: =COUNTIF(내리2구간!$P$3:$P$1121,R17) -> 0 | I17: / | J17: =SUMIF(내리2구간!$P$3:$P$1121,R17,내리2구간!$E$3:$E$1121) -> 0 | K17: =COUNTIF(내리2구간!$P$3:$P$1121,S17) -> 0 | L17: / | M17: =SUMIF(내리2구간!$P$3:$P$1121,S17,내리2구간!$E$3:$E$1121) -> 0 | O17: =IF(D17=(G17+J17+M17),"ok","false") -> ok | P17: 목 | Q17: =CONCATENATE($P17,Q$5) -> 목국 | R17: =CONCATENATE($P17,R$5) -> 목공 | S17: =CONCATENATE($P17,S$5) -> 목사
A18: 학교용지 | B18: =COUNTIF(내리2구간!$C$3:$C$1121,P18) -> 0 | C18: / | D18: =SUMIF(내리2구간!$C$3:$C$1121,P18,내리2구간!$E$3:$E$1121) -> 0 | E18: =COUNTIF(내리2구간!$P$3:$P$1121,"학국") -> 0 | F18: / | G18: =SUMIF(내리2구간!$P$3:$P$1121,Q18,내리2구간!$E$3:$E$1121) -> 0 | H18: =COUNTIF(내리2구간!$P$3:$P$1121,R18) -> 0 | I18: / | J18: =SUMIF(내리2구간!$P$3:$P$1121,R18,내리2구간!$E$3:$E$1121) -> 0 | K18: =COUNTIF(내리2구간!$P$3:$P$1121,S18) -> 0 | L18: / | M18: =SUMIF(내리2구간!$P$3:$P$1121,S18,내리2구간!$E$3:$E$1121) -> 0 | O18: =IF(D18=(G18+J18+M18),"ok","false") -> ok | P18: 학 | Q18: =CONCATENATE($P18,Q$5) -> 학국 | R18: =CONCATENATE($P18,R$5) -> 학공 | S18: =CONCATENATE($P18,S$5) -> 학사
A19: 철도 | B19: =COUNTIF(내리2구간!$C$3:$C$1121,P19) -> 0 | C19: / | D19: =SUMIF(내리2구간!$C$3:$C$1121,P19,내리2구간!$E$3:$E$1121) -> 0 | E19: =COUNTIF(내리2구간!$P$3:$P$1121,"철국") -> 0 | F19: / | G19: =SUMIF(내리2구간!$P$3:$P$1121,Q19,내리2구간!$E$3:$E$1121) -> 0 | H19: =COUNTIF(내리2구간!$P$3:$P$1121,R19) -> 0 | I19: / | J19: =SUMIF(내리2구간!$P$3:$P$1121,R19,내리2구간!$E$3:$E$1121) -> 0 | K19: =COUNTIF(내리2구간!$P$3:$P$1121,S19) -> 0 | L19: / | M19: =SUMIF(내리2구간!$P$3:$P$1121,S19,내리2구간!$E$3:$E$1121) -> 0 | O19: =IF(D19=(G19+J19+M19),"ok","false") -> ok | P19: 철 | Q19: =CONCATENATE($P19,Q$5) -> 철국 | R19: =CONCATENATE($P19,R$5) -> 철공 | S19: =CONCATENATE($P19,S$5) -> 철사
A20: 묘지 | B20: =COUNTIF(내리2구간!$C$3:$C$1121,P20) -> 0 | C20: / | D20: =SUMIF(내리2구간!$C$3:$C$1121,P20,내리2구간!$E$3:$E$1121) -> 0 | E20: =COUNTIF(내리2구간!$P$3:$P$1121,"묘국") -> 0 | F20: / | G20: =SUMIF(내리2구간!$P$3:$P$1121,Q20,내리2구간!$E$3:$E$1121) -> 0 | H20: =COUNTIF(내리2구간!$P$3:$P$1121,R20) -> 0 | I20: / | J20: =SUMIF(내리2구간!$P$3:$P$1121,R20,내리2구간!$E$3:$E$1121) -> 0 | K20: =COUNTIF(내리2구간!$P$3:$P$1121,S20) -> 0 | L20: / | M20: =SUMIF(내리2구간!$P$3:$P$1121,S20,내리2구간!$E$3:$E$1121) -> 0 | O20: =IF(D20=(G20+J20+M20),"ok","false") -> ok | P20: 묘 | Q20: =CONCATENATE($P20,Q$5) -> 묘국 | R20: =CONCATENATE($P20,R$5) -> 묘공 | S20: =CONCATENATE($P20,S$5) -> 묘사
A21: 수도 | B21: =COUNTIF(내리2구간!$C$3:$C$1121,P21) -> 0 | C21: / | D21: =SUMIF(내리2구간!$C$3:$C$1121,P21,내리2구간!$E$3:$E$1121) -> 0 | E21: =COUNTIF(내리2구간!$P$3:$P$1121,"수국") -> 0 | F21: / | G21: =SUMIF(내리2구간!$P$3:$P$1121,Q21,내리2구간!$E$3:$E$1121) -> 0 | H21: =COUNTIF(내리2구간!$P$3:$P$1121,R21) -> 0 | I21: / | J21: =SUMIF(내리2구간!$P$3:$P$1121,R21,내리2구간!$E$3:$E$1121) -> 0 | K21: =COUNTIF(내리2구간!$P$3:$P$1121,S21) -> 0 | L21: / | M21: =SUMIF(내리2구간!$P$3:$P$1121,S21,내리2구간!$E$3:$E$1121) -> 0 | O21: =IF(D21=(G21+J21+M21),"ok","false") -> ok | P21: 수 | Q21: =CONCATENATE($P21,Q$5) -> 수국 | R21: =CONCATENATE($P21,R$5) -> 수공 | S21: =CONCATENATE($P21,S$5) -> 수사
A22: 잡종지 | B22: =COUNTIF(내리2구간!$C$3:$C$1121,P22) -> 0 | C22: / | D22: =SUMIF(내리2구간!$C$3:$C$1121,P22,내리2구간!$E$3:$E$1121) -> 0 | E22: =COUNTIF(내리2구간!$P$3:$P$1121,"잡국") -> 0 | F22: / | G22: =SUMIF(내리2구간!$P$3:$P$1121,Q22,내리2구간!$E$3:$E$1121) -> 0 | H22: =COUNTIF(내리2구간!$P$3:$P$1121,R22) -> 0 | I22: / | J22: =SUMIF(내리2구간!$P$3:$P$1121,R22,내리2구간!$E$3:$E$1121) -> 0 | K22: =COUNTIF(내리2구간!$P$3:$P$1121,S22) -> 0 | L22: / | M22: =SUMIF(내리2구간!$P$3:$P$1121,S22,내리2구간!$E$3:$E$1121) -> 0 | O22: =IF(D22=(G22+J22+M22),"ok","false") -> ok | P22: 잡 | Q22: =CONCATENATE($P22,Q$5) -> 잡국 | R22: =CONCATENATE($P22,R$5) -> 잡공 | S22: =CONCATENATE($P22,S$5) -> 잡사
A23: 종교 | B23: =COUNTIF(내리2구간!$C$3:$C$1121,P23) -> 0 | C23: / | D23: =SUMIF(내리2구간!$C$3:$C$1121,P23,내리2구간!$E$3:$E$1121) -> 0 | E23: =COUNTIF(내리2구간!$P$3:$P$1121,"종국") -> 0 | F23: / | G23: =SUMIF(내리2구간!$P$3:$P$1121,Q23,내리2구간!$E$3:$E$1121) -> 0 | H23: =COUNTIF(내리2구간!$P$3:$P$1121,R23) -> 0 | I23: / | J23: =SUMIF(내리2구간!$P$3:$P$1121,R23,내리2구간!$E$3:$E$1121) -> 0 | K23: =COUNTIF(내리2구간!$P$3:$P$1121,S23) -> 0 | L23: / | M23: =SUMIF(내리2구간!$P$3:$P$1121,S23,내리2구간!$E$3:$E$1121) -> 0 | O23: =IF(D23=(G23+J23+M23),"ok","false") -> ok | P23: 종 | Q23: =CONCATENATE($P23,Q$5) -> 종국 | R23: =CONCATENATE($P23,R$5) -> 종공 | S23: =CONCATENATE($P23,S$5) -> 종사
A24: 염전 | B24: =COUNTIF(내리2구간!$C$3:$C$1121,P24) -> 0 | C24: / | D24: =SUMIF(내리2구간!$C$3:$C$1121,P24,내리2구간!$E$3:$E$1121) -> 0 | E24: =COUNTIF(내리2구간!$P$3:$P$1121,"염국") -> 0 | F24: / | G24: =SUMIF(내리2구간!$P$3:$P$1121,Q24,내리2구간!$E$3:$E$1121) -> 0 | H24: =COUNTIF(내리2구간!$P$3:$P$1121,R24) -> 0 | I24: / | J24: =SUMIF(내리2구간!$P$3:$P$1121,R24,내리2구간!$E$3:$E$1121) -> 0 | K24: =COUNTIF(내리2구간!$P$3:$P$1121,S24) -> 0 | L24: / | M24: =SUMIF(내리2구간!$P$3:$P$1121,S24,내리2구간!$E$3:$E$1121) -> 0 | O24: =IF(D24=(G24+J24+M24),"ok","false") -> ok | P24: 염 | Q24: =CONCATENATE($P24,Q$5) -> 염국 | R24: =CONCATENATE($P24,R$5) -> 염공 | S24: =CONCATENATE($P24,S$5) -> 염사
A25: 공원 | B25: =COUNTIF(내리2구간!$C$3:$C$1121,P25) -> 0 | C25: / | D25: =SUMIF(내리2구간!$C$3:$C$1121,P25,내리2구간!$E$3:$E$1121) -> 0 | E25: =COUNTIF(내리2구간!$P$3:$P$1121,"공국") -> 0 | F25: / | G25: =SUMIF(내리2구간!$P$3:$P$1121,Q25,내리2구간!$E$3:$E$1121) -> 0 | H25: =COUNTIF(내리2구간!$P$3:$P$1121,R25) -> 0 | I25: / | J25: =SUMIF(내리2구간!$P$3:$P$1121,R25,내리2구간!$E$3:$E$1121) -> 0 | K25: =COUNTIF(내리2구간!$P$3:$P$1121,S25) -> 0 | L25: / | M25: =SUMIF(내리2구간!$P$3:$P$1121,S25,내리2구간!$E$3:$E$1121) -> 0 | O25: =IF(D25=(G25+J25+M25),"ok","false") -> ok | P25: 공 | Q25: =CONCATENATE($P25,Q$5) -> 공국 | R25: =CONCATENATE($P25,R$5) -> 공공 | S25: =CONCATENATE($P25,S$5) -> 공사
A26: 체육 | B26: =COUNTIF(내리2구간!$C$3:$C$1121,P26) -> 0 | C26: / | D26: =SUMIF(내리2구간!$C$3:$C$1121,P26,내리2구간!$E$3:$E$1121) -> 0 | E26: =COUNTIF(내리2구간!$P$3:$P$1121,"체국") -> 0 | F26: / | G26: =SUMIF(내리2구간!$P$3:$P$1121,Q26,내리2구간!$E$3:$E$1121) -> 0 | H26: =COUNTIF(내리2구간!$P$3:$P$1121,R26) -> 0 | I26: / | J26: =SUMIF(내리2구간!$P$3:$P$1121,R26,내리2구간!$E$3:$E$1121) -> 0 | K26: =COUNTIF(내리2구간!$P$3:$P$1121,S26) -> 0 | L26: / | M26: =SUMIF(내리2구간!$P$3:$P$1121,S26,내리2구간!$E$3:$E$1121) -> 0 | O26: =IF(D26=(G26+J26+M26),"ok","false") -> ok | P26: 체 | Q26: =CONCATENATE($P26,Q$5) -> 체국 | R26: =CONCATENATE($P26,R$5) -> 체공 | S26: =CONCATENATE($P26,S$5) -> 체사
A27: 주차장 | B27: =COUNTIF(내리2구간!$C$3:$C$1121,P27) -> 0 | C27: / | D27: =SUMIF(내리2구간!$C$3:$C$1121,P27,내리2구간!$E$3:$E$1121) -> 0 | E27: =COUNTIF(내리2구간!$P$3:$P$1121,"차국") -> 0 | F27: / | G27: =SUMIF(내리2구간!$P$3:$P$1121,Q27,내리2구간!$E$3:$E$1121) -> 0 | H27: =COUNTIF(내리2구간!$P$3:$P$1121,R27) -> 0 | I27: / | J27: =SUMIF(내리2구간!$P$3:$P$1121,R27,내리2구간!$E$3:$E$1121) -> 0 | K27: =COUNTIF(내리2구간!$P$3:$P$1121,S27) -> 0 | L27: / | M27: =SUMIF(내리2구간!$P$3:$P$1121,S27,내리2구간!$E$3:$E$1121) -> 0 | O27: =IF(D27=(G27+J27+M27),"ok","false") -> ok | P27: 차 | Q27: =CONCATENATE($P27,Q$5) -> 차국 | R27: =CONCATENATE($P27,R$5) -> 차공 | S27: =CONCATENATE($P27,S$5) -> 차사
A28: 주유소 | B28: =COUNTIF(내리2구간!$C$3:$C$1121,P28) -> 0 | C28: / | D28: =SUMIF(내리2구간!$C$3:$C$1121,P28,내리2구간!$E$3:$E$1121) -> 0 | E28: =COUNTIF(내리2구간!$P$3:$P$1121,"주국") -> 0 | F28: / | G28: =SUMIF(내리2구간!$P$3:$P$1121,Q28,내리2구간!$E$3:$E$1121) -> 0 | H28: =COUNTIF(내리2구간!$P$3:$P$1121,R28) -> 0 | I28: / | J28: =SUMIF(내리2구간!$P$3:$P$1121,R28,내리2구간!$E$3:$E$1121) -> 0 | K28: =COUNTIF(내리2구간!$P$3:$P$1121,S28) -> 0 | L28: / | M28: =SUMIF(내리2구간!$P$3:$P$1121,S28,내리2구간!$E$3:$E$1121) -> 0 | O28: =IF(D28=(G28+J28+M28),"ok","false") -> ok | P28: 주 | Q28: =CONCATENATE($P28,Q$5) -> 주국 | R28: =CONCATENATE($P28,R$5) -> 주공 | S28: =CONCATENATE($P28,S$5) -> 주사
A29: 창고용지 | B29: =COUNTIF(내리2구간!$C$3:$C$1121,P29) -> 0 | C29: / | D29: =SUMIF(내리2구간!$C$3:$C$1121,P29,내리2구간!$E$3:$E$1121) -> 0 | E29: =COUNTIF(내리2구간!$P$3:$P$1121,"창국") -> 0 | F29: / | G29: =SUMIF(내리2구간!$P$3:$P$1121,Q29,내리2구간!$E$3:$E$1121) -> 0 | H29: =COUNTIF(내리2구간!$P$3:$P$1121,R29) -> 0 | I29: / | J29: =SUMIF(내리2구간!$P$3:$P$1121,R29,내리2구간!$E$3:$E$1121) -> 0 | K29: =COUNTIF(내리2구간!$P$3:$P$1121,S29) -> 0 | L29: / | M29: =SUMIF(내리2구간!$P$3:$P$1121,S29,내리2구간!$E$3:$E$1121) -> 0 | O29: =IF(D29=(G29+J29+M29),"ok","false") -> ok | P29: 창 | Q29: =CONCATENATE($P29,Q$5) -> 창국 | R29: =CONCATENATE($P29,R$5) -> 창공 | S29: =CONCATENATE($P29,S$5) -> 창사
A30: 기타 | B30: =COUNTIF(내리2구간!$C$3:$C$1121,P30) -> 0 | C30: / | D30: =SUMIF(내리2구간!$C$3:$C$1121,P30,내리2구간!$E$3:$E$1121) -> 0 | E30: =COUNTIF(내리2구간!$P$3:$P$1121,"가국") -> 0 | F30: / | G30: =SUMIF(내리2구간!$P$3:$P$1121,Q30,내리2구간!$E$3:$E$1121) -> 0 | H30: =COUNTIF(내리2구간!$P$3:$P$1121,R30) -> 0 | I30: / | J30: =SUMIF(내리2구간!$P$3:$P$1121,R30,내리2구간!$E$3:$E$1121) -> 0 | K30: =COUNTIF(내리2구간!$P$3:$P$1121,S30) -> 0 | L30: / | M30: =SUMIF(내리2구간!$P$3:$P$1121,S30,내리2구간!$E$3:$E$1121) -> 0 | O30: =IF(D30=(G30+J30+M30),"ok","false") -> ok | P30: 가 | Q30: =CONCATENATE($P30,Q$5) -> 가국 | R30: =CONCATENATE($P30,R$5) -> 가공 | S30: =CONCATENATE($P30,S$5) -> 가사

Sheet 내리2구간
A1: 일련번호 | B1: 지번 | C1: 지목 | D1: 지적 (m2) | E1: 편입 면적 (m2) | F1: 실제이용상황 | H1: 소유자 | J1: 관계인 | M1: 비고
F2: 지목 | G2: 면 적 | H2: 성명 | I2: 주소 | J2: 성명 | K2: 주소 | L2: 권리관계
A3: 1 | B3: 1015 | C3: 전 | H3: 박** | N3: 3 | O3: =IF(N3=1,"국",IF(N3=2,"공","사")) -> 사 | P3: =CONCATENATE(C3,O3) -> 전사
A4: 2 | B4: 1813 | C4: 도 | H4: 국 | N4: 1 | O4: =IF(N4=1,"국",IF(N4=2,"공","사")) -> 국 | P4: =CONCATENATE(C4,O4) -> 도국
A5: 3 | B5: 1015-35 | C5: 전 | H5: 박** | N5: 3 | O5: =IF(N5=1,"국",IF(N5=2,"공","사")) -> 사 | P5: =CONCATENATE(C5,O5) -> 전사
A28: 계 | E28: =SUBTOTAL(9,E8:E27) -> 0
A54: 소계 | E54: =SUBTOTAL(9,E29:E53) -> 0
A80: 소계 | E80: =SUBTOTAL(9,E55:E79) -> 0
A106: 소계 | E106: =SUBTOTAL(9,E81:E105) -> 0
A132: 소계 | E132: =SUBTOTAL(9,E107:E131) -> 0
A158: 소계 | E158: =SUBTOTAL(9,E133:E157) -> 0
A184: 소계 | E184: =SUBTOTAL(9,E159:E183) -> 0
A209: 소계 | E209: =SUBTOTAL(9,E185:E208) -> 0
A210: 계 | E210: =SUBTOTAL(9,E3:G209) -> 0
P233: =CONCATENATE(C233,H233)
P234: =CONCATENATE(C234,H234)
P235: =CONCATENATE(C235,H235)
P236: =CONCATENATE(C236,H236)
P237: =CONCATENATE(C237,H237)
P238: =CONCATENATE(C238,H238)
P239: =CONCATENATE(C239,H239)
P240: =CONCATENATE(C240,H240)
P241: =CONCATENATE(C241,H241)
P242: =CONCATENATE(C242,H242)
P243: =CONCATENATE(C243,H243)
P244: =CONCATENATE(C244,H244)
... P385: =CONCATENATE(C385,H385)

Sheet 이뒤로출력안함

Sheet 신흥리집계표
A1: 편입용지 집계표
A3: 구분 | B3: 계 | E3: 국유지 | H3: 공유지 | K3: 사유지 | N3: 비고
B4: 필지 | C4: / | D4: 면적 (㎡) | E4: 필지 | F4: / | G4: 면적 (㎡) | H4: 필지 | I4: / | J4: 면적 (㎡) | K4: 필지 | L4: / | M4: 면적 (㎡)
A5: 계 | B5: =SUM(B6:B30) -> 0 | C5: / | D5: =SUM(D6:D30) -> 0 | E5: =SUM(E6:E30) -> 0 | F5: / | G5: =SUM(G6:G30) -> 0 | H5: =SUM(H6:H30) -> 0 | I5: / | J5: =SUM(J6:J30) -> 0 | K5: =SUM(K6:K30) -> 0 | L5: / | M5: =SUM(M6:M30) -> 0 | O5: =IF(D5=(G5+J5+M5),"ok","false") -> ok | Q5: 국 | R5: 공 | S5: 사
A6: 전 | B6: =COUNTIF(신흥리!$C$3:$C$955,P6) -> 0 | C6: / | D6: =SUMIF(신흥리!$C$3:$C$955,P6,신흥리!$E$3:$E$955) -> 0 | E6: =COUNTIF(신흥리!$P$3:$P$955,Q6) -> 0 | F6: / | G6: =SUMIF(신흥리!$P$3:$P$955,Q6,신흥리!$E$3:$E$955) -> 0 | H6: =COUNTIF(신흥리!$P$3:$P$955,R6) -> 0 | I6: / | J6: =SUMIF(신흥리!$P$3:$P$955,R6,신흥리!$E$3:$E$955) -> 0 | K6: =COUNTIF(신흥리!$P$3:$P$955,S6) -> 0 | L6: / | M6: =SUMIF(신흥리!$P$3:$P$955,S6,신흥리!$E$3:$E$955) -> 0 | O6: =IF(D6=(G6+J6+M6),"ok","false") -> ok | P6: 전 | Q6: =CONCATENATE($P6,Q$5) -> 전국 | R6: =CONCATENATE($P6,R$5) -> 전공 | S6: =CONCATENATE($P6,S$5) -> 전사
A7: 답 | B7: =COUNTIF(신흥리!$C$3:$C$955,P7) -> 0 | C7: / | D7: =SUMIF(신흥리!$C$3:$C$955,P7,신흥리!$E$3:$E$955) -> 0 | E7: =COUNTIF(신흥리!$P$3:$P$955,"답국") -> 0 | F7: / | G7: =SUMIF(신흥리!$P$3:$P$955,Q7,신흥리!$E$3:$E$955) -> 0 | H7: =COUNTIF(신흥리!$P$3:$P$955,R7) -> 0 | I7: / | J7: =SUMIF(신흥리!$P$3:$P$955,R7,신흥리!$E$3:$E$955) -> 0 | K7: =COUNTIF(신흥리!$P$3:$P$955,S7) -> 0 | L7: / | M7: =SUMIF(신흥리!$P$3:$P$955,S7,신흥리!$E$3:$E$955) -> 0 | O7: =IF(D7=(G7+J7+M7),"ok","false") -> ok | P7: 답 | Q7: =CONCATENATE($P7,Q$5) -> 답국 | R7: =CONCATENATE($P7,R$5) -> 답공 | S7: =CONCATENATE($P7,S$5) -> 답사
A8: 임야 | B8: =COUNTIF(신흥리!$C$3:$C$955,P8) -> 0 | C8: / | D8: =SUMIF(신흥리!$C$3:$C$955,P8,신흥리!$E$3:$E$955) -> 0 | E8: =COUNTIF(신흥리!$P$3:$P$955,"임국") -> 0 | F8: / | G8: =SUMIF(신흥리!$P$3:$P$955,Q8,신흥리!$E$3:$E$955) -> 0 | H8: =COUNTIF(신흥리!$P$3:$P$955,R8) -> 0 | I8: / | J8: =SUMIF(신흥리!$P$3:$P$955,R8,신흥리!$E$3:$E$955) -> 0 | K8: =COUNTIF(신흥리!$P$3:$P$955,S8) -> 0 | L8: / | M8: =SUMIF(신흥리!$P$3:$P$955,S8,신흥리!$E$3:$E$955) -> 0 | O8: =IF(D8=(G8+J8+M8),"ok","false") -> ok | P8: 임 | Q8: =CONCATENATE($P8,Q$5) -> 임국 | R8: =CONCATENATE($P8,R$5) -> 임공 | S8: =CONCATENATE($P8,S$5) -> 임사
A9: 대지 | B9: =COUNTIF(신흥리!$C$3:$C$955,P9) -> 0 | C9: / | D9: =SUMIF(신흥리!$C$3:$C$955,P9,신흥리!$E$3:$E$955) -> 0 | E9: =COUNTIF(신흥리!$P$3:$P$955,"대국") -> 0 | F9: / | G9: =SUMIF(신흥리!$P$3:$P$955,Q9,신흥리!$E$3:$E$955) -> 0 | H9: =COUNTIF(신흥리!$P$3:$P$955,R9) -> 0 | I9: / | J9: =SUMIF(신흥리!$P$3:$P$955,R9,신흥리!$E$3:$E$955) -> 0 | K9: =COUNTIF(신흥리!$P$3:$P$955,S9) -> 0 | L9: / | M9: =SUMIF(신흥리!$P$3:$P$955,S9,신흥리!$E$3:$E$955) -> 0 | O9: =IF(D9=(G9+J9+M9),"ok","false") -> ok | P9: 대 | Q9: =CONCATENATE($P9,Q$5) -> 대국 | R9: =CONCATENATE($P9,R$5) -> 대공 | S9: =CONCATENATE($P9,S$5) -> 대사
A10: 도로 | B10: =COUNTIF(신흥리!$C$3:$C$955,P10) -> 0 | C10: / | D10: =SUMIF(신흥리!$C$3:$C$955,P10,신흥리!$E$3:$E$955) -> 0 | E10: =COUNTIF(신흥리!$P$3:$P$955,"도국") -> 0 | F10: / | G10: =SUMIF(신흥리!$P$3:$P$955,Q10,신흥리!$E$3:$E$955) -> 0 | H10: =COUNTIF(신흥리!$P$3:$P$955,R10) -> 0 | I10: / | J10: =SUMIF(신흥리!$P$3:$P$955,R10,신흥리!$E$3:$E$955) -> 0 | K10: =COUNTIF(신흥리!$P$3:$P$955,S10) -> 0 | L10: / | M10: =SUMIF(신흥리!$P$3:$P$955,S10,신흥리!$E$3:$E$955) -> 0 | O10: =IF(D10=(G10+J10+M10),"ok","false") -> ok | P10: 도 | Q10: =CONCATENATE($P10,Q$5) -> 도국 | R10: =CONCATENATE($P10,R$5) -> 도공 | S10: =CONCATENATE($P10,S$5) -> 도사
A11: 구거 | B11: =COUNTIF(신흥리!$C$3:$C$955,P11) -> 0 | C11: / | D11: =SUMIF(신흥리!$C$3:$C$955,P11,신흥리!$E$3:$E$955) -> 0 | E11: =COUNTIF(신흥리!$P$3:$P$955,"구국") -> 0 | F11: / | G11: =SUMIF(신흥리!$P$3:$P$955,Q11,신흥리!$E$3:$E$955) -> 0 | H11: =COUNTIF(신흥리!$P$3:$P$955,R11) -> 0 | I11: / | J11: =SUMIF(신흥리!$P$3:$P$955,R11,신흥리!$E$3:$E$955) -> 0 | K11: =COUNTIF(신흥리!$P$3:$P$955,S11) -> 0 | L11: / | M11: =SUMIF(신흥리!$P$3:$P$955,S11,신흥리!$E$3:$E$955) -> 0 | O11: =IF(D11=(G11+J11+M11),"ok","false") -> ok | P11: 구 | Q11: =CONCATENATE($P11,Q$5) -> 구국 | R11: =CONCATENATE($P11,R$5) -> 구공 | S11: =CONCATENATE($P11,S$5) -> 구사
A12: 하천 | B12: =COUNTIF(신흥리!$C$3:$C$955,P12) -> 0 | C12: / | D12: =SUMIF(신흥리!$C$3:$C$955,P12,신흥리!$E$3:$E$955) -> 0 | E12: =COUNTIF(신흥리!$P$3:$P$955,"천국") -> 0 | F12: / | G12: =SUMIF(신흥리!$P$3:$P$955,Q12,신흥리!$E$3:$E$955) -> 0 | H12: =COUNTIF(신흥리!$P$3:$P$955,R12) -> 0 | I12: / | J12: =SUMIF(신흥리!$P$3:$P$955,R12,신흥리!$E$3:$E$955) -> 0 | K12: =COUNTIF(신흥리!$P$3:$P$955,S12) -> 0 | L12: / | M12: =SUMIF(신흥리!$P$3:$P$955,S12,신흥리!$E$3:$E$955) -> 0 | O12: =IF(D12=(G12+J12+M12),"ok","false") -> ok | P12: 천 | Q12: =CONCATENATE($P12,Q$5) -> 천국 | R12: =CONCATENATE($P12,R$5) -> 천공 | S12: =CONCATENATE($P12,S$5) -> 천사
A13: 유지 | B13: =COUNTIF(신흥리!$C$3:$C$955,P13) -> 0 | C13: / | D13: =SUMIF(신흥리!$C$3:$C$955,P13,신흥리!$E$3:$E$955) -> 0 | E13: =COUNTIF(신흥리!$P$3:$P$955,"유국") -> 0 | F13: / | G13: =SUMIF(신흥리!$P$3:$P$955,Q13,신흥리!$E$3:$E$955) -> 0 | H13: =COUNTIF(신흥리!$P$3:$P$955,R13) -> 0 | I13: / | J13: =SUMIF(신흥리!$P$3:$P$955,R13,신흥리!$E$3:$E$955) -> 0 | K13: =COUNTIF(신흥리!$P$3:$P$955,S13) -> 0 | L13: / | M13: =SUMIF(신흥리!$P$3:$P$955,S13,신흥리!$E$3:$E$955) -> 0 | O13: =IF(D13=(G13+J13+M13),"ok","false") -> ok | P13: 유 | Q13: =CONCATENATE($P13,Q$5) -> 유국 | R13: =CONCATENATE($P13,R$5) -> 유공 | S13: =CONCATENATE($P13,S$5) -> 유사
A14: 제방 | B14: =COUNTIF(신흥리!$C$3:$C$955,P14) -> 0 | C14: / | D14: =SUMIF(신흥리!$C$3:$C$955,P14,신흥리!$E$3:$E$955) -> 0 | E14: =COUNTIF(신흥리!$P$3:$P$955,"제국") -> 0 | F14: / | G14: =SUMIF(신흥리!$P$3:$P$955,Q14,신흥리!$E$3:$E$955) -> 0 | H14: =COUNTIF(신흥리!$P$3:$P$955,R14) -> 0 | I14: / | J14: =SUMIF(신흥리!$P$3:$P$955,R14,신흥리!$E$3:$E$955) -> 0 | K14: =COUNTIF(신흥리!$P$3:$P$955,S14) -> 0 | L14: / | M14: =SUMIF(신흥리!$P$3:$P$955,S14,신흥리!$E$3:$E$955) -> 0 | O14: =IF(D14=(G14+J14+M14),"ok","false") -> ok | P14: 제 | Q14: =CONCATENATE($P14,Q$5) -> 제국 | R14: =CONCATENATE($P14,R$5) -> 제공 | S14: =CONCATENATE($P14,S$5) -> 제사
A15: 과수원 | B15: =COUNTIF(신흥리!$C$3:$C$955,P15) -> 0 | C15: / | D15: =SUMIF(신흥리!$C$3:$C$955,P15,신흥리!$E$3:$E$955) -> 0 | E15: =COUNTIF(신흥리!$P$3:$P$955,"과국") -> 0 | F15: / | G15: =SUMIF(신흥리!$P$3:$P$955,Q15,신흥리!$E$3:$E$955) -> 0 | H15: =COUNTIF(신흥리!$P$3:$P$955,R15) -> 0 | I15: / | J15: =SUMIF(신흥리!$P$3:$P$955,R15,신흥리!$E$3:$E$955) -> 0 | K15: =COUNTIF(신흥리!$P$3:$P$955,S15) -> 0 | L15: / | M15: =SUMIF(신흥리!$P$3:$P$955,S15,신흥리!$E$3:$E$955) -> 0 | O15: =IF(D15=(G15+J15+M15),"ok","false") -> ok | P15: 과 | Q15: =CONCATENATE($P15,Q$5) -> 과국 | R15: =CONCATENATE($P15,R$5) -> 과공 | S15: =CONCATENATE($P15,S$5) -> 과사
A16: 공장 | B16: =COUNTIF(신흥리!$C$3:$C$955,P16) -> 0 | C16: / | D16: =SUMIF(신흥리!$C$3:$C$955,P16,신흥리!$E$3:$E$955) -> 0 | E16: =COUNTIF(신흥리!$P$3:$P$955,"장국") -> 0 | F16: / | G16: =SUMIF(신흥리!$P$3:$P$955,Q16,신흥리!$E$3:$E$955) -> 0 | H16: =COUNTIF(신흥리!$P$3:$P$955,R16) -> 0 | I16: / | J16: =SUMIF(신흥리!$P$3:$P$955,R16,신흥리!$E$3:$E$955) -> 0 | K16: =COUNTIF(신흥리!$P$3:$P$955,S16) -> 0 | L16: / | M16: =SUMIF(신흥리!$P$3:$P$955,S16,신흥리!$E$3:$E$955) -> 0 | O16: =IF(D16=(G16+J16+M16),"ok","false") -> ok | P16: 장 | Q16: =CONCATENATE($P16,Q$5) -> 장국 | R16: =CONCATENATE($P16,R$5) -> 장공 | S16: =CONCATENATE($P16,S$5) -> 장사
