Workbook

Sheet 현황
B3: 관내 공동주택 단지 현황 (단지수, 세대수)
B4: 구분 | C4: 의무관리대상 | D4: 비의무관리대상 | E4: 임대주택 | F4: 합계
B5: 단지수 | C5: =의무관리단지!A332 -> 329 | D5: =비의무관리단지!A56 -> 53 | E5: =임대주택!A98 -> 95 | F5: =SUM(C5:E5) -> 477
B6: 세대수 | C6: =의무관리단지!N332-의무관리단지!O332 -> 230735 | D6: =비의무관리단지!N56 -> 4903 | E6: =의무관리단지!O332+임대주택!N98 -> 79383 | F6: =SUM(C6:E6) -> 315021
B10: 권역별 공동주택 단지 수
B11: 구분 | C11: 의무관리대상 | D11: 비의무관리대상 | E11: 임대주택 | F11: 합계
B12: 합계 | C12: =SUM(C13:C15) -> 329 | D12: =SUM(D13:D15) -> 51 | E12: =SUM(E13:E15) -> 95 | F12: =SUM(F13:F15) -> 475
B13: 서부권 | C13: =COUNTIF(의무관리단지!B3:B331,"서부권") -> 104 | D13: =COUNTIF(비의무관리단지!B3:B53,"서부권") -> 28 | E13: =COUNTIF(임대주택!B3:B97,"서부권") -> 48 | F13: =SUM(C13:E13) -> 180
B14: 동부권 | C14: =COUNTIF(의무관리단지!B3:B331,"동부권") -> 77 | D14: =COUNTIF(비의무관리단지!B3:B53,"동부권") -> 11 | E14: =COUNTIF(임대주택!B3:B95,"동부권") -> 10 | F14: =SUM(C14:E14) -> 98
B15: 동탄권 | C15: =COUNTIF(의무관리단지!B3:B331,"동탄권") -> 148 | D15: =COUNTIF(비의무관리단지!B3:B53,"동탄권") -> 12 | E15: =COUNTIF(임대주택!B3:B95,"동탄권") -> 37 | F15: =SUM(C15:E15) -> 197
B18: 권역별 공동주택 단지 수
B19: 구분 | C19: 의무관리대상 | D19: 비의무관리대상 | E19: 임대주택 | F19: 합계
B20: 합계 | C20: =SUM(C21:C24) -> 329 | D20: =SUM(D21:D24) -> 53 | E20: =SUM(E21:E24) -> 95 | F20: =SUM(F21:F24) -> 477
B21: 만세구 | C21: =COUNTIF(의무관리단지!C3:C331,"만세구") -> 59 | D21: =COUNTIF(비의무관리단지!C3:C55,"만세구") -> 22 | E21: =COUNTIF(임대주택!C3:C97,"만세구") -> 32 | F21: =SUM(C21:E21) -> 113
B22: 효행구 | C22: =COUNTIF(의무관리단지!C3:C331,"효행구") -> 54 | D22: =COUNTIF(비의무관리단지!C3:C55,"효행구") -> 9 | E22: =COUNTIF(임대주택!C3:C97,"효행구") -> 16 | F22: =SUM(C22:E22) -> 79
B23: 병점구 | C23: =COUNTIF(의무관리단지!C3:C331,"병점구") -> 68 | D23: =COUNTIF(비의무관리단지!C3:C55,"병점구") -> 10 | E23: =COUNTIF(임대주택!C3:C97,"병점구") -> 10 | F23: =SUM(C23:E23) -> 88
B24: 동탄구 | C24: =COUNTIF(의무관리단지!C3:C331,"동탄구") -> 148 | D24: =COUNTIF(비의무관리단지!C3:C55,"동탄구") -> 12 | E24: =COUNTIF(임대주택!C3:C97,"동탄구") -> 37 | F24: =SUM(C24:E24) -> 197
B27: (15년 이상 경과)
B28: 권역별 공동주택 승강기 대수
B29: 구분 | C29: 의무관리대상 | D29: 비의무관리대상 | E29: 임대주택 | F29: 합계
B30: 합계 | C30: =SUM(C31:C34) -> 319 | D30: =SUM(D31:D34) -> 43 | E30: =SUM(E31:E34) -> 85 | F30: =SUM(F31:F34) -> 447
B31: 만세구 | C31: =COUNTIF(의무관리단지!C13:C341,"만세구") -> 59 | D31: =COUNTIF(비의무관리단지!C13:C65,"만세구") -> 18 | E31: =COUNTIF(임대주택!C13:C107,"만세구") -> 23 | F31: =SUM(C31:E31) -> 100
B32: 효행구 | C32: =COUNTIF(의무관리단지!C13:C341,"효행구") -> 49 | D32: =COUNTIF(비의무관리단지!C13:C65,"효행구") -> 7 | E32: =COUNTIF(임대주택!C13:C107,"효행구") -> 16 | F32: =SUM(C32:E32) -> 72
B33: 병점구 | C33: =COUNTIF(의무관리단지!C13:C341,"병점구") -> 63 | D33: =COUNTIF(비의무관리단지!C13:C65,"병점구") -> 10 | E33: =COUNTIF(임대주택!C13:C107,"병점구") -> 9 | F33: =SUM(C33:E33) -> 82
B34: 동탄구 | C34: =COUNTIF(의무관리단지!C13:C341,"동탄구") -> 148 | D34: =COUNTIF(비의무관리단지!C13:C65,"동탄구") -> 8 | E34: =COUNTIF(임대주택!C13:C107,"동탄구") -> 37 | F34: =SUM(C34:E34) -> 193

Sheet 의무관리단지
A1: 공동주택현황[의무관리단지] 2026. 10. 1. 기준 (329개 단지)
A2: 연번 | B2: 권역 | C2: 구청 | D2: 행정동 | E2: 법정동 | F2: 단지명 | G2: 도로명 주소 | H2: 지번주소 | I2: 분양 형태 | J2: 단지 분류 | K2: 난방 | L2: 최고 층수 | M2: 동수 | N2: 세대수 | O2: 임대세대 수 (혼합단지) | P2: 연면적(㎡) | Q2: 승강기 대수 | R2: 관리사무소 연락처 | S2: 관리사무소 FAX | T2: 관리방법 | U2: 사용검사일 | V2: 지하주차장유무 | W2: 차수판설치유무 | X2: 비고
A3: 1 | B3: 동부권 | C3: 병점구 | D3: 진안동 | E3: 기산동 | F3: 행림마을삼성래미안1차 | G3: 경기도 화성시 병점구 동탄지성로 333 | H3: 기산동 464 | I3: 분양 | J3: 아파트 | K3: 개별난방 | L3: 15 | M3: 10 | N3: 621 | P3: 69938.279 | Q3: 21 | R3: 031-236-3721 | S3: 031-236-3726 | T3: 위탁관리 | U3: 37986 | V3: O | W3: X
A4: 2 | B4: 동부권 | C4: 병점구 | D4: 진안동 | E4: 기산동 | F4: 신동탄푸르지오 | G4: 경기도 화성시 병점구 동탄지성로 405 | H4: 기산동 370(466) | I4: 분양 | J4: 아파트 | K4: 개별난방 | L4: 14 | M4: 16 | N4: 993 | P4: 128141.43 | Q4: 40 | R4: 031-221-0360 | S4: 031-221-0308 | T4: 위탁관리 | U4: 38470 | V4: O | W4: X
A5: 3 | B5: 동부권 | C5: 병점구 | D5: 진안동 | E5: 기산동 | F5: 행복마을 참누리 에듀파크 1단지 | G5: 경기도 화성시 병점구 동탄지성로 295 | H5: 기산동 467 | I5: 분양 | J5: 아파트 | K5: 지역난방 | L5: 15 | M5: 13 | N5: 872 | P5: 134834.91 | Q5: 29 | R5: 031-225-9165 | S5: 031-225-9102 | T5: 위탁관리 | U5: 39244 | V5: O | W5: X | X5: 1,2단지 공동관리
A6: 4 | B6: 동부권 | C6: 병점구 | D6: 진안동 | E6: 기산동 | F6: 행복마을 참누리 에듀파크 2단지 | G6: 경기도 화성시 병점구 동탄지성로 294 | H6: 기산동 468 | I6: 분양 | J6: 아파트 | K6: 지역난방 | L6: 15 | M6: 7 | N6: 330 | P6: 59212.421 | Q6: 11 | T6: 위탁관리 | U6: 39244 | V6: O | W6: X
A7: 5 | B7: 동부권 | C7: 병점구 | D7: 진안동 | E7: 기산동 | F7: SK뷰파크2차 | G7: 경기도 화성시 병점구 동탄지성로 256 | H7: 기산동 476 | I7: 분양 | J7: 아파트 | K7: 지역난방 | L7: 24 | M7: 14 | N7: 1196 | P7: 171763.72 | Q7: 31 | R7: 031-267-3923 | S7: 031-267-3926 | T7: 위탁관리 | U7: 42947 | V7: O | W7: X
A8: 6 | B8: 동부권 | C8: 효행구 | D8: 기배동 | E8: 기안동 | F8: 우림그린빌리지 | G8: 경기도 화성시 효행구 효행로265번길 17 | H8: 기안동 350 | I8: 분양 | J8: 아파트 | K8: 개별난방 | L8: 15 | M8: 7 | N8: 642 | P8: 66559.78 | Q8: 23 | R8: 031-225-0880 | S8: 031-225-4538 | T8: 위탁관리 | U8: 37053 | V8: O | W8: X
A9: 7 | B9: 동부권 | C9: 효행구 | D9: 기배동 | E9: 기안동 | F9: 평생플러스빌 | G9: 경기도 화성시 효행구 효행로275 | H9: 기안동 358 | I9: 분양 | J9: 아파트 | K9: 개별난방 | L9: 15 | M9: 4 | N9: 259 | P9: 35085.097 | Q9: 11 | R9: 031-231-9004 | S9: 031-231-9005 | T9: 위탁관리 | U9: 37146 | V9: O | W9: X
A10: 8 | B10: 동부권 | C10: 효행구 | D10: 기배동 | E10: 기안동 | F10: 광도와이드빌 | G10: 경기도 화성시 효행구 효행로 229-11 | H10: 기안동 290 | I10: 분양 | J10: 아파트 | K10: 개별난방 | L10: 18 | M10: 15 | N10: 812 | P10: 90787.44 | Q10: 25 | R10: 031-232-2825 | S10: 031-232-2839 | T10: 위탁관리 | U10: 37357 | V10: O | W10: X
A11: 9 | B11: 동부권 | C11: 효행구 | D11: 기배동 | E11: 기안동 | F11: 기안마을풍성신미주 | G11: 경기도 화성시 효행구 융건로 99 | H11: 기안동 895 | I11: 분양 | J11: 아파트 | K11: 개별난방 | L11: 13 | M11: 20 | N11: 1164 | P11: 159228.98 | Q11: 45 | R11: 031-233-0723 | S11: 031-233-0724 | T11: 위탁관리 | U11: 38161 | V11: O | W11: X
A12: 10 | B12: 동부권 | C12: 효행구 | D12: 기배동 | E12: 기안동 | F12: 신일해피트리1차 | G12: 경기도 화성시 효행구 효행로291번길 26 | H12: 기안동 910 | I12: 분양 | J12: 아파트 | K12: 개별난방 | L12: 15 | M12: 13 | N12: 901 | P12: 125599.4 | Q12: 33 | R12: 031-221-0995 | S12: 031-221-0996 | T12: 위탁관리 | U12: 38344 | V12: O | W12: X
A13: 11 | B13: 동부권 | C13: 효행구 | D13: 기배동 | E13: 기안동 | F13: 화성우방아이유쉘 메가시티1단지 | G13: 경기도 화성시 효행구 기배로30번길 7-30 | H13: 기안동 935 | I13: 분양 | J13: 아파트 | K13: 개별난방 | L13: 25 | M13: 5 | N13: 420 | P13: 66793.004 | Q13: 10 | R13: 031-8043-5137 | S13: 031-8043-5138 | T13: 위탁관리 | U13: 44683 | V13: O | W13: X
A14: 12 | B14: 동부권 | C14: 효행구 | D14: 기배동 | E14: 기안동 | F14: 화성우방아이유쉘 메가시티2단지 | G14: 경기도 화성시 효행구 기배로 29 | H14: 기안동 928 | I14: 분양 | J14: 아파트 | K14: 개별난방 | L14: 24 | M14: 9 | N14: 737 | P14: 114316.84 | Q14: 22 | R14: 031-898-8575 | S14: 031-898-8576 | T14: 위탁관리 | U14: 44683 | V14: O | W14: X
A15: 13 | B15: 서부권 | C15: 만세구 | D15: 남양읍 | E15: 남양읍 | F15: 남양우림그린빌리지 | G15: 경기도 화성시 만세구 남양읍 남양성지로 8-5 | H15: 남양리 415 | I15: 분양 | J15: 아파트 | K15: 개별난방 | L15: 16 | M15: 12 | N15: 938 | P15: 93635.756 | Q15: 19 | R15: 031-355-3477 | S15: 031-355-3489 | T15: 위탁관리 | U15: 37044 | V15: O | W15: X | Y15: =GetColor -> #NAME?
A16: 14 | B16: 서부권 | C16: 만세구 | D16: 남양읍 | E16: 남양읍 | F16: 남양기산베스트빌 | G16: 경기도 화성시 만세구 남양읍 남양로 624-8 | H16: 신남리 25-9 | I16: 분양 | J16: 아파트 | K16: 개별난방 | L16: 12 | M16: 4 | N16: 270 | P16: 29542.95 | Q16: 12 | R16: 031-355-3603 | S16: 031-355-3691 | T16: 위탁관리 | U16: 37162 | V16: X | W16: X
A17: 15 | B17: 서부권 | C17: 만세구 | D17: 남양읍 | E17: 남양읍 | F17: 대광파인밸리1차 | G17: 경기도 화성시 만세구 남양읍 시청로 221 | H17: 남양리 2001 | I17: 분양 | J17: 아파트 | K17: 개별난방 | L17: 18 | M17: 14 | N17: 1108 | P17: 137632.4 | Q17: 33 | R17: 031-355-3656 | S17: 031-355-3654 | T17: 위탁관리 | U17: 37926 | V17: O | W17: X
A18: 16 | B18: 서부권 | C18: 만세구 | D18: 남양읍 | E18: 남양읍 | F18: 금강에스쁘아 | G18: 경기도 화성시 만세구 남양읍 화성로1081번길 49-10 | H18: 남양리 2005 | I18: 분양 | J18: 아파트 | K18: 개별난방 | L18: 15 | M18: 4 | N18: 280 | P18: 31712.59 | Q18: 10 | R18: 031-355-8365 | S18: 031-355-8367 | T18: 자치관리 | U18: 38187 | V18: X | W18: X
A19: 17 | B19: 서부권 | C19: 만세구 | D19: 남양읍 | E19: 남양읍 | F19: 대광파인밸리골드 | G19: 경기도 화성시 만세구 남양읍 시청로102번길 84 | H19: 신남리 1563 | I19: 분양 | J19: 아파트 | K19: 개별난방 | L19: 10 | M19: 7 | N19: 400 | P19: 49719.35 | Q19: 20 | R19: 031-356-8408 | S19: 031-356-8409 | T19: 위탁관리 | U19: 38194 | V19: O | W19: X
A20: 18 | B20: 서부권 | C20: 만세구 | D20: 남양읍 | E20: 남양읍 | F20: 금광포란재 | G20: 경기도 화성시 만세구 남양읍 무하로111번길 50 | H20: 무송리 642 | I20: 분양 | J20: 아파트 | K20: 개별난방 | L20: 15 | M20: 4 | N20: 284 | P20: 29535.547 | Q20: 10 | R20: 031-355-3157 | S20: 031-355-3167 | T20: 위탁관리 | U20: 38572 | V20: X | W20: X
A21: 19 | B21: 서부권 | C21: 만세구 | D21: 남양읍 | E21: 남양읍 | F21: 남양아이파크 | G21: 경기도 화성시 만세구 남양읍 역골동로 70 | H21: 남양리 2048 | I21: 분양 | J21: 아파트 | K21: 개별난방 | L21: 15 | M21: 5 | N21: 265 | P21: 47474.491 | Q21: 11 | R21: 031-355-6452 | S21: 031-355-6453 | T21: 위탁관리 | U21: 40046 | V21: O | W21: X
A22: 20 | B22: 서부권 | C22: 만세구 | D22: 남양읍 | E22: 남양읍 | F22: 남양우림필유 | G22: 경기도 화성시 만세구 남양읍 역골동로 94 | H22: 남양리 2047 | I22: 분양 | J22: 아파트 | K22: 개별난방 | L22: 15 | M22: 6 | N22: 344 | P22: 56073.632 | Q22: 12 | R22: 031-355-8033 | S22: 031-355-8044 | T22: 위탁관리 | U22: 40102 | V22: O | W22: X
A23: 21 | B23: 서부권 | C23: 만세구 | D23: 남양읍 | E23: 남양읍 | F23: 남양뉴타운 양우내안애 | G23: 경기도 화성시 만세구 남양읍 시청로32번길 59 | H23: 남양리 2299 | I23: 분양 | J23: 아파트 | K23: 지역난방 | L23: 25 | M23: 5 | N23: 398 | P23: 55980.838 | Q23: 12 | R23: 031-357-8624 | S23: 031-357-8634 | T23: 위탁관리 | U23: 42389 | V23: O | W23: X
A24: 22 | B24: 서부권 | C24: 만세구 | D24: 남양읍 | E24: 남양읍 | F24: 양우내안애2차에듀타운 | G24: 경기도 화성시 만세구 남양읍 시청로 102번길 12 | H24: 남양리 2300 | I24: 분양 | J24: 아파트 | K24: 지역난방 | L24: 26 | M24: 9 | N24: 460 | P24: 63526.237 | Q24: 12 | R24: 031-356-3554 | S24: 031-356-5663 | T24: 위탁관리 | U24: 42968 | V24: O | W24: X
A25: 23 | B25: 서부권 | C25: 만세구 | D25: 남양읍 | E25: 남양읍 | F25: 남양 시티프라디움 1차 | G25: 경기도 화성시 만세구 남양읍 시청로102번길 51 | H25: 남양리 2312 | I25: 분양 | J25: 아파트 | K25: 지역난방 | L25: 26 | M25: 12 | N25: 813 | P25: 139215.09 | Q25: 23 | R25: 031-355-1237 | S25: 031-355-1238 | T25: 위탁관리 | U25: 43112 | V25: O | W25: X
A26: 24 | B26: 서부권 | C26: 만세구 | D26: 남양읍 | E26: 남양읍 | F26: 남양 시티프라디움 2차 | G26: 경기도 화성시 만세구 남양읍 남양천로 45 | H26: 남양리 2249 | I26: 혼합 | J26: 아파트 | K26: 지역난방 | L26: 20 | M26: 9 | N26: 499 | O26: 69 | P26: 68964.119 | Q26: 12 | R26: 031-355-3320 | S26: 031-355-3321 | T26: 위탁관리 | U26: 43132 | V26: O | W26: O
A27: 25 | B27: 서부권 | C27: 만세구 | D27: 남양읍 | E27: 남양읍 | F27: 남양 시티프라디움 3차 | G27: 경기도 화성시 남양천로 17 | H27: 남양리 2251 | I27: 혼합(분양+임대) | J27: 아파트 | K27: 지역난방 | L27: 21 | M27: 7 | N27: 438 | O27: 36 | P27: 73646.579 | Q27: 13 | R27: 031-356-4222 | S27: 031-356-4227 | T27: 위탁관리 | U27: 43620 | V27: O | W27: X | Y27: O
A28: 26 | B28: 서부권 | C28: 만세구 | D28: 남양읍 | E28: 남양읍 | F28: 동광뷰엘 | G28: 경기도 화성시 만세구 남양읍 역골중앙로 118 | H28: 남양리 2235 | I28: 분양 | J28: 아파트 | K28: 지역난방 | L28: 36 | M28: 8 | N28: 673 | P28: 107026.76 | Q28: 14 | R28: 031-357-6534 | S28: 031-357-6535 | T28: 위탁관리 | U28: 43250 | V28: O | W28: X
A29: 27 | B29: 서부권 | C29: 만세구 | D29: 남양읍 | E29: 남양읍 | F29: 남양 시티프라디움 4차 | G29: 경기도 화성시 만세구 남양읍 남양로862번길 13 | H29: 남양리 2191 | I29: 분양 | J29: 아파트 | K29: 지역난방 | L29: 23 | M29: 7 | N29: 556 | P29: 86974.852 | Q29: 16 | R29: 031-355-3305 | S29: 031-355-3306 | T29: 위탁관리 | U29: 44966 | V29: O | W29: X
A30: 28 | B30: 서부권 | C30: 만세구 | D30: 남양읍 | E30: 남양읍 | F30: 화성시청역 센트럴파크 스타힐스1단지 | G30: 경기도 화성시 만세구 남양읍 화성시청역로 1 | H30: 신남리 1574 | I30: 분양 | J30: 아파트 | K30: 개별난방 | L30: 25 | M30: 10 | N30: 1131 | P30: 152603.61 | Q30: 30 | R30: 031-8068-7773 | S30: 031-8068-7774 | T30: 위탁관리 | U30: 44834 | V30: O | W30: X
A31: 29 | B31: 서부권 | C31: 만세구 | D31: 남양읍 | E31: 남양읍 | F31: 화성시청역 센트럴파크 스타힐스2단지 | G31: 경기도 화성시 만세구 남양읍 화성시청역로 7 | H31: 신남리 1572 | I31: 분양 | J31: 아파트 | K31: 개별난방 | L31: 25 | M31: 11 | N31: 1005 | P31: 142632.21 | Q31: 29 | R31: 031-8068-7775 | S31: 031-8068-7776 | T31: 위탁관리 | U31: 44834 | V31: O | W31: X
A32: 30 | B32: 서부권 | C32: 만세구 | D32: 남양읍 | E32: 남양읍 | F32: 화성시청역 센트럴파크 스타힐스3단지 | G32: 경기도 화성시 만세구 남양읍 화성시청역로 14 | H32: 신남리 1573 | I32: 분양 | J32: 아파트 | K32: 개별난방 | L32: 25 | M32: 8 | N32: 847 | P32: 119922.95 | Q32: 26 | R32: 031-8068-7781 | S32: 031-8068-7782 | T32: 위탁관리 | U32: 44834 | V32: O | W32: X
A33: 31 | B33: 서부권 | C33: 만세구 | D33: 남양읍 | E33: 남양읍 | F33: 화성시청역 서희스타힐스 4차 숲속마을 | G33: 경기도 화성시 만세구 남양읍 고향의봄길 36 | H33: 신남리 산 96-8 | I33: 분양 | J33: 아파트 | K33: 개별난방 | L33: 24 | M33: 20 | N33: 1846 | P33: 264606.54 | Q33: 50 | R33: 031-357-7688 | S33: 031-357-7684 | T33: 위탁관리 | U33: 45233 | V33: O | W33: X
A34: 32 | B34: 서부권 | C34: 만세구 | D34: 남양읍 | E34: 남양읍 | F34: e편한세상 남양뉴타운 | G34: 경기도 화성시 만세구 남양읍 남양로862번길 42 | H34: 남양리 2195 | I34: 분양 | J34: 아파트 | K34: 지역난방 | L34: 18 | M34: 8 | N34: 606 | P34: 91086.61 | Q34: 18 | R34: 031-355-6003 | S34: 031-355-6005 | T34: 위탁관리 | U34: 44875 | V34: O | W34: X
A35: 33 | B35: 서부권 | C35: 만세구 | D35: 남양읍 | E35: 남양읍 | F35: 화성시청역 리젠시 빌란트 아파트 | G35: 경기도 화성시 만세구 남양읍 시청로 102번길 52 | H35: 남양리 2310 | I35: 분양 | J35: 아파트 | K35: 지역난방 | L35: 20 | M35: 7 | N35: 380 | P35: 72079.46 | Q35: 26 | R35: 031-355-3308 | S35: 031-355-3398 | T35: 위탁관리 | U35: 45043 | V35: O | W35: X
A36: 34 | B36: 동부권 | C36: 병점구 | D36: 진안동 | E36: 능동 | F36: 서동탄역우남퍼스트빌(2차) | G36: 경기도 화성시 병점구 10용사로 286 | H36: 능동 1039 | I36: 분양 | J36: 아파트 | K36: 지역난방 | L36: 18 | M36: 10 | N36: 700 | P36: 76855.713 | Q36: 21 | R36: 031-224-3218 | S36: 031-224-3219 | T36: 위탁관리 | U36: 37821 | V36: O | W36: X | X36: 1,2단지 공동관리
A37: 35 | B37: 동부권 | C37: 병점구 | D37: 진안동 | E37: 능동 | F37: 서동탄역우남퍼스트빌(3차) | G37: 경기도 화성시 병점구 10용사로 284 | H37: 능동 1041 | I37: 분양 | J37: 아파트 | K37: 지역난방 | L37: 18 | M37: 6 | N37: 413 | P37: 46462.722 | Q37: 12 | T37: 위탁관리 | U37: 37821 | V37: O | W37: X
A38: 36 | B38: 동탄권 | C38: 동탄구 | D38: 동탄3동 | E38: 능동 | F38: 푸른마을두산위브 | G38: 경기도 화성시 동탄구 동탄공원로 21-40 | H38: 능동 1137 | I38: 분양 | J38: 아파트 | K38: 지역난방 | L38: 35 | M38: 11 | N38: 915 | P38: 138725.36 | Q38: 22 | R38: 031-8003-0901 | S38: 031-8003-0902 | T38: 위탁관리 | U38: 39447 | V38: O | W38: X
A39: 37 | B39: 동탄권 | C39: 동탄구 | D39: 동탄3동 | E39: 능동 | F39: 동탄숲속마을 능동역 리체 더 포레스트 | G39: 경기도 화성시 동탄구 동탄숲속로 19 | H39: 능동 1126 | I39: 분양 | J39: 아파트 | K39: 지역난방 | L39: 29 | M39: 8 | N39: 562 | P39: 108169.11 | Q39: 15 | R39: 031-613-4341 | S39: 031-613-4342 | T39: 위탁관리 | U39: 39465 | V39: O | W39: X
A40: 38 | B40: 동탄권 | C40: 동탄구 | D40: 동탄3동 | E40: 능동 | F40: 숲속마을모아미래도1단지 | G40: 경기도 화성시 동탄구 동탄숲속로 96 | H40: 능동 1132 | I40: 분양 | J40: 아파트 | K40: 지역난방 | L40: 30 | M40: 16 | N40: 870 | P40: 121538.1 | Q40: 29 | R40: 031-8003-0540 | S40: 031-8003-0541 | T40: 위탁관리 | U40: 39470 | V40: O | W40: X
A41: 39 | B41: 동탄권 | C41: 동탄구 | D41: 동탄3동 | E41: 능동 | F41: 숲속마을모아미래도2단지 | G41: 경기도 화성시 동탄구 동탄숲속로 36 | H41: 능동 1129 | I41: 분양 | J41: 아파트 | K41: 지역난방 | L41: 31 | M41: 5 | N41: 361 | P41: 70798.39 | Q41: 10 | R41: 031-8003-0380 | S41: 031-8003-0381 | T41: 위탁관리 | U41: 39470 | V41: O | W41: X
A42: 40 | B42: 동탄권 | C42: 동탄구 | D42: 동탄3동 | E42: 능동 | F42: 푸른마을모아미래도 | G42: 경기도 화성시 동탄구 동탄공원로 21-11 | H42: 능동 1151 | I42: 분양 | J42: 아파트 | K42: 지역난방 | L42: 24 | M42: 13 | N42: 926 | P42: 106808.07 | Q42: 27 | R42: 031-613-3707 | S42: 031-613-4707 | T42: 위탁관리 | U42: 39471 | V42: O | W42: O | X42: 매입임대 36세대
A43: 41 | B43: 동탄권 | C43: 동탄구 | D43: 동탄3동 | E43: 능동 | F43: 동탄숲속마을광명메이루즈 | G43: 경기도 화성시 동탄구 동탄숲속로 95 | H43: 능동 1116 | I43: 분양 | J43: 아파트 | K43: 지역난방 | L43: 15 | M43: 11 | N43: 326 | P43: 46099.319 | Q43: 11 | R43: 031-613-6760 | S43: 031-613-6761 | T43: 위탁관리 | U43: 39498 | V43: O | W43: X
A44: 42 | B44: 동탄권 | C44: 동탄구 | D44: 동탄3동 | E44: 능동 | F44: 능동마을이지더원 | G44: 경기도 화성시 동탄구 동탄원천로 315-34 | H44: 능동 1109 | I44: 분양 | J44: 아파트 | K44: 지역난방 | L44: 20 | M44: 10 | N44: 542 | P44: 78943.505 | Q44: 19 | R44: 031-8003-2237 | S44: 031-8003-2238 | T44: 위탁관리 | U44: 39569 | V44: O | W44: X
A45: 43 | B45: 동탄권 | C45: 동탄구 | D45: 동탄3동 | E45: 능동 | F45: 푸른마을포스코더샵 | G45: 경기도 화성시 동탄구 동탄공원로 21-12 | H45: 능동 1134 | I45: 분양 | J45: 아파트 | K45: 지역난방 | L45: 33 | M45: 15 | N45: 1226 | P45: 185551.14 | Q45: 29 | R45: 031-613-5033 | S45: 031-613-5034 | T45: 위탁관리 | U45: 39588 | V45: O | W45: X
A46: 44 | B46: 동탄권 | C46: 동탄구 | D46: 동탄3동 | E46: 능동 | F46: 숲속마을자연앤데시앙 | G46: 경기도 화성시 동탄구 동탄숲속로 68 | H46: 능동 1131 | I46: 분양 | J46: 아파트 | K46: 지역난방 | L46: 30 | M46: 20 | N46: 1289 | P46: 165987.52 | Q46: 34 | R46: 031-613-8461 | S46: 031-613-8460 | T46: 위탁관리 | U46: 39619 | V46: O | W46: X
A47: 45 | B47: 동탄권 | C47: 동탄구 | D47: 동탄3동 | E47: 능동 | F47: 동탄푸른마을신일해피트리 | G47: 경기도 화성시 동탄구 동탄공원로 21-39 | H47: 능동 1150 | I47: 분양 | J47: 아파트 | K47: 지역난방 | L47: 27 | M47: 13 | N47: 794 | P47: 96721.27 | Q47: 22 | R47: 031-8003-1740 | S47: 031-8003-1742 | T47: 위탁관리 | U47: 39626 | V47: O | W47: X
A48: 46 | B48: 동탄권 | C48: 동탄구 | D48: 동탄3동 | E48: 능동 | F48: 동탄숲속마을자연앤경남아너스빌5블럭 | G48: 경기도 화성시 동탄구 동탄숲속로 103 | H48: 능동 1115 | I48: 분양 | J48: 아파트 | K48: 지역난방 | L48: 29 | M48: 9 | N48: 641 | P48: 91678.611 | Q48: 19 | R48: 031-8003-2063 | S48: 031-8003-0495 | T48: 위탁관리 | U48: 39745 | V48: O | W48: O
A49: 47 | B49: 동탄권 | C49: 동탄구 | D49: 동탄3동 | E49: 능동 | F49: 능동역경남아너스빌 | G49: 경기도 화성시 동탄구 동탄숲속로 69 | H49: 능동 1124 | I49: 분양 | J49: 아파트 | K49: 지역난방 | L49: 28 | M49: 6 | N49: 455 | P49: 65406.033 | Q49: 13 | R49: 031-8003-2072 | S49: 031-8003-2073 | T49: 위탁관리 | U49: 39745 | V49: O | W49: X | X49: 2024.12.23. 단지명 변경
A50: 48 | B50: 동부권 | C50: 병점구 | D50: 진안동 | E50: 능동 | F50: 서동탄역파크자이 | G50: 경기도 화성시 병점구 서동탄로 53 | H50: 능동 1282 | I50: 분양 | J50: 아파트 | K50: 지역난방 | L50: 21 | M50: 11 | N50: 982 | P50: 154944.81 | Q50: 35 | R50: 031-898-6345 | S50: 031-898-6346 | T50: 위탁관리 | U50: 43130 | V50: O | W50: X
A51: 49 | B51: 동부권 | C51: 병점구 | D51: 진안동 | E51: 능동 | F51: 서동탄역파크자이2차 | G51: 경기도 화성시 병점구 서동탄로 11 | H51: 능동 1283 | I51: 분양 | J51: 아파트 | K51: 지역난방 | L51: 21 | M51: 5 | N51: 376 | P51: 60616.16 | Q51: 10 | R51: 031-226-8961 | S51: 031-226-8962 | T51: 위탁관리 | U51: 43370 | V51: O | W51: X
A52: 50 | B52: 동부권 | C52: 병점구 | D52: 진안동 | E52: 능동 | F52: 서동탄역 양우내안애 | G52: 경기도 화성시 병점구 서동탄로 71 | H52: 능동 1287 | I52: 혼합 | J52: 아파트 | K52: 지역난방 | L52: 20 | M52: 6 | N52: 447 | O52: 149 | P52: 59607.2 | Q52: 13 | R52: 031-8003-0994 | S52: 031-8003-0995 | T52: 위탁관리 | U52: 45093 | V52: O | W52: X | X52: 분양[신혼희망타운 298]+임대[행복주택149]
A53: 51 | B53: 동탄권 | C53: 동탄구 | D53: 동탄9동 | E53: 목동 | F53: 호반베르디움센트럴포레 | G53: 경기도 화성시 동탄구 동탄신리천로1길 74 | H53: 목동 494 | I53: 분양 | J53: 아파트 | K53: 지역난방 | L53: 25 | M53: 22 | N53: 1695 | P53: 267807.44 | Q53: 44 | R53: 031-373-7215 | S53: 031-373-7217 | T53: 위탁관리 | U53: 42888 | V53: O | W53: X
A54: 52 | B54: 동탄권 | C54: 동탄구 | D54: 동탄9동 | E54: 목동 | F54: 동탄2 르파비스 | G54: 경기도 화성시 동탄구 동탄순환대로20길 115 | H54: 목동 481 | I54: 혼합 | J54: 아파트 | K54: 지역난방 | L54: 20 | M54: 10 | N54: 876 | O54: 703 | P54: 111319.56 | Q54: 21 | R54: 031-372-4471 | S54: 031-372-4470 | T54: 위탁관리 | U54: 43046 | V54: O | W54: X
A55: 53 | B55: 동탄권 | C55: 동탄구 | D55: 동탄9동 | E55: 목동 | F55: 호반베르디움22단지 | G55: 경기도 화성시 동탄구 동탄순환대로 20길 104 | H55: 목동 486 | I55: 분양 | J55: 아파트 | K55: 지역난방 | L55: 25 | M55: 10 | N55: 746 | P55: 84997.867 | Q55: 19 | R55: 031-377-6657 | S55: 031-377-6659 | T55: 위탁관리 | U55: 43080 | V55: O | W55: X
A56: 54 | B56: 동탄권 | C56: 동탄구 | D56: 동탄9동 | E56: 목동 | F56: 동탄금강펜테리움센트럴파크4 | G56: 경기도 화성시 동탄구 동탄순환대로20길 45 | H56: 목동 479 | I56: 분양 | J56: 아파트 | K56: 지역난방 | L56: 20 | M56: 18 | N56: 1195 | P56: 183342.78 | Q56: 36 | R56: 031-378-6883 | S56: 031-378-6885 | T56: 위탁관리 | U56: 43130 | V56: O | W56: X
A57: 55 | B57: 동탄권 | C57: 동탄구 | D57: 동탄9동 | E57: 목동 | F57: e편한세상 동탄 | G57: 경기도 화성시 동탄구 동탄순환대로20길 31 | H57: 목동 478 | I57: 분양 | J57: 아파트 | K57: 지역난방 | L57: 25 | M57: 19 | N57: 1526 | P57: 247053.08 | Q57: 48 | R57: 031-378-8767 | S57: 031-378-8769 | T57: 위탁관리 | U57: 43131 | V57: O | W57: X
A58: 56 | B58: 동탄권 | C58: 동탄구 | D58: 동탄9동 | E58: 목동 | F58: 동탄2 한신더휴 | G58: 경기도 화성시 동탄구 동탄순환대로20길 70 | H58: 목동 485 | I58: 분양 | J58: 아파트 | K58: 지역난방 | L58: 25 | M58: 11 | N58: 930 | P58: 140972.75 | Q58: 44 | R58: 031-378-2496 | S58: 031-378-2497 | T58: 위탁관리 | U58: 43326 | V58: O | W58: X
A59: 57 | B59: 동탄권 | C59: 동탄구 | D59: 동탄9동 | E59: 목동 | F59: 동탄2신도시베라체 | G59: 경기도 화성시 동탄구 동탄순환대로20길 13 | H59: 목동 477 | I59: 분양 | J59: 아파트 | K59: 지역난방 | L59: 20 | M59: 10 | N59: 859 | P59: 111215.66 | Q59: 20 | R59: 031-376-4090 | S59: 031-376-4098 | T59: 위탁관리 | U59: 43377 | V59: O | W59: X
A60: 58 | B60: 동탄권 | C60: 동탄구 | D60: 동탄9동 | E60: 목동 | F60: 힐스테이트 동탄 | G60: 경기도 화성시 동탄구 동탄순환대로19길 59 | H60: 목동 491 | I60: 분양 | J60: 아파트 | K60: 지역난방 | L60: 33 | M60: 16 | N60: 1479 | P60: 223738.24 | Q60: 74 | R60: 031-372-5787 | S60: 031-377-5787 | T60: 위탁관리 | U60: 43518 | V60: O | W60: O
A61: 59 | B61: 동탄권 | C61: 동탄구 | D61: 동탄9동 | E61: 목동 | F61: 동탄동원로얄듀크2차 | G61: 경기도 화성시 동탄구 동탄순환대로19길 21 | H61: 목동 489 | I61: 분양 | J61: 아파트 | K61: 지역난방 | L61: 25 | M61: 8 | N61: 761 | P61: 118493.29 | Q61: 32 | R61: 031-378-1812 | S61: 031-378-1814 | T61: 위탁관리 | U61: 43531 | V61: O | W61: X
A62: 60 | B62: 동탄권 | C62: 동탄구 | D62: 동탄1동 | E62: 반송동 | F62: 동탄시범다은마을 메타역 롯데캐슬 | G62: 경기도 화성시 동탄구 메타폴리스로 22 | H62: 반송동 101 | I62: 분양 | J62: 아파트 | K62: 지역난방 | L62: 20 | M62: 6 | N62: 429 | P62: 69627.647 | Q62: 12 | R62: 031-8050-0850 | S62: 031-8050-0733 | T62: 위탁관리 | U62: 39107 | V62: O | W62: X
A63: 61 | B63: 동탄권 | C63: 동탄구 | D63: 동탄1동 | E63: 반송동 | F63: 시범다은마을포스코더샵 | G63: 경기도 화성시 동탄구 동탄문화센터로 39 | H63: 반송동 102 | I63: 분양 | J63: 아파트 | K63: 지역난방 | L63: 23 | M63: 8 | N63: 514 | P63: 86284.972 | Q63: 18 | R63: 031-613-0202 | S63: 031-613-0203 | T63: 위탁관리 | U63: 39108 | V63: O | W63: X
A64: 62 | B64: 동탄권 | C64: 동탄구 | D64: 동탄1동 | E64: 반송동 | F64: 동탄시범한빛마을KCC스위첸 | G64: 경기도 화성시 동탄구 동탄시범한빛길 38 | H64: 반송동 19 | I64: 분양 | J64: 아파트 | K64: 지역난방 | L64: 30 | M64: 6 | N64: 484 | P64: 72591.349 | Q64: 12 | R64: 031-613-3331 | S64: 031-613-3332 | T64: 위탁관리 | U64: 39113 | V64: O | W64: X
A65: 63 | B65: 동탄권 | C65: 동탄구 | D65: 동탄1동 | E65: 반송동 | F65: 동탄시범한빛마을아이파크 | G65: 경기도 화성시 동탄구 동탄지성로 42 | H65: 반송동 85 | I65: 분양 | J65: 아파트 | K65: 지역난방 | L65: 30 | M65: 8 | N65: 748 | P65: 112935.04 | Q65: 16 | R65: 031-613-4646 | S65: 031-613-4648 | T65: 위탁관리 | U65: 39113 | V65: O | W65: X
A66: 64 | B66: 동탄권 | C66: 동탄구 | D66: 동탄1동 | E66: 반송동 | F66: 시범다은마을삼성래미안 | G66: 경기도 화성시 동탄구 메타폴리스로 6 | H66: 반송동 100 | I66: 분양 | J66: 아파트 | K66: 지역난방 | L66: 30 | M66: 7 | N66: 514 | P66: 85124.086 | Q66: 12 | R66: 031-377-0742 | S66: 031-377-0746 | T66: 위탁관리 | U66: 39118 | V66: O | W66: X
... A82: 80 | B82: 동탄권 | C82: 동탄구 | D82: 동탄1동 | E82: 반송동 | F82: 동탄우림필유타운하우스 | G82: 경기도 화성시 동탄구 동탄공원로1길 6-60 | H82: 반송동 74 | I82: 분양 | J82: 연립주택 | K82: 지역난방 | L82: 5 | M82: 18 | N82: 286 | P82: 42850.749 | Q82: 25 | R82: 031-8050-9140 | S82: 031-8050-9150 | T82: 위탁관리 | U82: 39535 | V82: O | W82: X
A83: 81 | B83: 동탄권 | C83: 동탄구 | D83: 동탄2동 | E83: 반송동 | F83: 동탄센트럴포레스트 | G83: 경기도 화성시 동탄구 동탄중앙로 119-14 | H83: 반송동 141 | I83: 분양 | J83: 아파트 | K83: 지역난방 | L83: 23 | M83: 9 | N83: 503 | P83: 67870.36 | Q83: 16 | R83: 031-8015-1041 | S83: 031-8015-1042 | T83: 위탁관리 | U83: 40045 | V83: O | W83: X | X83: 분양전환
A84: 82 | B84: 동탄권 | C84: 동탄구 | D84: 동탄1동 | E84: 반송동 | F84: 동탄위버폴리스 | G84: 경기도 화성시 동탄구 동탄지성로 17 | H84: 반송동 93-1 | I84: 분양 | J84: 주상복합 | K84: 지역난방 | L84: 41 | M84: 2 | N84: 198 | P84: 71884.304 | Q84: 11 | R84: 031-8003-4801 | S84: 031-8003-4803 | T84: 위탁관리 | U84: 40151 | V84: O | W84: X | X84: 건축법에 따른 건축허가
A85: 83 | B85: 동탄권 | C85: 동탄구 | D85: 동탄1동 | E85: 반송동 | F85: 동탄메타폴리스(1,2단지 공동관리) | G85: 경기도 화성시 동탄구 동탄중앙로 220 | H85: 반송동 96 | I85: 분양 | J85: 주상복합 | K85: 지역난방 | L85: 66 | M85: 4 | N85: 1266 | P85: 230656.95 | Q85: 37 | R85: 031-8015-2222 | S85: 031-8015-2337 | T85: 위탁관리 | U85: 40424 | V85: O | W85: X
A86: 84 | B86: 동탄권 | C86: 동탄구 | D86: 동탄1동 | E86: 반송동 | F86: 동탄파라곤1차 | G86: 경기도 화성시 동탄구 동탄반석로 172 | H86: 반송동 93-3 | I86: 분양 | J86: 주상복합 | K86: 지역난방 | L86: 44 | M86: 3 | N86: 278 | P86: 132250.34 | Q86: 19 | R86: 031-8015-2185 | S86: 031-8003-7766 | T86: 위탁관리 | U86: 40494 | V86: O | W86: X | X86: 건축법에 따른 건축허가
A87: 85 | B87: 동탄권 | C87: 동탄구 | D87: 동탄1동 | E87: 반송동 | F87: 동탄하이페리온 | G87: 경기도 화성시 동탄구 동탄반석로 156 | H87: 반송동 93-9 | I87: 분양 | J87: 주상복합 | K87: 지역난방 | L87: 38 | M87: 2 | N87: 180 | P87: 60171.65 | Q87: 9 | R87: 031-8015-4360 | S87: 031-8015-4350 | T87: 위탁관리 | U87: 40512 | V87: O | W87: X | X87: 건축법에 따른 건축허가
A88: 86 | B88: 동부권 | C88: 병점구 | D88: 반월동 | E88: 반월동 | F88: 나노시티역 롯데캐슬 | G88: 경기도 화성시 병점구 효행로 1337-26 | H88: 반월동 973 | I88: 분양 | J88: 아파트 | K88: 지역난방 | L88: 25 | M88: 12 | N88: 999 | P88: 147634.3 | Q88: 24 | R88: 031-898-8960 | S88: 031-898-8962 | T88: 위탁관리 | U88: 44894 | V88: O | W88: X
A89: 87 | B89: 동부권 | C89: 병점구 | D89: 반월동 | E89: 반월동 | F89: 신영통현대3단지 | G89: 경기도 화성시 병점구 영통로27번길 35 | H89: 반월동 860 | I89: 분양 | J89: 아파트 | K89: 지역난방 | L89: 18 | M89: 11 | N89: 800 | P89: 121471.26 | Q89: 23 | R89: 031-202-9290 | S89: 031-205-1914 | T89: 자치관리 | U89: 37072 | V89: O | W89: X
A90: 88 | B90: 동부권 | C90: 병점구 | D90: 반월동 | E90: 반월동 | F90: 신영통현대1단지 | G90: 경기도 화성시 병점구 영통로61번길 10 | H90: 반월동 865-1 | I90: 분양 | J90: 아파트 | K90: 지역난방 | L90: 18 | M90: 12 | N90: 896 | P90: 108541.14 | Q90: 25 | R90: 031-273-4038 | S90: 031-273-4039 | T90: 위탁관리 | U90: 37176 | V90: O | W90: X
A91: 89 | B91: 동부권 | C91: 병점구 | D91: 반월동 | E91: 반월동 | F91: 신영통현대2단지 | G91: 경기도 화성시 병점구 영통로27번길 53 | H91: 반월동 868 | I91: 분양 | J91: 아파트 | K91: 지역난방 | L91: 18 | M91: 16 | N91: 1220 | P91: 157065.7 | Q91: 34 | R91: 031-306-4441 | S91: 031-305-4443 | T91: 자치관리 | U91: 37330 | V91: O | W91: X
A92: 90 | B92: 동부권 | C92: 병점구 | D92: 반월동 | E92: 반월동 | F92: 신영통현대4단지 | G92: 경기도 화성시 병점구 영통로27번길 20 | H92: 반월동 870 | I92: 분양 | J92: 아파트 | K92: 지역난방 | L92: 18 | M92: 8 | N92: 576 | P92: 66872.077 | Q92: 16 | R92: 031-273-6208 | S92: 031-273-6209 | T92: 위탁관리 | U92: 37336 | V92: O | W92: X
A93: 91 | B93: 동부권 | C93: 병점구 | D93: 반월동 | E93: 반월동 | F93: 행림마을삼성래미안2차 | G93: 경기도 화성시 병점구 동탄지성로 334 | H93: 반월동 872 | I93: 분양 | J93: 아파트 | K93: 지역난방 | L93: 15 | M93: 5 | N93: 264 | P93: 34220.432 | Q93: 9 | R93: 031-239-1601 | S93: 031-239-1661 | T93: 자치관리 | U93: 38107 | V93: O | W93: X
A94: 92 | B94: 동부권 | C94: 병점구 | D94: 반월동 | E94: 반월동 | F94: 반달마을두산위브1단지 | G94: 경기도 화성시 병점구 영통로50번길 27 | H94: 반월동 880 | I94: 분양 | J94: 아파트 | K94: 지역난방 | L94: 15 | M94: 11 | N94: 690 | P94: 126120.49 | Q94: 23 | R94: 031-203-8802 | S94: 031-273-8851 | T94: 위탁관리 | U94: 39288 | V94: O | W94: X
A95: 93 | B95: 동부권 | C95: 병점구 | D95: 반월동 | E95: 반월동 | F95: 반달마을두산위브2단지 | G95: 경기도 화성시 병점구 영통로50번길 14 | H95: 반월동 883 | I95: 분양 | J95: 아파트 | K95: 지역난방 | L95: 15 | M95: 6 | N95: 352 | P95: 53407.164 | Q95: 12 | R95: 031-273-3316 | S95: 031-273-3376 | T95: 위탁관리 | U95: 39288 | V95: O | W95: X
A96: 94 | B96: 동부권 | C96: 병점구 | D96: 반월동 | E96: 반월동 | F96: 반달마을푸르지오 | G96: 경기도 화성시 병점구 영통로26번길 24 | H96: 반월동 885 | I96: 분양 | J96: 아파트 | K96: 지역난방 | L96: 15 | M96: 7 | N96: 530 | P96: 73345.184 | Q96: 18 | R96: 031-203-4153 | S96: 031-203-4154 | T96: 위탁관리 | U96: 39289 | V96: O | W96: X
A97: 95 | B97: 동부권 | C97: 병점구 | D97: 반월동 | E97: 반월동 | F97: 신동탄 SK뷰 | G97: 경기도 화성시 병점구 동탄원천로 382-37 | H97: 반월동 944 | I97: 분양 | J97: 아파트 | K97: 지역난방 | L97: 25 | M97: 25 | N97: 1967 | P97: 310615.52 | Q97: 48 | R97: 031-221-1783 | S97: 031-221-1792 | T97: 위탁관리 | U97: 42052 | V97: O | W97: X
A98: 96 | B98: 동부권 | C98: 병점구 | D98: 반월동 | E98: 반월동 | F98: 반월자이더파크 | G98: 경기도 화성시 병점구 동탄지성로 394 | H98: 반월동 959 | I98: 분양 | J98: 아파트 | K98: 지역난방 | L98: 19 | M98: 8 | N98: 468 | P98: 65283.591 | Q98: 17 | R98: 031-234-8500 | S98: 031-234-8578 | T98: 위탁관리 | U98: 42489 | V98: O | W98: X | X98: 2021. 12. 분양전환
A99: 97 | B99: 동부권 | C99: 병점구 | D99: 반월동 | E99: 반월동 | F99: 이편한세상 반월나노시티역 | G99: 경기도 화성시 병점구 효행로 1337-23 | H99: 반월동 960 | I99: 분양 | J99: 아파트 | K99: 지역난방 | L99: 28 | M99: 12 | N99: 1387 | P99: 198164.2 | Q99: 31 | R99: 031-238-0098 | S99: 031-238-8338 | T99: 위탁관리 | U99: 42789 | V99: O | W99: O
A100: 98 | B100: 동부권 | C100: 병점구 | D100: 반월동 | E100: 반월동 | F100: 신동탄 포레자이 | G100: 경기도 화성시 병점구 영통로60번길 31 | H100: 반월동 974 | I100: 분양 | J100: 아파트 | K100: 지역난방 | L100: 29 | M100: 12 | N100: 1297 | P100: 190611.94 | Q100: 28 | R100: 031-547-9522 | S100: 031-547-9523 | T100: 위탁관리 | U100: 44980 | V100: O | W100: X
A101: 99 | B101: 동부권 | C101: 병점구 | D101: 진안동 | E101: 반정동 | F101: 반정아이파크캐슬4단지아파트 | G101: 경기도 화성시 병점구 동탄지성로469번길 59 | H101: 반정동 623 | I101: 분양 | J101: 아파트 | K101: 지역난방 | L101: 17 | M101: 14 | N101: 986 | P101: 146088.65 | Q101: 38 | R101: 031-205-9365 | S101: 031-205-9366 | T101: 위탁관리 | U101: 44924 | V101: O | W101: X
A102: 100 | B102: 동부권 | C102: 병점구 | D102: 진안동 | E102: 반정동 | F102: 반정아이파크캐슬5단지아파트 | G102: 경기도 화성시 병점구 동탄지성로469번길 60 | H102: 반정동 637 | I102: 분양 | J102: 아파트 | K102: 지역난방 | L102: 19 | M102: 20 | N102: 1378 | P102: 215970.74 | Q102: 51 | R102: 031-273-9743 | S102: 031-273-9744 | T102: 위탁관리 | U102: 44924 | V102: O | W102: X
A103: 101 | B103: 동부권 | C103: 병점구 | D103: 병점1동 | E103: 병점동 | F103: 대창그린 | G103: 경기도 화성시 병점구 병점2로 15 | H103: 병점동 359 | I103: 분양 | J103: 아파트 | K103: 지역난방 | L103: 13 | M103: 7 | N103: 392 | P103: 37597.42 | Q103: 19 | R103: 031-222-7757 | S103: 031-225-7757 | T103: 위탁관리 | U103: 35695 | V103: O | W103: X
A104: 102 | B104: 동부권 | C104: 병점구 | D104: 병점1동 | E104: 병점동 | F104: 태안주공1단지 | G104: 경기도 화성시 병점구 병점2로 35 | H104: 병점동 809 | I104: 분양 | J104: 아파트 | K104: 지역난방 | L104: 18 | M104: 15 | N104: 1044 | P104: 80688.548 | Q104: 30 | R104: 031-308-3743 | S104: 031-226-1065 | T104: 위탁관리 | U104: 35756 | V104: O | W104: X
A105: 103 | B105: 동부권 | C105: 병점구 | D105: 병점1동 | E105: 병점동 | F105: 병점한신 | G105: 경기도 화성시 병점구 병점1로 82 | H105: 병점동 485 | I105: 분양 | J105: 아파트 | K105: 개별 /지역 | L105: 15 | M105: 10 | N105: 1106 | P105: 106043.7 | Q105: 37 | R105: 031-307-3838 | S105: 031-305-2277 | T105: 위탁관리 | U105: 36297 | V105: O | W105: X
A106: 104 | B106: 동부권 | C106: 병점구 | D106: 병점2동 | E106: 병점동 | F106: 병점신미주 | G106: 경기도 화성시 병점구 효행로1156번길 22 | H106: 병점동 201-2 | I106: 분양 | J106: 아파트 | K106: 지역난방 | L106: 20 | M106: 6 | N106: 470 | P106: 48379.585 | Q106: 13 | R106: 031-225-6551 | S106: 031-225-6552 | T106: 위탁관리 | U106: 36518 | V106: O | W106: X
A107: 105 | B107: 동부권 | C107: 병점구 | D107: 병점1동 | E107: 병점동 | F107: 남수원 두산 | G107: 경기도 화성시 병점구 병점서로 8 | H107: 병점동 282 | I107: 분양 | J107: 아파트 | K107: 지역난방 | L107: 18 | M107: 14 | N107: 694 | P107: 79498.48 | Q107: 21 | R107: 031-226-6088 | S107: 031-226-6089 | T107: 위탁관리 | U107: 36635 | V107: O | W107: X
A108: 106 | B108: 동부권 | C108: 병점구 | D108: 병점1동 | E108: 병점동 | F108: 병점역한일타운 | G108: 경기도 화성시 병점구 태안로 85 | H108: 병점동 520 | I108: 분양 | J108: 아파트 | K108: 개별난방 | L108: 15 | M108: 6 | N108: 572 | P108: 62048.558 | Q108: 20 | R108: 031-223-4489 | S108: 031-223-4494 | T108: 위탁관리 | U108: 37106 | V108: O | W108: X
A109: 107 | B109: 동부권 | C109: 병점구 | D109: 병점1동 | E109: 병점동 | F109: 병점성호 | G109: 경기도 화성시 병점구 10용사로 221 | H109: 병점동 500-1 | I109: 분양 | J109: 아파트 | K109: 지역난방 | L109: 15 | M109: 5 | N109: 594 | P109: 67419.636 | Q109: 20 | R109: 031-222-6882 | S109: 031-221-6882 | T109: 위탁관리 | U109: 37128 | V109: O | W109: X
A110: 108 | B110: 동부권 | C110: 병점구 | D110: 병점1동 | E110: 병점동 | F110: 우남퍼스트빌3차 | G110: 경기도 화성시 병점구 태안로 50 | H110: 병점동 506 | I110: 분양 | J110: 아파트 | K110: 개별난방 | L110: 18 | M110: 9 | N110: 585 | P110: 70301.192 | Q110: 17 | R110: 031-235-9724 | S110: 031-235-9725 | T110: 위탁관리 | U110: 37131 | V110: O | W110: O
... A118: 116 | B118: 동부권 | C118: 병점구 | D118: 병점2동 | E118: 병점동 | F118: 신창2차비바훼밀리 | G118: 경기도 화성시 병점구 병점2로 102 | H118: 병점동 858 | I118: 분양 | J118: 아파트 | K118: 지역난방 | L118: 22 | M118: 9 | N118: 765 | P118: 128431.02 | Q118: 20 | R118: 031-304-3201 | S118: 031-221-1201 | T118: 위탁관리 | U118: 38288 | V118: O | W118: O
A119: 117 | B119: 동부권 | C119: 병점구 | D119: 병점2동 | E119: 병점동 | F119: 병점역센트럴뷰 | G119: 경기도 화성시 병점구 병점3로 88 | H119: 병점동 821 | I119: 분양 | J119: 아파트 | K119: 지역난방 | L119: 18 | M119: 8 | N119: 498 | P119: 58975.189 | Q119: 17 | R119: 031-225-2158 | S119: 031-225-2159 | T119: 위탁관리 | U119: 38321 | V119: O | W119: X | X119: 2024. 12. 24. 단지명 변경
A120: 118 | B120: 동부권 | C120: 병점구 | D120: 병점2동 | E120: 병점동 | F120: 안화동마을 주공9단지 | G120: 경기도 화성시 병점구 병점3로 117 | H120: 병점동 819 | I120: 분양 | J120: 아파트 | K120: 지역난방 | L120: 18 | M120: 9 | N120: 786 | P120: 91562.84 | Q120: 23 | R120: 031-223-3072 | S120: 031-223-3073 | T120: 위탁관리 | U120: 38370 | V120: O | W120: X
A121: 119 | B121: 동부권 | C121: 병점구 | D121: 병점1동 | E121: 병점동 | F121: 다정마을 병점역 신한에스빌 1단지 | G121: 경기도 화성시 병점구 병점3로 53 | H121: 병점동 866 | I121: 분양 | J121: 아파트 | K121: 지역난방 | L121: 18 | M121: 10 | N121: 469 | P121: 62537.729 | Q121: 16 | R121: 031-222-0697 | S121: 031-222-0698 | T121: 위탁관리 | U121: 38653 | V121: O | W121: X
A122: 120 | B122: 동부권 | C122: 병점구 | D122: 병점1동 | E122: 병점동 | F122: 신한에스빌다정마을2단지 | G122: 경기도 화성시 병점구 병점3로 54 | H122: 병점동 867 | I122: 분양 | J122: 아파트 | K122: 지역난방 | L122: 18 | M122: 3 | N122: 194 | P122: 26211.969 | Q122: 6 | R122: 031-224-2873 | S122: 031-224-2874 | T122: 위탁관리 | U122: 38653 | V122: O | W122: X
...

Sheet 비의무관리단지
A1: 공동주택현황[비의무관리단지] 2026. 10. 1. 기준 (53개 단지)
A2: 연번 | B2: 권역 | C2: 구청 | D2: 행정동 | E2: 법정동 | F2: 단지명 | G2: 도로명 주소 | H2: 지번주소 | I2: 분양 형태 | J2: 단지 분류 | K2: 난방 | L2: 최고 층수 | M2: 동수 | N2: 세대수 | O2: 연면적(㎡) | P2: 승강기 대수 | Q2: 관리사무소 연락처 | R2: 관리방법 | S2: 사용검사일 | T2: 지하주차장유무 | U2: 차수판설치유무 | V2: 비고
A3: 1 | B3: 동부권 | C3: 효행구 | D3: 기배동 | E3: 기안동 | F3: 파인팰리스 | G3: 경기도 화성시 효행구 효행로291번길 21 | H3: 기안동 925 | I3: 분양 | J3: 아파트 | L3: 15 | M3: 1 | N3: 90 | O3: 9922.6426 | P3: 3 | Q3: 031-221-9737 | R3: 자치관리 | S3: 39997 | T3: O | U3: X
A4: 2 | B4: 서부권 | C4: 만세구 | D4: 남양읍 | E4: 남양읍 | F4: 민성주택 | G4: 경기도 화성시 만세구 남양읍 남양시장로 65번길 19 | H4: 남양리 631-1 | I4: 분양 | J4: 연립 | L4: 3 | M4: 1 | N4: 18 | O4: 1050.84 | P4: 0 | R4: 자치관리 | S4: 31547 | T4: X | U4: X
A5: 3 | B5: 서부권 | C5: 만세구 | D5: 남양읍 | E5: 남양읍 | F5: 헤르만하우스 남양 | G5: 경기도 화성세 만세구 남양읍 화성로 1081번길 25 | H5: 남양리 2421 | I5: 분양 | J5: 도시형생활주택 | K5: 개별 | L5: 4 | M5: 11 | N5: 142 | O5: 14928.802 | P5: 19 | R5: 관리인 선임 | S5: 44074 | T5: O | U5: X
A6: 4 | B6: 서부권 | C6: 만세구 | D6: 남양읍 | E6: 남양읍 | F6: 시화 | G6: 경기도 화성시 만세구 남양읍 남양시장로25번길 40 | H6: 남양리 632-2 | I6: 분양 | J6: 아파트 | K6: 개별 | L6: 5 | M6: 1 | N6: 20 | O6: 1815.3 | P6: 0 | S6: 33404 | T6: X | U6: X
A7: 5 | B7: 서부권 | C7: 만세구 | D7: 마도면 | E7: 마도면 | F7: 백상화인빌 | G7: 경기도 화성시 만세구 마도면 두곡서길26번길 5 | H7: 두곡리 590 | I7: 분양 | J7: 아파트 | L7: 14 | M7: 1 | N7: 88 | O7: 9257.42 | P7: 4 | S7: 38701 | T7: X | U7: X
A8: 6 | B8: 서부권 | C8: 효행구 | D8: 매송면 | E8: 매송면 | F8: 삼미아파트 | G8: 경기도 화성시 효행구 매송면 매송고색로422번길 77 | H8: 천천리 92 | I8: 분양 | J8: 아파트 | L8: 5 | M8: 3 | N8: 165 | O8: 10712.445 | P8: 0 | S8: 31514 | T8: X | U8: X
A9: 7 | B9: 동탄권 | C9: 동탄구 | D9: 동탄1동 | E9: 반송동 | F9: 센트럴S타운 | G9: 경기도 화성시 동탄구 메타폴리스로 47-25 | H9: 반송동 93-6 | I9: 분양 | J9: 주상복합 | L9: 11 | M9: 1 | N9: 299 | O9: 28763.53 | P9: 5 | Q9: 031-613-2596 | R9: 위탁관리 | S9: 39689 | T9: O | U9: X | V9: 건축법에 따른 건축허가
A10: 8 | B10: 동탄권 | C10: 동탄구 | D10: 동탄1동 | E10: 반송동 | F10: 서해더블루스페이스 | G10: 경기도 화성시 동탄구 메타폴리스로 47-7 | H10: 반송동 93-8 | I10: 분양 | J10: 주상복합 | K10: 개별 | L10: 9 | M10: 1 | N10: 40 | O10: 23847.668 | P10: 4 | Q10: 031-8015-1337 | R10: 위탁관리 | S10: 39990 | T10: O | U10: X | V10: 건축법에 따른 건축허가
A11: 9 | B11: 동탄권 | C11: 동탄구 | D11: 동탄1동 | E11: 반송동 | F11: 서해더블루럭스 | G11: 경기도 화성시 동탄구 동탄문화센터로 75 | H11: 반송동 106-7 | I11: 분양 | J11: 주상복합 | K11: 지역 | L11: 36 | M11: 1 | N11: 90 | O11: 28260.997 | P11: 4 | Q11: 031-8015-2414 | R11: 위탁관리 | S11: 40332 | T11: O | U11: X | V11: 건축법에 따른 건축허가
A12: 10 | B12: 동탄권 | C12: 동탄구 | D12: 동탄1동 | E12: 반송동 | F12: 서해더블루팍스 | G12: 경기도 화성시 동탄구 노작로 203 | H12: 반송동 90-2 | I12: 분양 | J12: 주상복합 | K12: 지역 | L12: 36 | M12: 1 | N12: 90 | O12: 28671.248 | P12: 4 | Q12: 031-8015-2361 | R12: 위탁관리 | S12: 40332 | T12: O | U12: X | V12: 건축법에 따른 건축허가
A13: 11 | B13: 동탄권 | C13: 동탄구 | D13: 동탄1동 | E13: 반송동 | F13: 동탄 플래티넘 | G13: 경기도 화성시 동탄구 동탄지성로 2 | H13: 반송동 90-9 | I13: 분양 | J13: 주상복합 | K13: 지역 | L13: 40 | M13: 1 | N13: 99 | O13: 34142.1 | P13: 5 | Q13: 031-613-4036 | R13: 위탁관리 | S13: 40371 | T13: O | U13: X | V13: 건축법에 따른 건축허가
A14: 12 | B14: 동탄권 | C14: 동탄구 | D14: 동탄1동 | E14: 반송동 | F14: 동양파라곤2차 | G14: 경기도 화성시 동탄구 메타폴리스로 54 | H14: 반송동 106-1 | I14: 분양 | J14: 주상복합 | K14: 지역 | L14: 38 | M14: 1 | N14: 90 | O14: 29568.82 | P14: 5 | Q14: 031-613-5186 | R14: 위탁관리 | S14: 40417 | T14: O | U14: X | V14: 건축법에 따른 건축허가
A15: 13 | B15: 동탄권 | C15: 동탄구 | D15: 동탄2동 | E15: 반송동 | F15: 동탄벽산블루밍 타운하우스 | G15: 경기도 화성시 동탄구 동탄중앙로 35 | H15: 반송동 201 | I15: 분양 | J15: 아파트 | K15: 지역 | L15: 3 | M15: 16 | N15: 90 | O15: 8454.852 | Q15: 031-8015-3223 | R15: 위탁관리 | S15: 43630 | T15: X | U15: X
A16: 14 | B16: 동부권 | C16: 병점구 | D16: 병점1동 | E16: 병점동 | F16: 삼한주택 | G16: 경기도 화성시 병점구 떡전골로 49 | H16: 병점동 396-3 | I16: 분양 | J16: 연립 | L16: 3 | M16: 2 | N16: 36 | O16: 2328.39 | P16: 0 | R16: 자치관리 | S16: 31737 | T16: X | U16: X
A17: 15 | B17: 서부권 | C17: 효행구 | D17: 봉담읍 | E17: 봉담읍 | F17: 시라맨숀 | G17: 경기도 화성시 효행구 봉담읍 참샘길 26 | H17: 와우리 70-4 | I17: 분양 | J17: 연립 | L17: 3 | M17: 5 | N17: 90 | O17: 7568.16 | P17: 0 | S17: 31017 | T17: X | U17: X
A18: 16 | B18: 서부권 | C18: 효행구 | D18: 봉담읍 | E18: 봉담읍 | F18: 천보주택 | G18: 경기도 화성시 효행구 봉담읍 진등2길 20-24 | H18: 수영리 649-3 | I18: 분양 | J18: 연립 | L18: 4 | M18: 2 | N18: 40 | O18: 2682.72 | P18: 0 | S18: 31559 | T18: X | U18: X
A19: 17 | B19: 서부권 | C19: 효행구 | D19: 봉담읍 | E19: 봉담읍 | F19: 영풍 | G19: 경기도 화성시 효행구 봉담읍 와우로 74-7 | H19: 와우리 24-1 | I19: 분양 | J19: 연립 | L19: 17 | M19: 1 | N19: 132 | O19: 13982.222 | P19: 0 | S19: 35962 | T19: X | U19: X
A20: 18 | B20: 서부권 | C20: 효행구 | D20: 봉담읍 | E20: 봉담읍 | F20: 해오름마을 봉담그대가 2단지 | G20: 경기도 화성시 효행구 봉담읍 참샘길 33 | H20: 와우리 240 | I20: 분양 | J20: 아파트 | L20: 17 | M20: 1 | N20: 70 | O20: 13191.969 | P20: 2 | S20: 39324 | T20: O | U20: X
A21: 19 | B21: 서부권 | C21: 효행구 | D21: 비봉면 | E21: 비봉면 | F21: 스타캐슬 1차 | G21: 경기도 화성시 효행구 비봉면 비봉로 90-3 | H21: 양노리 279-2 | I21: 분양 | J21: 주상복합 | K21: 개별 | L21: 14 | M21: 2 | N21: 56 | O21: 7572.882 | P21: 2 | S21: 43174 | T21: O | U21: X | V21: 건축법에 따른 건축허가
A22: 20 | B22: 서부권 | C22: 효행구 | D22: 비봉면 | E22: 비봉면 | F22: 스타캐슬 2차 | G22: 경기도 화성시 효행구 비봉면 양노로 78-5 | H22: 양노리 281-2 | I22: 분양 | J22: 주상복합 | K22: 개별 | L22: 14 | M22: 2 | N22: 72 | O22: 9129.008 | P22: 2 | S22: 43418 | T22: O | U22: X | V22: 건축법에 따른 건축허가
A23: 21 | B23: 서부권 | C23: 효행구 | D23: 비봉면 | E23: 비봉면 | F23: 비봉 킹덤시티 | G23: 경기도 화성시 효행구 비봉면 양노로 93 | H23: 양노리 264-17 | I23: 분양 | J23: 주상복합 | K23: 개별 | L23: 20 | M23: 1 | N23: 96 | O23: 11066.59 | P23: 2 | S23: 45327 | T23: O | U23: X | V23: 건축법에 따른 건축허가
A24: 22 | B24: 동부권 | C24: 병점구 | D24: 화산동 | E24: 송산동 | F24: 화산국민주택 | G24: 경기도 화성시 병점구 효행로 817-1 | H24: 송산동 97-15 | I24: 분양 | J24: 연립 | L24: 3 | M24: 7 | N24: 198 | O24: 13760.07 | P24: 0 | R24: 자치관리 | S24: 32126 | T24: X | U24: X
A25: 23 | B25: 동부권 | C25: 병점구 | D25: 화산동 | E25: 송산동 | F25: 신현대 | G25: 경기도 화성시 병점구 효행로853번길 23 | H25: 송산동 97-129 | I25: 분양 | J25: 아파트 | L25: 6 | M25: 3 | N25: 264 | O25: 16904.16 | P25: 0 | R25: 자치관리 | S25: 33392 | T25: X | U25: X
A26: 24 | B26: 동부권 | C26: 병점구 | D26: 화산동 | E26: 송산동 | F26: 신현대2차 | G26: 경기도 화성시 병점구 효행로853번길 31-9 | H26: 송산동 97-2 | I26: 분양 | J26: 아파트 | L26: 6 | M26: 6 | N26: 282 | O26: 21730.33 | P26: 0 | R26: 자치관리 | S26: 33785 | T26: X | U26: X
A27: 25 | B27: 동부권 | C27: 병점구 | D27: 화산동 | E27: 송산동 | F27: 효일목화 | G27: 경기도 화성시 병점구 효행로 813-1 | H27: 송산동 98-2 | I27: 분양 | J27: 아파트 | L27: 13 | M27: 1 | N27: 121 | O27: 12622.1 | P27: 2 | R27: 자치관리 | S27: 34647 | T27: O | U27: X
A28: 26 | B28: 동부권 | C28: 병점구 | D28: 화산동 | E28: 송산동 | F28: 한승미메이드2차 | G28: 경기도 화성시 병점구 화산중앙로64번길 6 | H28: 송산동 223 | I28: 분양 | J28: 아파트 | L28: 15 | M28: 3 | N28: 142 | O28: 20398.15 | P28: 5 | R28: 위탁관리 | S28: 39640 | T28: O | U28: X
A29: 27 | B29: 서부권 | C29: 만세구 | D29: 송산면 | E29: 송산면 | F29: 장안빌라 가동 | G29: 경기도 화성시 만세구 송산면 삼일공원로 56 | H29: 사강리 579-3 | I29: 분양 | J29: 연립 | L29: 3 | M29: 1 | N29: 12 | O29: 1019.52 | P29: 0 | S29: 32085 | T29: X | U29: X
A30: 28 | B30: 서부권 | C30: 만세구 | D30: 송산면 | E30: 송산면 | F30: 장안빌라 나동 | G30: 경기도 화성시 만세구 송산면 삼일공원로 50 | H30: 사강리 579-1 | I30: 분양 | J30: 연립 | L30: 3 | M30: 1 | N30: 21 | O30: 1590.12 | P30: 0 | S30: 32085 | T30: X | U30: X
A31: 29 | B31: 서부권 | C31: 만세구 | D31: 송산면 | E31: 송산면 | F31: 렉스타운 | G31: 경기도 화성시 만세구 송산면 송산포도로 102-25 | H31: 사강리 636-3 | I31: 분양 | J31: 아파트 | L31: 14 | M31: 1 | N31: 47 | O31: 6970.5942 | P31: 3 | S31: 41975 | T31: O | U31: X
A32: 30 | B32: 동부권 | C32: 병점구 | D32: 화산동 | E32: 안녕동 | F32: 솔이퍼스트 | G32: 경기도 화성시 병점구 안녕북길 92 | H32: 안녕동 188-249 | I32: 분양 | J32: 도시형생활주택 | L32: 4 | M32: 2 | N32: 35 | O32: 994.74 | P32: 2 | S32: 44484 | T32: X | U32: X
A33: 31 | B33: 동탄권 | C33: 동탄구 | D33: 동탄6동 | E33: 여울동 | F33: 동탄역 남해오네뜨 더테라스 | G33: 경기도 화성시 동탄구 동부대로 952 | H33: 여울동 1018 | I33: 분양 | J33: 아파트 | L33: 4 | M33: 10 | N33: 147 | O33: 23850.109 | P33: 19 | Q33: 031-378-3540 | S33: 43238 | T33: O | U33: X
A34: 32 | B34: 동탄권 | C34: 동탄구 | D34: 동탄6동 | E34: 여울동 | F34: 중흥S클래스 더테라스리버파크3차 | G34: 경기도 화성시 동탄구 동탄기흥로277번길 59 | H34: 여울동 1012 | I34: 분양 | J34: 연립 | L34: 4 | M34: 10 | N34: 104 | O34: 29048.868 | P34: 14 | Q34: 031-8077-4705 | S34: 43675 | T34: O | U34: O
A35: 33 | B35: 동탄권 | C35: 동탄구 | D35: 동탄6동 | E35: 여울동 | F35: 중흥S클래스 더테라스리버파크2차 | G35: 경기도 화성시 동탄구 동탄기흥로353번길 96 | H35: 여울동 993 | I35: 분양 | J35: 연립 | L35: 4 | M35: 10 | N35: 104 | O35: 23798.819 | P35: 14 | Q35: 031-8005-8356 | S35: 43675 | T35: O | U35: X
A36: 34 | B36: 서부권 | C36: 만세구 | D36: 우정읍 | E36: 우정읍 | F36: 삼괴 | G36: 경기도 화성시 만세구 우정읍 조암로 52-5 | H36: 조암리 196 | I36: 분양 | J36: 연립 | L36: 3 | M36: 2 | N36: 39 | O36: 3479.22 | P36: 0 | S36: 31409 | T36: X | U36: X
A37: 35 | B37: 서부권 | C37: 만세구 | D37: 우정읍 | E37: 우정읍 | F37: 우정 | G37: 경기도 화성시 만세구 우정읍 조암서로22번길 7-3 | H37: 조암리 362-1 | I37: 분양 | J37: 연립 | L37: 4 | M37: 1 | N37: 40 | O37: 2347.56 | P37: 0 | S37: 31512 | T37: X | U37: X
A38: 36 | B38: 서부권 | C38: 만세구 | D38: 우정읍 | E38: 우정읍 | F38: 문영 | G38: 경기도 화성시 만세구 우정읍 조암서로13번길 21 | H38: 조암리 365-1 | I38: 분양 | J38: 아파트 | L38: 5 | M38: 1 | N38: 30 | O38: 2079.36 | P38: 0 | S38: 32879 | T38: X | U38: X
A39: 37 | B39: 서부권 | C39: 만세구 | D39: 우정읍 | E39: 우정읍 | F39: 미성고층아파트 101동 | G39: 경기도 화성시 만세구 우정읍 조암로 53 | H39: 조암리 200-4 | I39: 분양 | J39: 아파트 | L39: 10 | M39: 1 | N39: 49 | O39: 4072.74 | P39: 2 | S39: 35047 | T39: O | U39: X
A40: 38 | B40: 서부권 | C40: 만세구 | D40: 우정읍 | E40: 우정읍 | F40: 조암기산아파트 101동 | G40: 경기도 화성시 만세구 우정읍 조암서로13번길 14 | H40: 조암리 363 | I40: 분양 | J40: 아파트 | L40: 17 | M40: 1 | N40: 99 | O40: 9629.28 | P40: 16 | S40: 35203 | T40: O | U40: X
A41: 39 | B41: 서부권 | C41: 만세구 | D41: 우정읍 | E41: 우정읍 | F41: 미성아파트 102동 | G41: 경기도 화성시 만세구 우정읍 조암로 48-3 | H41: 조암리 194-12 | I41: 분양 | J41: 아파트 | L41: 7 | M41: 1 | N41: 34 | O41: 2812.23 | P41: 1 | S41: 36009 | T41: O | U41: X
A42: 40 | B42: 동탄권 | C42: 동탄구 | D42: 동탄8동 | E42: 장지동 | F42: 테라스 더 모스트 | G42: 경기도 화성시 동탄구 동탄대로4가길 5 | H42: 장지동 978 | I42: 분양 | J42: 연립 | L42: 4 | M42: 9 | N42: 140 | O42: 25225.996 | P42: 16 | Q42: 031-372-3319 | S42: 43823 | T42: O | U42: X
A43: 41 | B43: 동부권 | C43: 병점구 | D43: 진안동 | E43: 진안동 | F43: 태안연립주택 | G43: 경기도 화성시 병점구 병점로 23-5 | H43: 진안동 524-9 | I43: 분양 | J43: 연립 | L43: 3 | M43: 3 | N43: 54 | O43: 3473.7 | P43: 0 | R43: 자치관리 | S43: 31392 | T43: X | U43: X
A44: 42 | B44: 동부권 | C44: 병점구 | D44: 진안동 | E44: 진안동 | F44: 병점국민주택 | G44: 경기도 화성시 병점구 병점로 23-6 | H44: 진안동 524-7 | I44: 분양 | J44: 연립 | L44: 3 | M44: 3 | N44: 72 | O44: 14314.86 | P44: 0 | R44: 자치관리 | S44: 31608 | T44: X | U44: X
A45: 43 | B45: 서부권 | C45: 만세구 | D45: 향남읍 | E45: 향남읍 | F45: 동심주택 | G45: 경기도 화성시 만세구 향남읍 도이1길 49 | H45: 평리 49-4 | I45: 분양 | J45: 연립 | L45: 3 | M45: 1 | N45: 21 | O45: 1229.58 | P45: 0 | S45: 30988 | T45: X | U45: X
A46: 44 | B46: 서부권 | C46: 만세구 | D46: 향남읍 | E46: 향남읍 | F46: 대성 | G46: 경기도 화성시 만세구 향남읍 푸른들판로257번길 43 | H46: 장짐리 277-5 | I46: 분양 | J46: 연립 | L46: 4 | M46: 2 | N46: 40 | O46: 3131.52 | P46: 0 | S46: 31668 | T46: X | U46: X
A47: 45 | B47: 서부권 | C47: 만세구 | D47: 향남읍 | E47: 향남읍 | F47: 신양 | G47: 경기도 화성시 만세구 향남읍 푸른들판로257번길 31 | H47: 장짐리 277-7 | I47: 분양 | J47: 아파트 | L47: 5 | M47: 1 | N47: 70 | O47: 1866.8 | P47: 0 | S47: 32832 | T47: X | U47: X
A48: 46 | B48: 서부권 | C48: 만세구 | D48: 향남읍 | E48: 향남읍 | F48: 신양고층 | G48: 경기도 화성시 만세구 향남읍 푸른들판로257번길 25 | H48: 장짐리 277-3 | I48: 분양 | J48: 아파트 | L48: 11 | M48: 1 | N48: 117 | O48: 9991.51 | P48: 5 | S48: 33255 | T48: X | U48: X
A49: 47 | B49: 서부권 | C49: 만세구 | D49: 향남읍 | E49: 향남읍 | F49: 다성본빌 | G49: 경기도 화성시 만세구 향남읍 삼천병마로 297번길 9-7 | H49: 장짐리 243-3 | J49: 도시형생활주택 | L49: 4 | M49: 1 | N49: 63 | O49: 4356.8 | P49: 1 | S49: 44393 | T49: O | U49: X
A50: 48 | B50: 동부권 | C50: 병점구 | D50: 진안동 | E50: 진안동 | F50: 진안동 월드메르디앙 2단지 | G50: 경기도 화성시 병점구 병점4로 37 | H50: 진안동 936 | I50: 분양 | J50: 아파트 | L50: 12 | M50: 2 | N50: =545-436 -> 109 | O50: 16932.34 | P50: 6 | R50: 위탁관리 | S50: 38681 | T50: O | U50: X | V50: 1,2단지 공동관리//150세대 미만
A51: 49 | B51: 동탄권 | C51: 동탄구 | D51: 동탄5동 | E51: 영천동 | F51: 동탄 솔리움 더 테라스 | G51: 경기도 화성시 동탄구 동탄대로24길 102 | H51: 영천동 893 | I51: 분양 | J51: 도시형생활주택 | L51: 4 | M51: 5 | N51: 73 | O51: 13936.455 | P51: 8 | Q51: 031-376-8628 | S51: 45175 | T51: O | U51: X
A52: 50 | B52: 서부권 | C52: 만세구 | D52: 새솔동 | E52: 새솔동 | F52: 메종 드 엘리프 | G52: 경기도 화성시 만세구 수노을중앙로 389 | H52: 새솔동 163 | I52: 분양 | J52: 빌라/도시형 | L52: 3 | M52: 15 | N52: 116 | O52: 24826.051 | P52: 5 | R52: 위탁관리 | S52: 45302 | T52: O | U52: X
A53: 51 | B53: 서부권 | C53: 만세구 | D53: 새솔동 | E53: 새솔동 | F53: 메종 드 엘리프 | G53: 경기도 화성시 만세구 수노을중앙로 337 | H53: 새솔동 164 | I53: 분양 | J53: 빌라/도시형 | L53: 3 | M53: 14 | N53: 88 | O53: 20191.726 | P53: 6 | S53: 45302 | T53: O | U53: X
A54: 52 | B54: 서부권 | C54: 만세구 | D54: 새솔동 | E54: 새솔동 | F54: 송산그린시티 리안비채 테라스하우스 2단지 | G54: 경기도 화성시 만세구 수노을중앙로 421 | H54: 새솔동 162 | I54: 분양 | J54: 빌라/도시형 | K54: 지역난방 | L54: 3 | M54: 10 | N54: 128 | O54: 24170.942 | P54: 3 | Q54: 031-357-3863 | R54: 위탁관리 | S54: 45252 | T54: O | U54: O
A55: 53 | B55: 서부권 | C55: 만세구 | D55: 새솔동 | E55: 새솔동 | F55: 송산그린시티 리안비채 테라스하우스 1단지 | G55: 경기도 화성시 만세구 수노을중앙로 425 | H55: 새솔동 161 | I55: 분양 | J55: 빌라/도시형 | K55: 지역난방 | L55: 3 | M55: 10 | N55: 131 | O55: 24056.933 | P55: 3 | Q55: 031-355-2132 | R55: 위탁관리 | S55: 45252 | T55: O | U55: O
A56: =COUNT(A3:A55) -> 53 | M56: =SUM(M3:M55) -> 195 | N56: =SUM(N3:N55) -> 4903

Sheet 임대주택
A1: 공동주택현황[임대주택] 2026. 10. 1. 기준 (95개 단지)
A2: 연번 | B2: 권역 | C2: 구청 | D2: 행정동 | E2: 법정동 | F2: 단지명 | G2: 도로명 주소 | H2: 지번주소 | I2: 임대 형태 (형태별 세대수) | J2: 단지 분류 | K2: 난방 | L2: 최고 층수 | M2: 동수 | N2: 세대수 | O2: 연면적(㎡) | P2: 승강기 대수 | Q2: 관리사무소 연락처 | R2: 관리사무소 FAX | S2: 사용검사일 | T2: 지하주차장유뮤 | U2: 차수판설치유무
A3: 1 | B3: 동부권 | C3: 병점구 | D3: 진안동 | E3: 기산동 | F3: SK뷰파크3차 | G3: 경기도 화성시 병점구 동탄지성로 319-19 | H3: 기산동 478 | I3: 민간임대(뉴스테이 - 8년) | J3: 아파트 | K3: 지역 | L3: 23 | M3: 13 | N3: 1086 | O3: 164949.31 | P3: 25 | Q3: 031-8077-4963 | R3: 031-8077-4983 | S3: 43487 | T3: O | U3: X
A4: 2 | B4: 서부권 | C4: 만세구 | D4: 남양읍 | E4: 남양읍 | F4: 남양뉴타운 LH10단지 | G4: 경기도 화성시 만세구 남양읍 남양로786번길 15 | H4: 남양리 2218 | I4: 국민임대 | J4: 아파트 | K4: 지역 | L4: 20 | M4: 6 | N4: 1022 | O4: 73478.18 | P4: 17 | Q4: 031-357-7780 | R4: 031-357-7790 | S4: 43714 | T4: O | U4: X
A5: 3 | B5: 서부권 | C5: 만세구 | D5: 남양읍 | E5: 남양읍 | F5: 화성남양LH9단지 | G5: 경기도 화성시 만세구 남양읍 남양중앙로 316 | H5: 남양리 2219 | I5: 행복주택 | J5: 아파트 | K5: 지역 | L5: 22 | M5: 5 | N5: 782 | O5: 59236.59 | P5: 36 | Q5: 031-356-0573 | R5: 031-356-0536 | S5: 42671 | T5: O | U5: X
A6: 4 | B6: 서부권 | C6: 만세구 | D6: 남양읍 | E6: 남양읍 | F6: 화성남양뉴타운 LH6단지 | G6: 화성시 만세구 남양읍 남양로862번길 16 | H6: 남양리 2192 | I6: 행복주택 | J6: 아파트 | K6: 지역 | L6: 20 | M6: 2 | N6: 410 | O6: 24090.84 | P6: 7 | Q6: 031-358-3042 | R6: 031-358-3043 | S6: 43957 | T6: O | U6: X
A7: 5 | B7: 서부권 | C7: 만세구 | D7: 남양읍 | E7: 남양읍 | F7: 화성남양뉴타운LH4단지 | G7: 경기도 화성시 만세구 남양읍 시청로45번길 96 | H7: 남양리 2233 | I7: 국민임대 | J7: 아파트 | K7: 지역 | L7: 25 | M7: 6 | N7: 876 | O7: 66828.52 | P7: 32 | Q7: 031-357-5368 | R7: 031-357-5369 | S7: 42517 | T7: O | U7: X
A8: 6 | B8: 서부권 | C8: 만세구 | D8: 남양읍 | E8: 남양읍 | F8: 남양뉴타운 LH19단지 행복주택 | G8: 경기도 화성시 만세구 남양읍 남양중앙로 420 | H8: 남양리 2207 | I8: 행복주택 | J8: 아파트 | K8: 지역 | L8: 20 | M8: 5 | N8: 880 | O8: 58345.29 | P8: 13 | Q8: 031-355-6216 | R8: 031-355-6215 | S8: 44719 | T8: O | U8: X
A9: 7 | B9: 서부권 | C9: 만세구 | D9: 남양읍 | E9: 남양읍 | F9: 남양뉴타운 LH20단지 | G9: 경기도 화성시 만세구 남양읍 남양중앙로 419 | H9: 남양리 2201 | I9: 영구임대(286) 국민임대(796) 행복주택(696) | J9: 아파트 | K9: 지역 | L9: 20 | M9: 10 | N9: 1778 | O9: 130191.04 | P9: 30 | Q9: 031-357-0910 | R9: 031-357-0918 | S9: 44846 | T9: O | U9: X
A10: 8 | B10: 서부권 | C10: 만세구 | D10: 남양읍 | E10: 남양읍 | F10: 화성남양뉴타운루나포레 | G10: 경기도 화성시 만세구 남양읍 역골동로 152 | H10: 남양리 2221 | I10: 공공임대(10년) | J10: 아파트 | K10: 지역 | L10: 15 | M10: 9 | N10: 486 | O10: 64976.63 | P10: 16 | Q10: 031-357-7831 | R10: 031-357-0278 | S10: 44074 | T10: O | U10: X
A11: 9 | B11: 서부권 | C11: 만세구 | D11: 남양읍 | E11: 남양읍 | F11: 현대자동차사원 | G11: 경기도 화성시 만세구 남양읍 남양로621번길 38 | H11: 남양리 1842 | I11: 민간임대(사원아파트) | J11: 아파트 | K11: 개별 | L11: 11 | M11: 3 | N11: 274 | O11: 26587.43 | P11: 2 | Q11: 031-356-9925 | R11: 031-357-9947 | S11: 36097 | T11: X | U11: X
A12: 10 | B12: 서부권 | C12: 만세구 | D12: 남양읍 | E12: 남양읍 | F12: 현대자동차아파트 2단지 | G12: 경기도 화성시 만세구 남양읍 시청로 102번길 11 | H12: 남양리 1831 | I12: 민간임대(사원아파트) | J12: 아파트 | K12: 지역 | L12: 23 | M12: 7 | N12: 490 | O12: 66292.969 | P12: 8 | Q12: 031-356-4285 | R12: 031-356-0629 | S12: 43131 | T12: X | U12: X
A13: 11 | B13: 동탄권 | C13: 동탄구 | D13: 동탄3동 | E13: 능동 | F13: 능동마을주공7단지제1 | G13: 경기도 화성시 동탄구 동탄원천로 388-10 | H13: 능동 1062 | I13: 국민임대 | J13: 아파트 | K13: 지역 | L13: 23 | M13: 8 | N13: 682 | O13: 57086.299 | P13: 13 | Q13: 031-8003-7043 | R13: 031-8003-7044 | S13: 39419 | T13: O | U13: X
A14: 12 | B14: 동탄권 | C14: 동탄구 | D14: 동탄3동 | E14: 능동 | F14: 능동마을주공7단지제2 | G14: 경기도 화성시 동탄구 동탄지성로 150-12 | H14: 능동 1081 | I14: 국민임대 | J14: 아파트 | K14: 지역 | L14: 22 | M14: 11 | N14: 963 | O14: 80978.068 | P14: 22 | Q14: 031-8003-7053 | R14: 031-8003-7054 | S14: 39419 | T14: O | U14: X
... A55: 53 | B55: 동부권 | C55: 병점구 | D55: 화산동 | E55: 안녕동 | F55: 화성태안LH2단지아파트 | G55: 경기도 화성시 병점구 장조4로 34 | H55: 안녕동 247 | I55: 국민임대 | J55: 아파트 | K55: 지역 | L55: 13 | M55: 7 | N55: 640 | O55: 52089.21 | P55: 12 | Q55: 031-223-4100 | R55: 031-223-4101 | S55: 43115 | T55: O | U55: X
A56: 54 | B56: 서부권 | C56: 만세구 | D56: 양감면 | E56: 양감면 | F56: 수산중공업㈜ 사원임대 | G56: 경기도 화성시 만세구 양감면 정문송산로 259 | H56: 송산리 163-1 | I56: 민간임대(사원아파트) | J56: 아파트 | L56: 6 | M56: 1 | N56: 60 | O56: 2753.4 | P56: 0 | R56: 031-624-4768 | S56: 34178 | T56: X | U56: X
A57: 55 | B57: 동탄권 | C57: 동탄구 | D57: 동탄5동 | E57: 영천동 | F57: 동탄2 LH 4단지 | G57: 경기도 화성시 동탄구 동탄순환대로 24길 101 | H57: 영천동 722 | I57: 영구임대(600) 국민임대(1547) | J57: 아파트 | K57: 지역 | L57: 15 | M57: 16 | N57: 2147 | O57: 159224.76 | P57: 33 | Q57: 031-373-9591 | R57: 031-373-9593 | S57: 44056 | T57: O | U57: X
A58: 56 | B58: 동탄권 | C58: 동탄구 | D58: 동탄5동 | E58: 영천동 | F58: 동탄2 LH1단지 A6블록 | G58: 경기도 화성시 동탄구 동탄대로24가길 27 | H58: 영천동 888 | I58: 영구임대(216) 국민임대(730) | J58: 아파트 | K58: 지역 | L58: 20 | M58: 4 | N58: 946 | O58: 61142.97 | P58: 13 | Q58: 031-376-7439 | R58: 031-376-7430 | S58: 44518 | T58: O | U58: X
A59: 57 | B59: 동탄권 | C59: 동탄구 | D59: 동탄5동 | E59: 영천동 | F59: 화성동탄2 LH2단지 | G59: 경기도 화성시 동탄구 동탄영천로 108-21 | H59: 영천동 864 | I59: 행복주택 | J59: 아파트 | K59: 지역 | L59: 13 | M59: 14 | N59: 1640 | O59: 112117.5 | P59: 34 | Q59: 031-378-6034 | R59: 031-378-6036 | S59: 42319 | T59: O | U59: X
A60: 58 | B60: 동탄권 | C60: 동탄구 | D60: 동탄5동 | E60: 영천동 | F60: 동탄 LH2단지 | G60: 경기도 화성시 동탄구 동탄영천로 108-10 | H60: 영천동 866 | I60: 영구임대(359) 국민임대(1031) | J60: 아파트 | K60: 지역 | L60: 18 | M60: 13 | N60: 1390 | O60: 116412.81 | P60: 28 | Q60: 031-378-2208 | R60: 031-378-2210 | S60: 34431 | T60: O | U60: X
A61: 59 | B61: 동탄권 | C61: 동탄구 | D61: 동탄5동 | E61: 영천동 | F61: 화성동탄상록리슈빌 | G61: 경기도 화성시 동탄구 동탄순환대로29길 57 | H61: 영천동 676 | I61: 공무원임대주택 | J61: 아파트 | K61: 지역 | L61: 23 | M61: 8 | N61: 672 | O61: 90750.18 | P61: 19 | Q61: 031-374-0672 | R61: 031-374-0674 | S61: 34578 | T61: O | U61: O
A62: 60 | B62: 동탄권 | C62: 동탄구 | D62: 동탄5동 | E62: 영천동 | F62: 동탄행복마을푸르지오 | G62: 경기도 화성시 동탄구 동탄순환대로26길 81 | H62: 영천동 718 | I62: 민간임대(뉴스테이 - 8년) | J62: 아파트 | K62: 지역 | L62: 20 | M62: 11 | N62: 1135 | O62: 148777.48 | P62: 30 | Q62: 031-378-6202 | R62: 031-378-6220 | S62: 43143 | T62: O | U62: X
A63: 61 | B63: 동탄권 | C63: 동탄구 | D63: 동탄5동 | E63: 영천동 | F63: 동탄역 플라쎄 더 테라스 | G63: 경기도 화성시 동탄구 동탄순환대로30길 24 | H63: 영천동 895 | I63: 민간임대 | J63: 연립주택 | K63: 지역 | L63: 4 | M63: 11 | N63: 166 | O63: 37876.278 | P63: 21 | Q63: 031-373-7974 | R63: 031-373-7975 | S63: 45632 | T63: O | U63: X
A64: 62 | B64: 서부권 | C64: 만세구 | D64: 우정읍 | E64: 우정읍 | F64: 기아사원1차 | G64: 경기도 화성시 만세구 우정읍 기아자동차로 561-8 | H64: 화산리 617-9 | I64: 민간임대(기숙사) | J64: 아파트 | K64: 개별 | L64: 12 | M64: 4 | N64: 296 | O64: 13138.02 | P64: 4 | Q64: 031-358-2629 | R64: 031-351-2629 | S64: 38083 | T64: X | U64: X
A65: 63 | B65: 서부권 | C65: 만세구 | D65: 우정읍 | E65: 우정읍 | F65: 기아사원2차 | G65: 경기도 화성시 만세구 우정읍 남양만로 867-10 | H65: 화산리 694-7 | I65: 민간임대(기숙사) | J65: 아파트 | K65: 개별 | L65: 10 | M65: 3 | N65: 240 | O65: 53064.06 | P65: 9 | Q65: 031-358-7588 | R65: 031-351-2629 | S65: 43705 | T65: X | U65: X
A66: 64 | B66: 동탄권 | C66: 동탄구 | D66: 동탄6동 | E66: 여울동 | F66: 동탄2 LH26단지 | G66: 경기도 화성시 동탄구 동탄기흥로277번길 12 | H66: 여울동 1017 | I66: 행복주택 | J66: 아파트 | K66: 지역 | L66: 10 | M66: 6 | N66: 608 | O66: 49507.09 | P66: 16 | Q66: 031-378-9962 | R66: 031-378-9963 | S66: 42538 | T66: O | U66: O
A67: 65 | B67: 동탄권 | C67: 동탄구 | D67: 동탄6동 | E67: 여울동 | F67: 힐스테이트 동탄 더 테라스 | G67: 경기도 화성시 동탄구 동부대로 933 | H67: 여울동 1013 | I67: 민간임대 | J67: 빌라/도시형 | K67: 중앙 | L67: 4 | M67: 9 | N67: 125 | O67: 33163.252 | P67: 35 | Q67: 031-376-9335 | S67: 45233 | T67: O | U67: X
A68: 66 | B68: 동탄권 | C68: 동탄구 | D68: 동탄8동 | E68: 장지동 | F68: 동탄2LH행복주택28단지 | G68: 경기도 화성시 동탄구 동탄순환대로2길 13 | H68: 장지동 913 | I68: 행복주택 | J68: 아파트 | K68: 지역 | L68: 20 | M68: 3 | N68: 820 | O68: 48496.92 | P68: 10 | Q68: 031-372-2626 | R68: 031-372-2621 | S68: 43934 | T68: O | U68: X
A69: 67 | B69: 동탄권 | C69: 동탄구 | D69: 동탄8동 | E69: 장지동 | F69: 동탄2 롯데캐슬 | G69: 경기도 화성시 동탄구 동탄대로2길 49 | H69: 장지동 975 | I69: 민간임대(뉴스테이 - 8년) | J69: 아파트 | K69: 지역 | L69: 20 | M69: 9 | N69: 612 | O69: 90167.96 | P69: 21 | Q69: 031-375-7702 | R69: 031-378-7703 | S69: 43252 | T69: O | U69: X
A70: 68 | B70: 동탄권 | C70: 동탄구 | D70: 동탄8동 | E70: 장지동 | F70: 동탄 호수공원 리슈빌 | G70: 경기도 화성시 동탄구 동탄대로3길 34 | H70: 장지동 924 | I70: 민간임대(뉴스테이 - 8년) | J70: 아파트 | K70: 지역 | L70: 29 | M70: 10 | N70: 762 | O70: 114817.53 | P70: 17 | Q70: 031-377-9075 | R70: 031-377-9076 | S70: 44468 | T70: O | U70: X
A71: 69 | B71: 동탄권 | C71: 동탄구 | D71: 동탄8동 | E71: 장지동 | F71: 동탄호수공원아이파크 | G71: 경기도 화성시 동탄구 동탄순환대로8길 14 | H71: 장지동 968 | I71: 민간임대(뉴스테이 - 8년) | J71: 아파트 | K71: 지역 | L71: 29 | M71: 6 | N71: 774 | O71: 110897.61 | P71: 21 | Q71: 031-374-9510 | R71: 031-374-9511 | S71: 43676 | T71: O | U71: X
A72: 70 | B72: 동탄권 | C72: 동탄구 | D72: 동탄8동 | E72: 장지동 | F72: 화성동탄2 NHF 엘크루 | G72: 경기도 화성시 동탄구 동탄대로1길 96 | H72: 장지동 914 | I72: 공공임대(10년) | J72: 아파트 | K72: 지역 | L72: 20 | M72: 10 | N72: 856 | O72: 106434.15 | P72: 21 | Q72: 031-378-8516 | R72: 031-378-8517 | S72: 43623 | T72: O | U72: X
A73: 71 | B73: 동탄권 | C73: 동탄구 | D73: 동탄8동 | E73: 장지동 | F73: 동탄2 풍림아이원 | G73: 경기도 화성시 동탄구 동탄대로1길 20 | H73: 장지동 928 | I73: 공공임대(10년) | J73: 아파트 | K73: 지역 | L73: 20 | M73: 5 | N73: 448 | O73: 56395.88 | P73: 24 | Q73: 031-378-4992 | R73: 031-378-4991 | S73: 43783 | T73: O | U73: O
A74: 72 | B74: 동탄권 | C74: 동탄구 | D74: 동탄8동 | E74: 장지동 | F74: 동탄호수공원자연앤자이 | G74: 경기도 화성시 동탄구 동탄순환대로8길 11 | H74: 장지동 969 | I74: 공공임대(10년) | J74: 아파트 | K74: 지역 | L74: 28 | M74: 8 | N74: 965 | O74: 153422.81 | Q74: 031-378-7783 | R74: 031-378-7784 | S74: 46009 | T74: O | U74: X
A75: 73 | B75: 동부권 | C75: 병점구 | D75: 진안동 | E75: 진안동 | F75: 화성태안주공12단지 | G75: 경기도 화성시 병점구 병점4로 103 | H75: 진안동 910 | I75: 국민임대 | J75: 아파트 | K75: 지역 | L75: 15 | M75: 13 | N75: 1178 | O75: 74922.36 | P75: 25 | Q75: 031-233-1762 | R75: 031-233-1926 | S75: 41970 | T75: O | U75: O
A76: 74 | B76: 동부권 | C76: 병점구 | D76: 진안동 | E76: 진안동 | F76: 화성 진안1 따복하우스 | G76: 경기도 화성시 병점구 효행로 988-14 | H76: 진안동 524-3 | I76: 경기행복주택 | J76: 다세대 (도시형) | K76: 지역 | L76: 5 | M76: 1 | N76: 16 | O76: 658.48 | P76: 1 | S76: 43174 | T76: X | U76: X
A77: 75 | B77: 동부권 | C77: 병점구 | D77: 진안동 | E77: 진안동 | F77: 화성 진안2 따복하우스 | G77: 경기도 화성시 병점구 효행로1040번길 9 | H77: 진안동 882-1 | I77: 경기행복주택 | J77: 다세대 (도시형) | K77: 지역 | L77: 5 | M77: 1 | N77: 15 | O77: 592.69 | S77: 43159 | T77: X | U77: X
A78: 76 | B78: 서부권 | C78: 만세구 | D78: 향남읍 | E78: 향남읍 | F78: LH서봉마을 20단지 | G78: 경기도 화성시 만세구 향남읍 벌말길 24 | H78: 하길리 1522 | I78: 행복주택 | J78: 아파트 | L78: 14 | M78: 1 | N78: 99 | O78: 5510.08 | P78: 2 | Q78: 031-352-1468 | R78: 031-354-1458 | S78: 40134 | T78: O | U78: O
A79: 77 | B79: 서부권 | C79: 만세구 | D79: 향남읍 | E79: 향남읍 | F79: 서봉마을 5단지 | G79: 경기도 화성시 만세구 향남읍 상신하길로 273번길 60 | H79: 하길리 1477 | I79: 국민임대 | J79: 아파트 | K79: 지역 | L79: 25 | M79: 9 | N79: 1242 | O79: 89289.92 | P79: 23 | Q79: 031-354-9755 | R79: 031-354-9547 | S79: 40134 | T79: O | U79: O
A80: 78 | B80: 서부권 | C80: 만세구 | D80: 향남읍 | E80: 향남읍 | F80: 서봉마을센텀벨라19단지 | G80: 경기도 화성시 만세구 향남읍 벌말길 16 | H80: 하길리 1523 | I80: 공공임대(10년) | J80: 아파트 | K80: 지역 | L80: 20 | M80: 6 | N80: 357 | O80: 52661.24 | P80: 10 | Q80: 031-353-6143 | R80: 031-353-6145 | S80: 43934 | T80: O | U80: X
A81: 79 | B81: 서부권 | C81: 만세구 | D81: 향남읍 | E81: 향남읍 | F81: 향남2지구 서봉마을 1단지 | G81: 경기도 화성시 만세구 향남읍 상신하길로 356번길 15 | H81: 하길리 1444 | I81: 국민임대 | J81: 아파트 | K81: 지역 | L81: 20 | M81: 4 | N81: 544 | O81: 41562.68 | P81: 11 | Q81: 031-8059-5673 | R81: 031-8059-5674 | S81: 43705 | T81: O | U81: X
A82: 80 | B82: 서부권 | C82: 만세구 | D82: 향남읍 | E82: 향남읍 | F82: 향남시범 한우물마을 휴먼시아6단지 | G82: 경기도 화성시 만세구 향남읍 행정남로 99-16 | H82: 행정리 465 | I82: 국민임대 | J82: 아파트 | K82: 지역 | L82: 15 | M82: 18 | N82: 1330 | O82: 99916.311 | P82: 34 | Q82: 031-8059-0561 | R82: 031-8059-0558 | S82: 42923 | T82: O | U82: O
A83: 81 | B83: 서부권 | C83: 만세구 | D83: 향남읍 | E83: 향남읍 | F83: 향남한우물5단지 | G83: 경기도 화성시 만세구 향남읍 행정남로 99-15 | H83: 행정리 463 | I83: 국민임대 | J83: 아파트 | K83: 지역 | L83: 15 | M83: 16 | N83: 1150 | O83: 85989.824 | P83: 29 | Q83: 031-8059-5131 | R83: 031-8059-5130 | S83: 45072 | T83: O | U83: X
A84: 82 | B84: 서부권 | C84: 만세구 | D84: 향남읍 | E84: 향남읍 | F84: 화성 향남 서봉마을 2단지 | G84: 경기도 화성시 만세구 향남읍 상신하길로356번길 29-16 | H84: 하길리 1447 | I84: 국민임대 | J84: 아파트 | K84: 지역 | L84: 20 | M84: 5 | N84: 704 | O84: 53163.65 | P84: 12 | Q84: 031-354-7892 | R84: 031-354-4355 | S84: 39756 | T84: O | U84: X
A85: 83 | B85: 서부권 | C85: 만세구 | D85: 향남읍 | E85: 향남읍 | F85: 화성발안 LH1단지 | G85: 경기도 화성시 만세구 향남읍 발안공단로 92-12 | H85: 구문천리 925-2 | I85: 행복주택 | J85: 아파트 | K85: 지역 | L85: 26 | M85: 2 | N85: 608 | O85: 35173.23 | P85: 9 | Q85: 031-8047-4995 | R85: 031-8047-4996 | S85: 43705 | T85: O | U85: X
A86: 84 | B86: 서부권 | C86: 만세구 | D86: 향남읍 | E86: 향남읍 | F86: 화성향남2 언덕마을 18단지 | G86: 경기도 화성시 만세구 향남읍 상신하길로 35 | H86: 상신리 1331 | I86: 국민임대 | J86: 아파트 | K86: 지역 | L86: 25 | M86: 10 | N86: 1742 | O86: 105644.18 | P86: 20 | Q86: 031-8059-5320 | R86: 031-8059-7915 | S86: 42923 | T86: O | U86: X
A87: 85 | B87: 서부권 | C87: 만세구 | D87: 향남읍 | E87: 향남읍 | F87: 화성향남 언덕마을 15단지 | G87: 경기도 화성시 만세구 향남읍 향남로39번길 22 | H87: 상신리 1258 | I87: 행복주택 | J87: 아파트 | K87: 지역 | L87: 20 | M87: 21 | N87: 922 | O87: 63873.23 | P87: 17 | Q87: 031-366-2017 | R87: 031-366-2018 | S87: 45072 | T87: O | U87: X
A88: 86 | B88: 서부권 | C88: 만세구 | D88: 향남읍 | E88: 향남읍 | F88: 향남시범 복사꽃마을휴먼시아 | G88: 경기도 화성시 만세구 향남읍 행정동로 101 | H88: 행정리 470 | I88: 국민임대 | J88: 아파트 | K88: 지역 | L88: 20 | M88: 11 | N88: 941 | O88: 77061.92 | P88: 22 | Q88: 031-354-0219 | R88: 031-354-0239 | S88: 39756 | T88: O | U88: O
A89: 87 | B89: 서부권 | C89: 만세구 | D89: 향남읍 | E89: 향남읍 | F89: 서봉마을 사랑으로 부영6단지 | G89: 경기도 화성시 만세구 향남읍 상신하길로 295 | H89: 하길리 1475 | I89: 공공임대(10년) | J89: 아파트 | K89: 지역 | L89: 29 | M89: 12 | N89: 1005 | O89: 153980.62 | P89: 24 | Q89: 031-8059-7650 | R89: 031-8059-7651 | S89: 43300 | T89: O | U89: X
A90: 88 | B90: 서부권 | C90: 만세구 | D90: 향남읍 | E90: 향남읍 | F90: 향남부영17단지 | G90: 경기도 화성시 만세구 향남읍 상신하길로 65 | H90: 상신리 1330 | I90: 공공임대(10년) | J90: 아파트 | K90: 지역 | L90: 25 | M90: 11 | N90: 942 | O90: 139198.53 | P90: 22 | Q90: 031-354-5939 | R90: 031-354-3184 | S90: 42992 | T90: O | U90: O
... A94: 92 | B94: 서부권 | C94: 만세구 | D94: 향남읍 | E94: 향남읍 | F94: 향남 오색마을 사랑으로 부영9단지 | G94: 경기도 화성시 만세구 향남읍 하길로 69 | H94: 하길리 1507 | I94: 공공임대(10년) | J94: 아파트 | K94: 지역 | L94: 29 | M94: 7 | N94: 684 | O94: 105865.95 | P94: 14 | Q94: 031-8047-6254 | R94: 031-8047-6255 | S94: 41971 | T94: O | U94: X
A95: 93 | B95: 서부권 | C95: 만세구 | D95: 향남읍 | E95: 향남읍 | F95: 성일사원 | G95: 화성시 만세구 향남읍 동오1길 19-20 | H95: 동오리 526-2 | I95: 민간임대(사원아파트) | J95: 연립 | K95: 개별 | L95: 3 | M95: 2 | N95: 36 | O95: 1361.52 | P95: 0 | R95: 0504-401-8110 | S95: 33810 | T95: X | U95: X
A96: 94 | B96: 서부권 | C96: 만세구 | D96: 향남읍 | E96: 향남읍 | F96: 화성향남21단지 | G96: 경기도 화성시 만세구 향남읍 방죽로 22-8 | H96: 하길리 1494 | I96: 행복주택 | J96: 아파트 | K96: 지역 | L96: 20 | M96: 6 | N96: 605 | O96: 42237.45 | P96: 13 | Q96: 031-8047-0077 | R96: 031-8047-0071 | S96: 45792 | T96: O | U96: X
A97: 95 | B97: 서부권 | C97: 만세구 | D97: 향남읍 | E97: 향남읍 | F97: 화성향남22단지 | G97: 경기도 화성시 만세구 향남읍 방죽로 22-7 | H97: 하길리 1495 | I97: 행복주택 | J97: 아파트 | K97: 지역 | L97: 16 | M97: 7 | N97: 445 | O97: 31232.13 | P97: 12 | Q97: 031-353-3533 | R97: 031-353-8533 | S97: 45792 | T97: O | U97: X
A98: =COUNT(A3:A97) -> 95 | M98: =SUM(M3:M97) -> 929 | N98: =SUM(N3:N97) -> 76688
