Workbook

Sheet 집계표
A1: 편 입 용 지 집 계 표
A2: 지목별 | B2: 국 | D2: 사 | F2: 합 계 | H2: 비 고
B3: 필 지 | C3: 면 적 | D3: 필 지 | E3: 면 적 | F3: 필 지 | G3: 면 적
A4: 합 계 | B4: =SUM(B$5:B$16) -> 80 | C4: =SUM(C$5:C$16) -> 23377 | D4: =SUM(D$5:D$16) -> 33 | E4: =SUM(E$5:E$16) -> 4096 | F4: =SUM(F$5:F$16) -> 113 | G4: =SUM(G$5:G$16) -> 27473
A5: 답 | B5: =SUMPRODUCT((용지조서!$Q$3:$Q$116=$B$2)*(용지조서!$F$3:$F$116=$A5)) -> 13 | C5: =SUMPRODUCT((용지조서!$Q$3:$Q$116=$B$2)*(용지조서!$F$3:$F$116=$A5)*(용지조서!$H$3:$H$116)) -> 310 | D5: =SUMPRODUCT((용지조서!$Q$3:$Q$116=$D$2)*(용지조서!$F$3:$F$116=$A5)) -> 14 | E5: =SUMPRODUCT((용지조서!$Q$3:$Q$116=$D$2)*(용지조서!$F$3:$F$116=$A5)*(용지조서!$H$3:$H$116)) -> 2587 | F5: =B5+D5 -> 27 | G5: =C5+E5 -> 2897
A6: 전 | B6: =SUMPRODUCT((용지조서!$Q$3:$Q$116=$B$2)*(용지조서!$F$3:$F$116=$A6)) -> 3 | C6: =SUMPRODUCT((용지조서!$Q$3:$Q$116=$B$2)*(용지조서!$F$3:$F$116=$A6)*(용지조서!$H$3:$H$116)) -> 27 | D6: =SUMPRODUCT((용지조서!$Q$3:$Q$116=$D$2)*(용지조서!$F$3:$F$116=$A6)) -> 7 | E6: =SUMPRODUCT((용지조서!$Q$3:$Q$116=$D$2)*(용지조서!$F$3:$F$116=$A6)*(용지조서!$H$3:$H$116)) -> 712 | F6: =B6+D6 -> 10 | G6: =C6+E6 -> 739
A7: 구 | B7: =SUMPRODUCT((용지조서!$Q$3:$Q$116=$B$2)*(용지조서!$F$3:$F$116=$A7)) -> 0 | C7: =SUMPRODUCT((용지조서!$Q$3:$Q$116=$B$2)*(용지조서!$F$3:$F$116=$A7)*(용지조서!$H$3:$H$116)) -> 0 | D7: =SUMPRODUCT((용지조서!$Q$3:$Q$116=$D$2)*(용지조서!$F$3:$F$116=$A7)) -> 0 | E7: =SUMPRODUCT((용지조서!$Q$3:$Q$116=$D$2)*(용지조서!$F$3:$F$116=$A7)*(용지조서!$H$3:$H$116)) -> 0 | F7: =B7+D7 -> 0 | G7: =C7+E7 -> 0
A8: 도 | B8: =SUMPRODUCT((용지조서!$Q$3:$Q$116=$B$2)*(용지조서!$F$3:$F$116=$A8)) -> 45 | C8: =SUMPRODUCT((용지조서!$Q$3:$Q$116=$B$2)*(용지조서!$F$3:$F$116=$A8)*(용지조서!$H$3:$H$116)) -> 3508 | D8: =SUMPRODUCT((용지조서!$Q$3:$Q$116=$D$2)*(용지조서!$F$3:$F$116=$A8)) -> 6 | E8: =SUMPRODUCT((용지조서!$Q$3:$Q$116=$D$2)*(용지조서!$F$3:$F$116=$A8)*(용지조서!$H$3:$H$116)) -> 564 | F8: =B8+D8 -> 51 | G8: =C8+E8 -> 4072
A9: 대 | B9: =SUMPRODUCT((용지조서!$Q$3:$Q$116=$B$2)*(용지조서!$F$3:$F$116=$A9)) -> 1 | C9: =SUMPRODUCT((용지조서!$Q$3:$Q$116=$B$2)*(용지조서!$F$3:$F$116=$A9)*(용지조서!$H$3:$H$116)) -> 128 | D9: =SUMPRODUCT((용지조서!$Q$3:$Q$116=$D$2)*(용지조서!$F$3:$F$116=$A9)) -> 2 | E9: =SUMPRODUCT((용지조서!$Q$3:$Q$116=$D$2)*(용지조서!$F$3:$F$116=$A9)*(용지조서!$H$3:$H$116)) -> 5 | F9: =B9+D9 -> 3 | G9: =C9+E9 -> 133
A10: 천 | B10: =SUMPRODUCT((용지조서!$Q$3:$Q$116=$B$2)*(용지조서!$F$3:$F$116=$A10)) -> 18 | C10: =SUMPRODUCT((용지조서!$Q$3:$Q$116=$B$2)*(용지조서!$F$3:$F$116=$A10)*(용지조서!$H$3:$H$116)) -> 19404 | D10: =SUMPRODUCT((용지조서!$Q$3:$Q$116=$D$2)*(용지조서!$F$3:$F$116=$A10)) -> 3 | E10: =SUMPRODUCT((용지조서!$Q$3:$Q$116=$D$2)*(용지조서!$F$3:$F$116=$A10)*(용지조서!$H$3:$H$116)) -> 162 | F10: =B10+D10 -> 21 | G10: =C10+E10 -> 19566
A11: 잡 | B11: =SUMPRODUCT((용지조서!$Q$3:$Q$116=$B$2)*(용지조서!$F$3:$F$116=$A11)) -> 0 | C11: =SUMPRODUCT((용지조서!$Q$3:$Q$116=$B$2)*(용지조서!$F$3:$F$116=$A11)*(용지조서!$H$3:$H$116)) -> 0 | D11: =SUMPRODUCT((용지조서!$Q$3:$Q$116=$D$2)*(용지조서!$F$3:$F$116=$A11)) -> 1 | E11: =SUMPRODUCT((용지조서!$Q$3:$Q$116=$D$2)*(용지조서!$F$3:$F$116=$A11)*(용지조서!$H$3:$H$116)) -> 66 | F11: =B11+D11 -> 1 | G11: =C11+E11 -> 66
A12: 임 | B12: =SUMPRODUCT((용지조서!$Q$3:$Q$116=$B$2)*(용지조서!$F$3:$F$116=$A12)) -> 0 | C12: =SUMPRODUCT((용지조서!$Q$3:$Q$116=$B$2)*(용지조서!$F$3:$F$116=$A12)*(용지조서!$H$3:$H$116)) -> 0 | D12: =SUMPRODUCT((용지조서!$Q$3:$Q$116=$D$2)*(용지조서!$F$3:$F$116=$A12)) -> 0 | E12: =SUMPRODUCT((용지조서!$Q$3:$Q$116=$D$2)*(용지조서!$F$3:$F$116=$A12)*(용지조서!$H$3:$H$116)) -> 0 | F12: =B12+D12 -> 0 | G12: =C12+E12 -> 0
A13: 제 | B13: =SUMPRODUCT((용지조서!$Q$3:$Q$116=$B$2)*(용지조서!$F$3:$F$116=$A13)) -> 0 | C13: =SUMPRODUCT((용지조서!$Q$3:$Q$116=$B$2)*(용지조서!$F$3:$F$116=$A13)*(용지조서!$H$3:$H$116)) -> 0 | D13: =SUMPRODUCT((용지조서!$Q$3:$Q$116=$D$2)*(용지조서!$F$3:$F$116=$A13)) -> 0 | E13: =SUMPRODUCT((용지조서!$Q$3:$Q$116=$D$2)*(용지조서!$F$3:$F$116=$A13)*(용지조서!$H$3:$H$116)) -> 0 | F13: =B13+D13 -> 0 | G13: =C13+E13 -> 0
A14: 과 | B14: =SUMPRODUCT((용지조서!$Q$3:$Q$116=$B$2)*(용지조서!$F$3:$F$116=$A14)) -> 0 | C14: =SUMPRODUCT((용지조서!$Q$3:$Q$116=$B$2)*(용지조서!$F$3:$F$116=$A14)*(용지조서!$H$3:$H$116)) -> 0 | D14: =SUMPRODUCT((용지조서!$Q$3:$Q$116=$D$2)*(용지조서!$F$3:$F$116=$A14)) -> 0 | E14: =SUMPRODUCT((용지조서!$Q$3:$Q$116=$D$2)*(용지조서!$F$3:$F$116=$A14)*(용지조서!$H$3:$H$116)) -> 0 | F14: =B14+D14 -> 0 | G14: =C14+E14 -> 0
A15: 목 | B15: =SUMPRODUCT((용지조서!$Q$3:$Q$116=$B$2)*(용지조서!$F$3:$F$116=$A15)) -> 0 | C15: =SUMPRODUCT((용지조서!$Q$3:$Q$116=$B$2)*(용지조서!$F$3:$F$116=$A15)*(용지조서!$H$3:$H$116)) -> 0 | D15: =SUMPRODUCT((용지조서!$Q$3:$Q$116=$D$2)*(용지조서!$F$3:$F$116=$A15)) -> 0 | E15: =SUMPRODUCT((용지조서!$Q$3:$Q$116=$D$2)*(용지조서!$F$3:$F$116=$A15)*(용지조서!$H$3:$H$116)) -> 0 | F15: =B15+D15 -> 0 | G15: =C15+E15 -> 0
A16: 유 | B16: =SUMPRODUCT((용지조서!$Q$3:$Q$116=$B$2)*(용지조서!$F$3:$F$116=$A16)) -> 0 | C16: =SUMPRODUCT((용지조서!$Q$3:$Q$116=$B$2)*(용지조서!$F$3:$F$116=$A16)*(용지조서!$H$3:$H$116)) -> 0 | D16: =SUMPRODUCT((용지조서!$Q$3:$Q$116=$D$2)*(용지조서!$F$3:$F$116=$A16)) -> 0 | E16: =SUMPRODUCT((용지조서!$Q$3:$Q$116=$D$2)*(용지조서!$F$3:$F$116=$A16)*(용지조서!$H$3:$H$116)) -> 0 | F16: =B16+D16 -> 0 | G16: =C16+E16 -> 0
D17: 공시지가 5배 | F17: 공시지가 3배
D18: =용지조서!V117 -> 268526400 | F18: =용지조서!W117 -> 161115840
D19: 공시지가 2.5배 | F19: 공시지가 1.5배
D20: =D18/2 -> 134263200 | F20: =F18/2 -> 80557920

Sheet 용지조서
A1: 번호 | B1: 토지소재지 | E1: 지번 | F1: 지목 | G1: 지적면적 (㎡) | H1: 편입면적 (㎡) | I1: 캐드면적 (㎡) | J1: 소유자 | L1: 관계인 | O1: 비고 | P1: 등기부등본 | Q1: 소유 | R1: 분류 | S1: 면적 이상 | T1: 공시지가 2019.01 | U1: 편입면적 (㎡) | V1: 용지보상비 (공시지가 5배) | W1: 용지보상비 (공시지가 3배)
B2: 군 | C2: 면 | D2: 리 | J2: 주 소 | K2: 성 명 | L2: 주소 | M2: 성 명 | N2: 권리관계
A3: 1 | B3: 무주 | C3: 적상 | D3: 사산 | E3: 1269 | F3: 도 | G3: 377 | H3: 88 | I3: 88.3 | J3: 국토교통부 | K3: 국 | P3: =H3-I3 -> -0.3 | Q3: =IF(K3="국","국","사") -> 국 | R3: =CONCATENATE(D3,Q3) -> 사산국 | S3: =IF(G3>H3,"OK",IF(G3=H3,"O",IF(G3<H3,"X"))) -> OK | T3: 3460 | U3: =H3 -> 88 | V3: =IF(Q3="국",0,T3)*5*U3 -> 0 | W3: =(IF(Q3="국",0,T3)*3*U3) -> 0
A4: =A3+1 -> 2 | B4: 무주 | C4: 적상 | D4: 사산 | E4: 1257-25 | F4: 천 | G4: 102058 | H4: 3754 | I4: 3753.8 | J4: 국토교통부 | K4: 국 | O4: 부분 | P4: =H4-I4 -> 0.2 | Q4: =IF(K4="국","국","사") -> 국 | R4: =CONCATENATE(D4,Q4) -> 사산국 | S4: =IF(G4>H4,"OK",IF(G4=H4,"O",IF(G4<H4,"X"))) -> OK | T4: 4450 | U4: =H4 -> 3754 | V4: =IF(Q4="국",0,T4)*5*U4 -> 0 | W4: =(IF(Q4="국",0,T4)*3*U4) -> 0
A5: =A4+1 -> 3 | B5: 무주 | C5: 적상 | D5: 사산 | E5: 1257-43 | F5: 천 | G5: 917 | H5: 281 | I5: 280.55 | J5: 국토교통부 | K5: 국 | O5: 부분 | P5: =H5-I5 -> 0.45 | Q5: =IF(K5="국","국","사") -> 국 | R5: =CONCATENATE(D5,Q5) -> 사산국 | S5: =IF(G5>H5,"OK",IF(G5=H5,"O",IF(G5<H5,"X"))) -> OK | T5: 4950 | U5: =H5 -> 281 | V5: =IF(Q5="국",0,T5)*5*U5 -> 0 | W5: =(IF(Q5="국",0,T5)*3*U5) -> 0
A6: =A5+1 -> 4 | B6: 무주 | C6: 적상 | D6: 사산 | E6: 404-5 | F6: 도 | G6: 1206 | H6: 69 | I6: 69.33 | J6: 국토교통부 | K6: 국 | P6: =H6-I6 -> -0.33 | Q6: =IF(K6="국","국","사") -> 국 | R6: =CONCATENATE(D6,Q6) -> 사산국 | S6: =IF(G6>H6,"OK",IF(G6=H6,"O",IF(G6<H6,"X"))) -> OK | T6: 4950 | U6: =H6 -> 69 | V6: =IF(Q6="국",0,T6)*5*U6 -> 0 | W6: =(IF(Q6="국",0,T6)*3*U6) -> 0
A7: =A6+1 -> 5 | B7: 무주 | C7: 적상 | D7: 사산 | E7: 404-3 | F7: 도 | G7: 107 | H7: 107 | I7: 109.8 | J7: 국토교통부 | K7: 국 | P7: =H7-I7 -> -2.8 | Q7: =IF(K7="국","국","사") -> 국 | R7: =CONCATENATE(D7,Q7) -> 사산국 | S7: =IF(G7>H7,"OK",IF(G7=H7,"O",IF(G7<H7,"X"))) -> O | T7: 4950 | U7: =H7 -> 107 | V7: =IF(Q7="국",0,T7)*5*U7 -> 0 | W7: =(IF(Q7="국",0,T7)*3*U7) -> 0
A8: =A7+1 -> 6 | B8: 무주 | C8: 적상 | D8: 사산 | E8: 1273-2 | F8: 도 | G8: 147 | H8: 48 | I8: 48.16 | J8: 국토교통부 | K8: 국 | P8: =H8-I8 -> -0.16 | Q8: =IF(K8="국","국","사") -> 국 | R8: =CONCATENATE(D8,Q8) -> 사산국 | S8: =IF(G8>H8,"OK",IF(G8=H8,"O",IF(G8<H8,"X"))) -> OK | T8: 4950 | U8: =H8 -> 48 | V8: =IF(Q8="국",0,T8)*5*U8 -> 0 | W8: =(IF(Q8="국",0,T8)*3*U8) -> 0
A9: =A8+1 -> 7 | B9: 무주 | C9: 적상 | D9: 사산 | E9: 1257-44 | F9: 천 | G9: 600 | H9: 474 | I9: 474.39 | J9: 국토교통부 | K9: 국 | O9: 부분 | P9: =H9-I9 -> -0.39 | Q9: =IF(K9="국","국","사") -> 국 | R9: =CONCATENATE(D9,Q9) -> 사산국 | S9: =IF(G9>H9,"OK",IF(G9=H9,"O",IF(G9<H9,"X"))) -> OK | T9: 4950 | U9: =H9 -> 474 | V9: =IF(Q9="국",0,T9)*5*U9 -> 0 | W9: =(IF(Q9="국",0,T9)*3*U9) -> 0
A10: =A9+1 -> 8 | B10: 무주 | C10: 적상 | D10: 사산 | E10: 457 | F10: 천 | G10: 116 | H10: 116 | I10: 31.52 | J10: 무주군 적상면 사산리 488-1 | K10: 유순남 | P10: =H10-I10 -> 84.48 | Q10: =IF(K10="국","국","사") -> 사 | R10: =CONCATENATE(D10,Q10) -> 사산사 | S10: =IF(G10>H10,"OK",IF(G10=H10,"O",IF(G10<H10,"X"))) -> O | T10: 4950 | U10: =H10 -> 116 | V10: =IF(Q10="국",0,T10)*5*U10 -> 2871000 | W10: =(IF(Q10="국",0,T10)*3*U10) -> 1722600
A11: =A10+1 -> 9 | B11: 무주 | C11: 적상 | D11: 사산 | E11: 456-6 | F11: 답 | G11: 479 | H11: 109 | I11: 111.71 | J11: 무주군 적상면 사산리 488-1 | K11: 유순남 | P11: =H11-I11 -> -2.71 | Q11: =IF(K11="국","국","사") -> 사 | R11: =CONCATENATE(D11,Q11) -> 사산사 | S11: =IF(G11>H11,"OK",IF(G11=H11,"O",IF(G11<H11,"X"))) -> OK | T11: 13000 | U11: =H11 -> 109 | V11: =IF(Q11="국",0,T11)*5*U11 -> 7085000 | W11: =(IF(Q11="국",0,T11)*3*U11) -> 4251000
A12: =A11+1 -> 10 | B12: 무주 | C12: 적상 | D12: 사산 | E12: 456-7 | F12: 답 | G12: 2635 | H12: 142 | I12: 139.7 | J12: 무주군 적상면 사산리 488-1 | K12: 유순남 | P12: =H12-I12 -> 2.3 | Q12: =IF(K12="국","국","사") -> 사 | R12: =CONCATENATE(D12,Q12) -> 사산사 | S12: =IF(G12>H12,"OK",IF(G12=H12,"O",IF(G12<H12,"X"))) -> OK | T12: 15700 | U12: =H12 -> 142 | V12: =IF(Q12="국",0,T12)*5*U12 -> 11147000 | W12: =(IF(Q12="국",0,T12)*3*U12) -> 6688200
A13: =A12+1 -> 11 | B13: 무주 | C13: 적상 | D13: 사산 | E13: 1274 | F13: 도 | G13: 1430 | H13: 571 | I13: 571.43 | J13: 국토교통부 | K13: 국 | O13: 부분 | P13: =H13-I13 -> -0.43 | Q13: =IF(K13="국","국","사") -> 국 | R13: =CONCATENATE(D13,Q13) -> 사산국 | S13: =IF(G13>H13,"OK",IF(G13=H13,"O",IF(G13<H13,"X"))) -> OK | T13: 3460 | U13: =H13 -> 571 | V13: =IF(Q13="국",0,T13)*5*U13 -> 0 | W13: =(IF(Q13="국",0,T13)*3*U13) -> 0
A14: =A13+1 -> 12 | B14: 무주 | C14: 적상 | D14: 사산 | E14: 453-5 | F14: 도 | G14: 297 | H14: 10 | I14: 9.77 | J14: 국토교통부 | K14: 국 | P14: =H14-I14 -> 0.23 | Q14: =IF(K14="국","국","사") -> 국 | R14: =CONCATENATE(D14,Q14) -> 사산국 | S14: =IF(G14>H14,"OK",IF(G14=H14,"O",IF(G14<H14,"X"))) -> OK | T14: 3460 | U14: =H14 -> 10 | V14: =IF(Q14="국",0,T14)*5*U14 -> 0 | W14: =(IF(Q14="국",0,T14)*3*U14) -> 0
A15: =A14+1 -> 13 | B15: 무주 | C15: 적상 | D15: 사산 | E15: 456-3 | F15: 도 | G15: 284 | H15: 19 | I15: 19.2 | J15: 전라북도 | K15: 국 | P15: =H15-I15 -> -0.2 | Q15: =IF(K15="국","국","사") -> 국 | R15: =CONCATENATE(D15,Q15) -> 사산국 | S15: =IF(G15>H15,"OK",IF(G15=H15,"O",IF(G15<H15,"X"))) -> OK | T15: 3460 | U15: =H15 -> 19 | V15: =IF(Q15="국",0,T15)*5*U15 -> 0 | W15: =(IF(Q15="국",0,T15)*3*U15) -> 0
A16: =A15+1 -> 14 | B16: 무주 | C16: 적상 | D16: 사산 | E16: 451-5 | F16: 전 | G16: 24 | H16: 2 | I16: 2.37 | J16: 무주군 | K16: 국 | O16: 전체 | P16: =H16-I16 -> -0.37 | Q16: =IF(K16="국","국","사") -> 국 | R16: =CONCATENATE(D16,Q16) -> 사산국 | S16: =IF(G16>H16,"OK",IF(G16=H16,"O",IF(G16<H16,"X"))) -> OK | T16: 12500 | U16: =H16 -> 2 | V16: =IF(Q16="국",0,T16)*5*U16 -> 0 | W16: =(IF(Q16="국",0,T16)*3*U16) -> 0
A17: =A16+1 -> 15 | B17: 무주 | C17: 적상 | D17: 사산 | E17: 1257-1 | F17: 천 | G17: 129 | H17: 23 | I17: 23.22 | J17: 국토교통부 | K17: 국 | O17: 부분 | P17: =H17-I17 -> -0.22 | Q17: =IF(K17="국","국","사") -> 국 | R17: =CONCATENATE(D17,Q17) -> 사산국 | S17: =IF(G17>H17,"OK",IF(G17=H17,"O",IF(G17<H17,"X"))) -> OK | T17: 8580 | U17: =H17 -> 23 | V17: =IF(Q17="국",0,T17)*5*U17 -> 0 | W17: =(IF(Q17="국",0,T17)*3*U17) -> 0
A18: =A17+1 -> 16 | B18: 무주 | C18: 적상 | D18: 사산 | E18: 446-1 | F18: 전 | G18: 222 | H18: 21 | I18: 18.71 | J18: 전라북도 무주군 적상면 마산길 38 | K18: 박순이 | P18: =H18-I18 -> 2.29 | Q18: =IF(K18="국","국","사") -> 사 | R18: =CONCATENATE(D18,Q18) -> 사산사 | S18: =IF(G18>H18,"OK",IF(G18=H18,"O",IF(G18<H18,"X"))) -> OK | T18: 18200 | U18: =H18 -> 21 | V18: =IF(Q18="국",0,T18)*5*U18 -> 1911000 | W18: =(IF(Q18="국",0,T18)*3*U18) -> 1146600
A19: =A18+1 -> 17 | B19: 무주 | C19: 적상 | D19: 사산 | E19: 446-8 | F19: 도 | G19: 99 | H19: 4 | I19: 4.47 | J19: 국토교통부 | K19: 국 | P19: =H19-I19 -> -0.47 | Q19: =IF(K19="국","국","사") -> 국 | R19: =CONCATENATE(D19,Q19) -> 사산국 | S19: =IF(G19>H19,"OK",IF(G19=H19,"O",IF(G19<H19,"X"))) -> OK | T19: 8580 | U19: =H19 -> 4 | V19: =IF(Q19="국",0,T19)*5*U19 -> 0 | W19: =(IF(Q19="국",0,T19)*3*U19) -> 0
A20: =A19+1 -> 18 | B20: 무주 | C20: 적상 | D20: 사산 | E20: 446-11 | F20: 전 | G20: 10 | H20: 10 | I20: 9.48 | J20: 전라북도 무주군 적상면 마산길 38 | K20: 박순이 | P20: =H20-I20 -> 0.52 | Q20: =IF(K20="국","국","사") -> 사 | R20: =CONCATENATE(D20,Q20) -> 사산사 | S20: =IF(G20>H20,"OK",IF(G20=H20,"O",IF(G20<H20,"X"))) -> O | T20: 14900 | U20: =H20 -> 10 | V20: =IF(Q20="국",0,T20)*5*U20 -> 745000 | W20: =(IF(Q20="국",0,T20)*3*U20) -> 447000
A21: =A20+1 -> 19 | B21: 무주 | C21: 적상 | D21: 사산 | E21: 446-2 | F21: 도 | G21: 254 | H21: 6 | I21: 6.13 | J21: 국토해양부 | K21: 국 | P21: =H21-I21 -> -0.13 | Q21: =IF(K21="국","국","사") -> 국 | R21: =CONCATENATE(D21,Q21) -> 사산국 | S21: =IF(G21>H21,"OK",IF(G21=H21,"O",IF(G21<H21,"X"))) -> OK | T21: 8580 | U21: =H21 -> 6 | V21: =IF(Q21="국",0,T21)*5*U21 -> 0 | W21: =(IF(Q21="국",0,T21)*3*U21) -> 0
A22: =A21+1 -> 20 | B22: 무주 | C22: 적상 | D22: 사산 | E22: 446-12 | F22: 도 | G22: 1 | H22: 1 | I22: 0.39 | J22: 국토해양부 | K22: 국 | P22: =H22-I22 -> 0.61 | Q22: =IF(K22="국","국","사") -> 국 | R22: =CONCATENATE(D22,Q22) -> 사산국 | S22: =IF(G22>H22,"OK",IF(G22=H22,"O",IF(G22<H22,"X"))) -> O | T22: 8580 | U22: =H22 -> 1 | V22: =IF(Q22="국",0,T22)*5*U22 -> 0 | W22: =(IF(Q22="국",0,T22)*3*U22) -> 0
A23: =A22+1 -> 21 | B23: 무주 | C23: 적상 | D23: 사산 | E23: 446-13 | F23: 도 | G23: 3 | H23: 3 | I23: 2.12 | J23: 국토교통부 | K23: 국 | P23: =H23-I23 -> 0.88 | Q23: =IF(K23="국","국","사") -> 국 | R23: =CONCATENATE(D23,Q23) -> 사산국 | S23: =IF(G23>H23,"OK",IF(G23=H23,"O",IF(G23<H23,"X"))) -> O | T23: 8580 | U23: =H23 -> 3 | V23: =IF(Q23="국",0,T23)*5*U23 -> 0 | W23: =(IF(Q23="국",0,T23)*3*U23) -> 0
A24: =A23+1 -> 22 | B24: 무주 | C24: 적상 | D24: 사산 | E24: 445-2 | F24: 도 | G24: 15 | H24: 15 | I24: 4.78 | J24: 무주군 무주읍 읍내리 993 | K24: 진영진 | P24: =H24-I24 -> 10.22 | Q24: =IF(K24="국","국","사") -> 사 | R24: =CONCATENATE(D24,Q24) -> 사산사 | S24: =IF(G24>H24,"OK",IF(G24=H24,"O",IF(G24<H24,"X"))) -> O | T24: 4950 | U24: =H24 -> 15 | V24: =IF(Q24="국",0,T24)*5*U24 -> 371250 | W24: =(IF(Q24="국",0,T24)*3*U24) -> 222750
A25: =A24+1 -> 23 | B25: 무주 | C25: 적상 | D25: 사산 | E25: 445-1 | F25: 대 | G25: 3 | H25: 3 | I25: 3.55 | J25: 무주군 무주읍 읍내리 993 | K25: 진영진 | P25: =H25-I25 -> -0.55 | Q25: =IF(K25="국","국","사") -> 사 | R25: =CONCATENATE(D25,Q25) -> 사산사 | S25: =IF(G25>H25,"OK",IF(G25=H25,"O",IF(G25<H25,"X"))) -> O | T25: 24600 | U25: =H25 -> 3 | V25: =IF(Q25="국",0,T25)*5*U25 -> 369000 | W25: =(IF(Q25="국",0,T25)*3*U25) -> 221400
A26: =A25+1 -> 24 | B26: 무주 | C26: 적상 | D26: 사산 | E26: 445-7 | F26: 도 | G26: 5 | H26: 5 | I26: 5.64 | J26: 무주군 무주읍 읍내리 993 | K26: 진영진 | P26: =H26-I26 -> -0.64 | Q26: =IF(K26="국","국","사") -> 사 | R26: =CONCATENATE(D26,Q26) -> 사산사 | S26: =IF(G26>H26,"OK",IF(G26=H26,"O",IF(G26<H26,"X"))) -> O | T26: 4950 | U26: =H26 -> 5 | V26: =IF(Q26="국",0,T26)*5*U26 -> 123750 | W26: =(IF(Q26="국",0,T26)*3*U26) -> 74250
A27: =A26+1 -> 25 | B27: 무주 | C27: 적상 | D27: 사산 | E27: 441-5 | F27: 도 | G27: 31 | H27: 31 | I27: 30.3 | J27: 무주군 | K27: 국 | P27: =H27-I27 -> 0.7 | Q27: =IF(K27="국","국","사") -> 국 | R27: =CONCATENATE(D27,Q27) -> 사산국 | S27: =IF(G27>H27,"OK",IF(G27=H27,"O",IF(G27<H27,"X"))) -> O | T27: 4950 | U27: =H27 -> 31 | V27: =IF(Q27="국",0,T27)*5*U27 -> 0 | W27: =(IF(Q27="국",0,T27)*3*U27) -> 0
A28: =A27+1 -> 26 | B28: 무주 | C28: 적상 | D28: 사산 | E28: 441-1 | F28: 도 | G28: 167 | H28: 167 | I28: 71.99 | J28: 무주군 적상면 사산리 442 | K28: 김수홍 | P28: =H28-I28 -> 95.01 | Q28: =IF(K28="국","국","사") -> 사 | R28: =CONCATENATE(D28,Q28) -> 사산사 | S28: =IF(G28>H28,"OK",IF(G28=H28,"O",IF(G28<H28,"X"))) -> O | T28: 4950 | U28: =H28 -> 167 | V28: =IF(Q28="국",0,T28)*5*U28 -> 4133250 | W28: =(IF(Q28="국",0,T28)*3*U28) -> 2479950
A29: =A28+1 -> 27 | B29: 무주 | C29: 적상 | D29: 사산 | E29: 440-1 | F29: 도 | G29: 152 | H29: 20 | I29: 19.89 | J29: 국토해양부 | K29: 국 | O29: 부분 | P29: =H29-I29 -> 0.11 | Q29: =IF(K29="국","국","사") -> 국 | R29: =CONCATENATE(D29,Q29) -> 사산국 | S29: =IF(G29>H29,"OK",IF(G29=H29,"O",IF(G29<H29,"X"))) -> OK | T29: 4950 | U29: =H29 -> 20 | V29: =IF(Q29="국",0,T29)*5*U29 -> 0 | W29: =(IF(Q29="국",0,T29)*3*U29) -> 0
A30: =A29+1 -> 28 | B30: 무주 | C30: 적상 | D30: 사산 | E30: 1274-1 | F30: 도 | G30: 78 | H30: 14 | I30: 14.44 | J30: 국토교통부 | K30: 국 | O30: 전체 | P30: =H30-I30 -> -0.44 | Q30: =IF(K30="국","국","사") -> 국 | R30: =CONCATENATE(D30,Q30) -> 사산국 | S30: =IF(G30>H30,"OK",IF(G30=H30,"O",IF(G30<H30,"X"))) -> OK | T30: 4950 | U30: =H30 -> 14 | V30: =IF(Q30="국",0,T30)*5*U30 -> 0 | W30: =(IF(Q30="국",0,T30)*3*U30) -> 0
A31: =A30+1 -> 29 | B31: 무주 | C31: 적상 | D31: 사산 | E31: 433-8 | F31: 도 | G31: 495 | H31: 415 | I31: 414.53 | J31: 국토교통부 | K31: 국 | O31: 부분 | P31: =H31-I31 -> 0.47 | Q31: =IF(K31="국","국","사") -> 국 | R31: =CONCATENATE(D31,Q31) -> 사산국 | S31: =IF(G31>H31,"OK",IF(G31=H31,"O",IF(G31<H31,"X"))) -> OK | T31: 4950 | U31: =H31 -> 415 | V31: =IF(Q31="국",0,T31)*5*U31 -> 0 | W31: =(IF(Q31="국",0,T31)*3*U31) -> 0
A32: =A31+1 -> 30 | B32: 무주 | C32: 적상 | D32: 사산 | E32: 1274-6 | F32: 도 | G32: 89 | H32: 89 | I32: 101.55 | J32: 국토교통부 | K32: 국 | P32: =H32-I32 -> -12.55 | Q32: =IF(K32="국","국","사") -> 국 | R32: =CONCATENATE(D32,Q32) -> 사산국 | S32: =IF(G32>H32,"OK",IF(G32=H32,"O",IF(G32<H32,"X"))) -> O | T32: 4950 | U32: =H32 -> 89 | V32: =IF(Q32="국",0,T32)*5*U32 -> 0 | W32: =(IF(Q32="국",0,T32)*3*U32) -> 0
A33: =A32+1 -> 31 | B33: 무주 | C33: 적상 | D33: 사산 | E33: 1274-5 | F33: 도 | G33: 2363 | H33: 742 | I33: 742.47 | J33: 국토교통부 | K33: 국 | P33: =H33-I33 -> -0.47 | Q33: =IF(K33="국","국","사") -> 국 | R33: =CONCATENATE(D33,Q33) -> 사산국 | S33: =IF(G33>H33,"OK",IF(G33=H33,"O",IF(G33<H33,"X"))) -> OK | T33: 9400 | U33: =H33 -> 742 | V33: =IF(Q33="국",0,T33)*5*U33 -> 0 | W33: =(IF(Q33="국",0,T33)*3*U33) -> 0
A34: =A33+1 -> 32 | B34: 무주 | C34: 적상 | D34: 사산 | E34: 509-1 | F34: 대 | G34: 194 | H34: 128 | I34: 128.38 | J34: 무주군 | K34: 국 | P34: =H34-I34 -> -0.38 | Q34: =IF(K34="국","국","사") -> 국 | R34: =CONCATENATE(D34,Q34) -> 사산국 | S34: =IF(G34>H34,"OK",IF(G34=H34,"O",IF(G34<H34,"X"))) -> OK | T34: 24800 | U34: =H34 -> 128 | V34: =IF(Q34="국",0,T34)*5*U34 -> 0 | W34: =(IF(Q34="국",0,T34)*3*U34) -> 0
A35: =A34+1 -> 33 | B35: 무주 | C35: 적상 | D35: 사산 | E35: 1257-2 | F35: 천 | G35: 1573 | H35: 36 | I35: 36.14 | J35: 국토교통부 | K35: 국 | P35: =H35-I35 -> -0.14 | Q35: =IF(K35="국","국","사") -> 국 | R35: =CONCATENATE(D35,Q35) -> 사산국 | S35: =IF(G35>H35,"OK",IF(G35=H35,"O",IF(G35<H35,"X"))) -> OK | T35: 4950 | U35: =H35 -> 36 | V35: =IF(Q35="국",0,T35)*5*U35 -> 0 | W35: =(IF(Q35="국",0,T35)*3*U35) -> 0
A36: =A35+1 -> 34 | B36: 무주 | C36: 적상 | D36: 사산 | E36: 510-3 | F36: 천 | G36: 103 | H36: 26 | I36: 22.55 | J36: 무주군 적상면 사산리 508-1 | K36: 이순필 | P36: =H36-I36 -> 3.45 | Q36: =IF(K36="국","국","사") -> 사 | R36: =CONCATENATE(D36,Q36) -> 사산사 | S36: =IF(G36>H36,"OK",IF(G36=H36,"O",IF(G36<H36,"X"))) -> OK | T36: 3790 | U36: =H36 -> 26 | V36: =IF(Q36="국",0,T36)*5*U36 -> 492700 | W36: =(IF(Q36="국",0,T36)*3*U36) -> 295620
A37: =A36+1 -> 35 | B37: 무주 | C37: 적상 | D37: 사산 | E37: 429 | F37: 답 | G37: 989 | H37: 3 | I37: 3.27 | J37: 부산시 남구 못골번영로 72번나길 35(대연동) | K37: 정기식 | P37: =H37-I37 -> -0.27 | Q37: =IF(K37="국","국","사") -> 사 | R37: =CONCATENATE(D37,Q37) -> 사산사 | S37: =IF(G37>H37,"OK",IF(G37=H37,"O",IF(G37<H37,"X"))) -> OK | T37: 15600 | U37: =H37 -> 3 | V37: =IF(Q37="국",0,T37)*5*U37 -> 234000 | W37: =(IF(Q37="국",0,T37)*3*U37) -> 140400
A38: =A37+1 -> 36 | B38: 무주 | C38: 적상 | D38: 사산 | E38: 429-1 | F38: 답 | G38: 3 | H38: 3 | I38: 2.56 | J38: 부산시 남구 못골번영로 72번나길 35(대연동) | K38: 정기식 | P38: =H38-I38 -> 0.44 | Q38: =IF(K38="국","국","사") -> 사 | R38: =CONCATENATE(D38,Q38) -> 사산사 | S38: =IF(G38>H38,"OK",IF(G38=H38,"O",IF(G38<H38,"X"))) -> O | T38: 13500 | U38: =H38 -> 3 | V38: =IF(Q38="국",0,T38)*5*U38 -> 202500 | W38: =(IF(Q38="국",0,T38)*3*U38) -> 121500
A39: =A38+1 -> 37 | B39: 무주 | C39: 적상 | D39: 사산 | E39: 510-1 | F39: 천 | G39: 101 | H39: 20 | I39: 19.24 | J39: 무주군 적상면 사산리 508-1 | K39: 이순필 | P39: =H39-I39 -> 0.76 | Q39: =IF(K39="국","국","사") -> 사 | R39: =CONCATENATE(D39,Q39) -> 사산사 | S39: =IF(G39>H39,"OK",IF(G39=H39,"O",IF(G39<H39,"X"))) -> OK | T39: 4950 | U39: =H39 -> 20 | V39: =IF(Q39="국",0,T39)*5*U39 -> 495000 | W39: =(IF(Q39="국",0,T39)*3*U39) -> 297000
A40: =A39+1 -> 38 | B40: 무주 | C40: 적상 | D40: 사산 | E40: 510-4 | F40: 천 | G40: 451 | H40: 451 | I40: 450.09 | J40: 무주군 | K40: 국 | P40: =H40-I40 -> 0.91 | Q40: =IF(K40="국","국","사") -> 국 | R40: =CONCATENATE(D40,Q40) -> 사산국 | S40: =IF(G40>H40,"OK",IF(G40=H40,"O",IF(G40<H40,"X"))) -> O | T40: 4450 | U40: =H40 -> 451 | V40: =IF(Q40="국",0,T40)*5*U40 -> 0 | W40: =(IF(Q40="국",0,T40)*3*U40) -> 0
...
