Workbook

Sheet 집계표
A1: 편 입 용 지 집 계 표
A2: 지목별 | B2: 국 | D2: 사 | F2: 합 계 | H2: 비 고
B3: 필 지 | C3: 면 적 | D3: 필 지 | E3: 면 적 | F3: 필 지 | G3: 면 적
A4: 합 계 | B4: =SUM(B$5:B$16) -> 80 | C4: =SUM(C$5:C$16) -> 23377 | D4: =SUM(D$5:D$16) -> 33 | E4: =SUM(E$5:E$16) -> 4096 | F4: =SUM(F$5:F$16) -> 113 | G4: =SUM(G$5:G$16) -> 27473
A5: 답 | B5: =SUMPRODUCT((용지조서!$Q$3:$Q$116=$B$2)*(용지조서!$F$3:$F$116=$A5)) -> 13 | C5: =SUMPRODUCT((용지조서!$Q$3:$Q$116=$B$2)*(용지조서!$F$3:$F$116=$A5)*(용지조서!$H$3:$H$116)) -> 310 | D5: =SUMPRODUCT((용지조서!$Q$3:$Q$116=$D$2)*(용지조서!$F$3:$F$116=$A5)) -> 14 | E5: =SUMPRODUCT((용지조서!$Q$3:$Q$116=$D$2)*(용지조서!$F$3:$F$116=$A5)*(용지조서!$H$3:$H$116)) -> 2587 | F5: =B5+D5 -> 27 | G5: =C5+E5 -> 2897
A6: 전 | B6: =SUMPRODUCT((용지조서!$Q$3:$Q$116=$B$2)*(용지조서!$F$3:$F$116=$A6)) -> 3 | C6: =SUMPRODUCT((용지조서!$Q$3:$Q$116=$B$2)*(용지조서!$F$3:$F$116=$A6)*(용지조서!$H$3:$H$116)) -> 27 | D6: =SUMPRODUCT((용지조서!$Q$3:$Q$116=$D$2)*(용지조서!$F$3:$F$116=$A6)) -> 7 | E6: =SUMPRODUCT((용지조서!$Q$3:$Q$116=$D$2)*(용지조서!$F$3:$F$116=$A6)*(용지조서!$H$3:$H$116)) -> 712 | F6: =B6+D6 -> 10 | G6: =C6+E6 -> 739
A7: 구 | B7: =SUMPRODUCT((용지조서!$Q$3:$Q$116=$B$2)*(용지조서!$F$3:$F$116=$A7)) -> 0 | C7: =SUMPRODUCT((용지조서!$Q$3:$Q$116=$B$2)*(용지조서!$F$3:$F$116=$A7)*(용지조서!$H$3:$H$116)) -> 0 | D7: =SUMPRODUCT((용지조서!$Q$3:$Q$116=$D$2)*(용지조서!$F$3:$F$116=$A7)) -> 0 | E7: =SUMPRODUCT((용지조서!$Q$3:$Q$116=$D$2)*(용지조서!$F$3:$F$116=$A7)*(용지조서!$H$3:$H$116)) -> 0 | F7: =B7+D7 -> 0 | G7: =C7+E7 -> 0
A8: 도 | B8: =SUMPRODUCT((용지조서!$Q$3:$Q$116=$B$2)*(용지조서!$F$3:$F$116=$A8)) -> 45 | C8: =SUMPRODUCT((용지조서!$Q$3:$Q$116=$B$2)*(용지조서!$F$3:$F$116=$A8)*(용지조서!$H$3:$H$116)) -> 3508 | D8: =SUMPRODUCT((용지조서!$Q$3:$Q$116=$D$2)*(용지조서!$F$3:$F$116=$A8)) -> 6 | E8: =SUMPRODUCT((용지조서!$Q$3:$Q$116=$D$2)*(용지조서!$F$3:$F$116=$A8)*(용지조서!$H$3:$H$116)) -> 564 | F8: =B8+D8 -> 51 | G8: =C8+E8 -> 4072
A9: 대 | B9: =SUMPRODUCT((용지조서!$Q$3:$Q$116=$B$2)*(용지조서!$F$3:$F$116=$A9)) -> 1 | C9: =SUMPRODUCT((용지조서!$Q$3:$Q$116=$B$2)*(용지조서!$F$3:$F$116=$A9)*(용지조서!$H$3:$H$116)) -> 128 | D9: =SUMPRODUCT((용지조서!$Q$3:$Q$116=$D$2)*(용지조서!$F$3:$F$116=$A9)) -> 2 | E9: =SUMPRODUCT((용지조서!$Q$3:$Q$116=$D$2)*(용지조서!$F$3:$F$116=$A9)*(용지조서!$H$3:$H$116)) -> 5 | F9: =B9+D9 -> 3 | G9: =C9+E9 -> 133
A10: 천 | B10: =SUMPRODUCT((용지조서!$Q$3:$Q$116=$B$2)*(용지조서!$F$3:$F$116=$A10)) -> 18 | C10: =SUMPRODUCT((용지조서!$Q$3:$Q$116=$B$2)*(용지조서!$F$3:$F$116=$A10)*(용지조서!$H$3:$H$116)) -> 19404 | D10: =SUMPRODUCT((용지조서!$Q$3:$Q$116=$D$2)*(용지조서!$F$3:$F$116=$A10)) -> 3 | E10: =SUMPRODUCT((용지조서!$Q$3:$Q$116=$D$2)*(용지조서!$F$3:$F$116=$A10)*(용지조서!$H$3:$H$116)) -> 162 | F10: =B10+D10 -> 21 | G10: =C10+E10 -> 19566
A11: 잡 | B11: =SUMPRODUCT((용지조서!$Q$3:$Q$116=$B$2)*(용지조서!$F$3:$F$116=$A11)) -> 0 | C11: =SUMPRODUCT((용지조서!$Q$3:$Q$116=$B$2)*(용지조서!$F$3:$F$116=$A11)*(용지조서!$H$3:$H$116)) -> 0 | D11: =SUMPRODUCT((용지조서!$Q$3:$Q$116=$D$2)*(용지조서!$F$3:$F$116=$A11)) -> 1 | E11: =SUMPRODUCT((용지조서!$Q$3:$Q$116=$D$2)*(용지조서!$F$3:$F$116=$A11)*(용지조서!$H$3:$H$116)) -> 66 | F11: =B11+D11 -> 1 | G11: =C11+E11 -> 66
A12: 임 | B12: =SUMPRODUCT((용지조서!$Q$3:$Q$116=$B$2)*(용지조서!$F$3:$F$116=$A12)) -> 0 | C12: =SUMPRODUCT((용지조서!$Q$3:$Q$116=$B$2)*(용지조서!$F$3:$F$116=$A12)*(용지조서!$H$3:$H$116)) -> 0 | D12: =SUMPRODUCT((용지조서!$Q$3:$Q$116=$D$2)*(용지조서!$F$3:$F$116=$A12)) -> 0 | E12: =SUMPRODUCT((용지조서!$Q$3:$Q$116=$D$2)*(용지조서!$F$3:$F$116=$A12)*(용지조서!$H$3:$H$116)) -> 0 | F12: =B12+D12 -> 0 | G12: =C12+E12 -> 0
A13: 제 | B13: =SUMPRODUCT((용지조서!$Q$3:$Q$116=$B$2)*(용지조서!$F$3:$F$116=$A13)) -> 0 | C13: =SUMPRODUCT((용지조서!$Q$3:$Q$116=$B$2)*(용지조서!$F$3:$F$116=$A13)*(용지조서!$H$3:$H$116)) -> 0 | D13: =SUMPRODUCT((용지조서!$Q$3:$Q$116=$D$2)*(용지조서!$F$3:$F$116=$A13)) -> 0 | E13: =SUMPRODUCT((용지조서!$Q$3:$Q$116=$D$2)*(용지조서!$F$3:$F$116=$A13)*(용지조서!$H$3:$H$116)) -> 0 | F13: =B13+D13 -> 0 | G13: =C13+E13 -> 0
A14: 과 | B14: =SUMPRODUCT((용지조서!$Q$3:$Q$116=$B$2)*(용지조서!$F$3:$F$116=$A14)) -> 0 | C14: =SUMPRODUCT((용지조서!$Q$3:$Q$116=$B$2)*(용지조서!$F$3:$F$116=$A14)*(용지조서!$H$3:$H$116)) -> 0 | D14: =SUMPRODUCT((용지조서!$Q$3:$Q$116=$D$2)*(용지조서!$F$3:$F$116=$A14)) -> 0 | E14: =SUMPRODUCT((용지조서!$Q$3:$Q$116=$D$2)*(용지조서!$F$3:$F$116=$A14)*(용지조서!$H$3:$H$116)) -> 0 | F14: =B14+D14 -> 0 | G14: =C14+E14 -> 0
A15: 목 | B15: =SUMPRODUCT((용지조서!$Q$3:$Q$116=$B$2)*(용지조서!$F$3:$F$116=$A15)) -> 0 | C15: =SUMPRODUCT((용지조서!$Q$3:$Q$116=$B$2)*(용지조서!$F$3:$F$116=$A15)*(용지조서!$H$3:$H$116)) -> 0 | D15: =SUMPRODUCT((용지조서!$Q$3:$Q$116=$D$2)*(용지조서!$F$3:$F$116=$A15)) -> 0 | E15: =SUMPRODUCT((용지조서!$Q$3:$Q$116=$D$2)*(용지조서!$F$3:$F$116=$A15)*(용지조서!$H$3:$H$116)) -> 0 | F15: =B15+D15 -> 0 | G15: =C15+E15 -> 0
A16: 유 | B16: =SUMPRODUCT((용지조서!$Q$3:$Q$116=$B$2)*(용지조서!$F$3:$F$116=$A16)) -> 0 | C16: =SUMPRODUCT((용지조서!$Q$3:$Q$116=$B$2)*(용지조서!$F$3:$F$116=$A16)*(용지조서!$H$3:$H$116)) -> 0 | D16: =SUMPRODUCT((용지조서!$Q$3:$Q$116=$D$2)*(용지조서!$F$3:$F$116=$A16)) -> 0 | E16: =SUMPRODUCT((용지조서!$Q$3:$Q$116=$D$2)*(용지조서!$F$3:$F$116=$A16)*(용지조서!$H$3:$H$116)) -> 0 | F16: =B16+D16 -> 0 | G16: =C16+E16 -> 0
D17: 공시지가 5배 | F17: 공시지가 3배
D18: =용지조서!V117 -> 268526400 | F18: =용지조서!W117 -> 161115840
D19: 공시지가 2.5배 | F19: 공시지가 1.5배
D20: =D18/2 -> 134263200 | F20: =F18/2 -> 80557920

Sheet 용지조서
A1: 번호 | B1: 토지소재지 | E1: 지번 | F1: 지목 | G1: 지적면적 (㎡) | H1: 편입면적 (㎡) | I1: 캐드면적 (㎡) | J1: 소유자 | L1: 관계인 | O1: 비고 | P1: 등기부등본 | Q1: 소유 | R1: 분류 | S1: 면적 이상 | T1: 공시지가 2019.01 | U1: 편입면적 (㎡) | V1: 용지보상비 (공시지가 5배) | W1: 용지보상비 (공시지가 3배)
B2: 군 | C2: 면 | D2: 리 | J2: 주 소 | K2: 성 명 | L2: 주소 | M2: 성 명 | N2: 권리관계
A3: 1 | B3: 무주 | C3: 적상 | D3: 사산 | E3: 1269 | F3: 도 | G3: 377 | H3: 88 | I3: 88.3 | J3: 국토교통부 | K3: 국 | P3: =H3-I3 -> -0.3 | Q3: =IF(K3="국","국","사") -> 국 | R3: =CONCATENATE(D3,Q3) -> 사산국 | S3: =IF(G3>H3,"OK",IF(G3=H3,"O",IF(G3<H3,"X"))) -> OK | T3: 3460 | U3: =H3 -> 88 | V3: =IF(Q3="국",0,T3)*5*U3 -> 0 | W3: =(IF(Q3="국",0,T3)*3*U3) -> 0
A4: =A3+1 -> 2 | B4: 무주 | C4: 적상 | D4: 사산 | E4: 1257-25 | F4: 천 | G4: 102058 | H4: 3754 | I4: 3753.8 | J4: 국토교통부 | K4: 국 | O4: 부분 | P4: =H4-I4 -> 0.2 | Q4: =IF(K4="국","국","사") -> 국 | R4: =CONCATENATE(D4,Q4) -> 사산국 | S4: =IF(G4>H4,"OK",IF(G4=H4,"O",IF(G4<H4,"X"))) -> OK | T4: 4450 | U4: =H4 -> 3754 | V4: =IF(Q4="국",0,T4)*5*U4 -> 0 | W4: =(IF(Q4="국",0,T4)*3*U4) -> 0
A5: =A4+1 -> 3 | B5: 무주 | C5: 적상 | D5: 사산 | E5: 1257-43 | F5: 천 | G5: 917 | H5: 281 | I5: 280.55 | J5: 국토교통부 | K5: 국 | O5: 부분 | P5: =H5-I5 -> 0.45 | Q5: =IF(K5="국","국","사") -> 국 | R5: =CONCATENATE(D5,Q5) -> 사산국 | S5: =IF(G5>H5,"OK",IF(G5=H5,"O",IF(G5<H5,"X"))) -> OK | T5: 4950 | U5: =H5 -> 281 | V5: =IF(Q5="국",0,T5)*5*U5 -> 0 | W5: =(IF(Q5="국",0,T5)*3*U5) -> 0
A6: =A5+1 -> 4 | B6: 무주 | C6: 적상 | D6: 사산 | E6: 404-5 | F6: 도 | G6: 1206 | H6: 69 | I6: 69.33 | J6: 국토교통부 | K6: 국 | P6: =H6-I6 -> -0.33 | Q6: =IF(K6="국","국","사") -> 국 | R6: =CONCATENATE(D6,Q6) -> 사산국 | S6: =IF(G6>H6,"OK",IF(G6=H6,"O",IF(G6<H6,"X"))) -> OK | T6: 4950 | U6: =H6 -> 69 | V6: =IF(Q6="국",0,T6)*5*U6 -> 0 | W6: =(IF(Q6="국",0,T6)*3*U6) -> 0
A7: =A6+1 -> 5 | B7: 무주 | C7: 적상 | D7: 사산 | E7: 404-3 | F7: 도 | G7: 107 | H7: 107 | I7: 109.8 | J7: 국토교통부 | K7: 국 | P7: =H7-I7 -> -2.8 | Q7: =IF(K7="국","국","사") -> 국 | R7: =CONCATENATE(D7,Q7) -> 사산국 | S7: =IF(G7>H7,"OK",IF(G7=H7,"O",IF(G7<H7,"X"))) -> O | T7: 4950 | U7: =H7 -> 107 | V7: =IF(Q7="국",0,T7)*5*U7 -> 0 | W7: =(IF(Q7="국",0,T7)*3*U7) -> 0
A8: =A7+1 -> 6 | B8: 무주 | C8: 적상 | D8: 사산 | E8: 1273-2 | F8: 도 | G8: 147 | H8: 48 | I8: 48.16 | J8: 국토교통부 | K8: 국 | P8: =H8-I8 -> -0.16 | Q8: =IF(K8="국","국","사") -> 국 | R8: =CONCATENATE(D8,Q8) -> 사산국 | S8: =IF(G8>H8,"OK",IF(G8=H8,"O",IF(G8<H8,"X"))) -> OK | T8: 4950 | U8: =H8 -> 48 | V8: =IF(Q8="국",0,T8)*5*U8 -> 0 | W8: =(IF(Q8="국",0,T8)*3*U8) -> 0
A9: =A8+1 -> 7 | B9: 무주 | C9: 적상 | D9: 사산 | E9: 1257-44 | F9: 천 | G9: 600 | H9: 474 | I9: 474.39 | J9: 국토교통부 | K9: 국 | O9: 부분 | P9: =H9-I9 -> -0.39 | Q9: =IF(K9="국","국","사") -> 국 | R9: =CONCATENATE(D9,Q9) -> 사산국 | S9: =IF(G9>H9,"OK",IF(G9=H9,"O",IF(G9<H9,"X"))) -> OK | T9: 4950 | U9: =H9 -> 474 | V9: =IF(Q9="국",0,T9)*5*U9 -> 0 | W9: =(IF(Q9="국",0,T9)*3*U9) -> 0
A10: =A9+1 -> 8 | B10: 무주 | C10: 적상 | D10: 사산 | E10: 457 | F10: 천 | G10: 116 | H10: 116 | I10: 31.52 | J10: 무주군 적상면 사산리 488-1 | K10: 유순남 | P10: =H10-I10 -> 84.48 | Q10: =IF(K10="국","국","사") -> 사 | R10: =CONCATENATE(D10,Q10) -> 사산사 | S10: =IF(G10>H10,"OK",IF(G10=H10,"O",IF(G10<H10,"X"))) -> O | T10: 4950 | U10: =H10 -> 116 | V10: =IF(Q10="국",0,T10)*5*U10 -> 2871000 | W10: =(IF(Q10="국",0,T10)*3*U10) -> 1722600
A11: =A10+1 -> 9 | B11: 무주 | C11: 적상 | D11: 사산 | E11: 456-6 | F11: 답 | G11: 479 | H11: 109 | I11: 111.71 | J11: 무주군 적상면 사산리 488-1 | K11: 유순남 | P11: =H11-I11 -> -2.71 | Q11: =IF(K11="국","국","사") -> 사 | R11: =CONCATENATE(D11,Q11) -> 사산사 | S11: =IF(G11>H11,"OK",IF(G11=H11,"O",IF(G11<H11,"X"))) -> OK | T11: 13000 | U11: =H11 -> 109 | V11: =IF(Q11="국",0,T11)*5*U11 -> 7085000 | W11: =(IF(Q11="국",0,T11)*3*U11) -> 4251000
A12: =A11+1 -> 10 | B12: 무주 | C12: 적상 | D12: 사산 | E12: 456-7 | F12: 답 | G12: 2635 | H12: 142 | I12: 139.7 | J12: 무주군 적상면 사산리 488-1 | K12: 유순남 | P12: =H12-I12 -> 2.3 | Q12: =IF(K12="국","국","사") -> 사 | R12: =CONCATENATE(D12,Q12) -> 사산사 | S12: =IF(G12>H12,"OK",IF(G12=H12,"O",IF(G12<H12,"X"))) -> OK | T12: 15700 | U12: =H12 -> 142 | V12: =IF(Q12="국",0,T12)*5*U12 -> 11147000 | W12: =(IF(Q12="국",0,T12)*3*U12) -> 6688200
A13: =A12+1 -> 11 | B13: 무주 | C13: 적상 | D13: 사산 | E13: 1274 | F13: 도 | G13: 1430 | H13: 571 | I13: 571.43 | J13: 국토교통부 | K13: 국 | O13: 부분 | P13: =H13-I13 -> -0.43 | Q13: =IF(K13="국","국","사") -> 국 | R13: =CONCATENATE(D13,Q13) -> 사산국 | S13: =IF(G13>H13,"OK",IF(G13=H13,"O",IF(G13<H13,"X"))) -> OK | T13: 3460 | U13: =H13 -> 571 | V13: =IF(Q13="국",0,T13)*5*U13 -> 0 | W13: =(IF(Q13="국",0,T13)*3*U13) -> 0
A14: =A13+1 -> 12 | B14: 무주 | C14: 적상 | D14: 사산 | E14: 453-5 | F14: 도 | G14: 297 | H14: 10 | I14: 9.77 | J14: 국토교통부 | K14: 국 | P14: =H14-I14 -> 0.23 | Q14: =IF(K14="국","국","사") -> 국 | R14: =CONCATENATE(D14,Q14) -> 사산국 | S14: =IF(G14>H14,"OK",IF(G14=H14,"O",IF(G14<H14,"X"))) -> OK | T14: 3460 | U14: =H14 -> 10 | V14: =IF(Q14="국",0,T14)*5*U14 -> 0 | W14: =(IF(Q14="국",0,T14)*3*U14) -> 0
A15: =A14+1 -> 13 | B15: 무주 | C15: 적상 | D15: 사산 | E15: 456-3 | F15: 도 | G15: 284 | H15: 19 | I15: 19.2 | J15: 전라북도 | K15: 국 | P15: =H15-I15 -> -0.2 | Q15: =IF(K15="국","국","사") -> 국 | R15: =CONCATENATE(D15,Q15) -> 사산국 | S15: =IF(G15>H15,"OK",IF(G15=H15,"O",IF(G15<H15,"X"))) -> OK | T15: 3460 | U15: =H15 -> 19 | V15: =IF(Q15="국",0,T15)*5*U15 -> 0 | W15: =(IF(Q15="국",0,T15)*3*U15) -> 0
A16: =A15+1 -> 14 | B16: 무주 | C16: 적상 | D16: 사산 | E16: 451-5 | F16: 전 | G16: 24 | H16: 2 | I16: 2.37 | J16: 무주군 | K16: 국 | O16: 전체 | P16: =H16-I16 -> -0.37 | Q16: =IF(K16="국","국","사") -> 국 | R16: =CONCATENATE(D16,Q16) -> 사산국 | S16: =IF(G16>H16,"OK",IF(G16=H16,"O",IF(G16<H16,"X"))) -> OK | T16: 12500 | U16: =H16 -> 2 | V16: =IF(Q16="국",0,T16)*5*U16 -> 0 | W16: =(IF(Q16="국",0,T16)*3*U16) -> 0
A17: =A16+1 -> 15 | B17: 무주 | C17: 적상 | D17: 사산 | E17: 1257-1 | F17: 천 | G17: 129 | H17: 23 | I17: 23.22 | J17: 국토교통부 | K17: 국 | O17: 부분 | P17: =H17-I17 -> -0.22 | Q17: =IF(K17="국","국","사") -> 국 | R17: =CONCATENATE(D17,Q17) -> 사산국 | S17: =IF(G17>H17,"OK",IF(G17=H17,"O",IF(G17<H17,"X"))) -> OK | T17: 8580 | U17: =H17 -> 23 | V17: =IF(Q17="국",0,T17)*5*U17 -> 0 | W17: =(IF(Q17="국",0,T17)*3*U17) -> 0
A18: =A17+1 -> 16 | B18: 무주 | C18: 적상 | D18: 사산 | E18: 446-1 | F18: 전 | G18: 222 | H18: 21 | I18: 18.71 | J18: 전라북도 무주군 적상면 마산길 38 | K18: 박순이 | P18: =H18-I18 -> 2.29 | Q18: =IF(K18="국","국","사") -> 사 | R18: =CONCATENATE(D18,Q18) -> 사산사 | S18: =IF(G18>H18,"OK",IF(G18=H18,"O",IF(G18<H18,"X"))) -> OK | T18: 18200 | U18: =H18 -> 21 | V18: =IF(Q18="국",0,T18)*5*U18 -> 1911000 | W18: =(IF(Q18="국",0,T18)*3*U18) -> 1146600
A19: =A18+1 -> 17 | B19: 무주 | C19: 적상 | D19: 사산 | E19: 446-8 | F19: 도 | G19: 99 | H19: 4 | I19: 4.47 | J19: 국토교통부 | K19: 국 | P19: =H19-I19 -> -0.47 | Q19: =IF(K19="국","국","사") -> 국 | R19: =CONCATENATE(D19,Q19) -> 사산국 | S19: =IF(G19>H19,"OK",IF(G19=H19,"O",IF(G19<H19,"X"))) -> OK | T19: 8580 | U19: =H19 -> 4 | V19: =IF(Q19="국",0,T19)*5*U19 -> 0 | W19: =(IF(Q19="국",0,T19)*3*U19) -> 0
A20: =A19+1 -> 18 | B20: 무주 | C20: 적상 | D20: 사산 | E20: 446-11 | F20: 전 | G20: 10 | H20: 10 | I20: 9.48 | J20: 전라북도 무주군 적상면 마산길 38 | K20: 박순이 | P20: =H20-I20 -> 0.52 | Q20: =IF(K20="국","국","사") -> 사 | R20: =CONCATENATE(D20,Q20) -> 사산사 | S20: =IF(G20>H20,"OK",IF(G20=H20,"O",IF(G20<H20,"X"))) -> O | T20: 14900 | U20: =H20 -> 10 | V20: =IF(Q20="국",0,T20)*5*U20 -> 745000 | W20: =(IF(Q20="국",0,T20)*3*U20) -> 447000
A21: =A20+1 -> 19 | B21: 무주 | C21: 적상 | D21: 사산 | E21: 446-2 | F21: 도 | G21: 254 | H21: 6 | I21: 6.13 | J21: 국토해양부 | K21: 국 | P21: =H21-I21 -> -0.13 | Q21: =IF(K21="국","국","사") -> 국 | R21: =CONCATENATE(D21,Q21) -> 사산국 | S21: =IF(G21>H21,"OK",IF(G21=H21,"O",IF(G21<H21,"X"))) -> OK | T21: 8580 | U21: =H21 -> 6 | V21: =IF(Q21="국",0,T21)*5*U21 -> 0 | W21: =(IF(Q21="국",0,T21)*3*U21) -> 0
A22: =A21+1 -> 20 | B22: 무주 | C22: 적상 | D22: 사산 | E22: 446-12 | F22: 도 | G22: 1 | H22: 1 | I22: 0.39 | J22: 국토해양부 | K22: 국 | P22: =H22-I22 -> 0.61 | Q22: =IF(K22="국","국","사") -> 국 | R22: =CONCATENATE(D22,Q22) -> 사산국 | S22: =IF(G22>H22,"OK",IF(G22=H22,"O",IF(G22<H22,"X"))) -> O | T22: 8580 | U22: =H22 -> 1 | V22: =IF(Q22="국",0,T22)*5*U22 -> 0 | W22: =(IF(Q22="국",0,T22)*3*U22) -> 0
A23: =A22+1 -> 21 | B23: 무주 | C23: 적상 | D23: 사산 | E23: 446-13 | F23: 도 | G23: 3 | H23: 3 | I23: 2.12 | J23: 국토교통부 | K23: 국 | P23: =H23-I23 -> 0.88 | Q23: =IF(K23="국","국","사") -> 국 | R23: =CONCATENATE(D23,Q23) -> 사산국 | S23: =IF(G23>H23,"OK",IF(G23=H23,"O",IF(G23<H23,"X"))) -> O | T23: 8580 | U23: =H23 -> 3 | V23: =IF(Q23="국",0,T23)*5*U23 -> 0 | W23: =(IF(Q23="국",0,T23)*3*U23) -> 0
A24: =A23+1 -> 22 | B24: 무주 | C24: 적상 | D24: 사산 | E24: 445-2 | F24: 도 | G24: 15 | H24: 15 | I24: 4.78 | J24: 무주군 무주읍 읍내리 993 | K24: 진영진 | P24: =H24-I24 -> 10.22 | Q24: =IF(K24="국","국","사") -> 사 | R24: =CONCATENATE(D24,Q24) -> 사산사 | S24: =IF(G24>H24,"OK",IF(G24=H24,"O",IF(G24<H24,"X"))) -> O | T24: 4950 | U24: =H24 -> 15 | V24: =IF(Q24="국",0,T24)*5*U24 -> 371250 | W24: =(IF(Q24="국",0,T24)*3*U24) -> 222750
A25: =A24+1 -> 23 | B25: 무주 | C25: 적상 | D25: 사산 | E25: 445-1 | F25: 대 | G25: 3 | H25: 3 | I25: 3.55 | J25: 무주군 무주읍 읍내리 993 | K25: 진영진 | P25: =H25-I25 -> -0.55 | Q25: =IF(K25="국","국","사") -> 사 | R25: =CONCATENATE(D25,Q25) -> 사산사 | S25: =IF(G25>H25,"OK",IF(G25=H25,"O",IF(G25<H25,"X"))) -> O | T25: 24600 | U25: =H25 -> 3 | V25: =IF(Q25="국",0,T25)*5*U25 -> 369000 | W25: =(IF(Q25="국",0,T25)*3*U25) -> 221400
A26: =A25+1 -> 24 | B26: 무주 | C26: 적상 | D26: 사산 | E26: 445-7 | F26: 도 | G26: 5 | H26: 5 | I26: 5.64 | J26: 무주군 무주읍 읍내리 993 | K26: 진영진 | P26: =H26-I26 -> -0.64 | Q26: =IF(K26="국","국","사") -> 사 | R26: =CONCATENATE(D26,Q26) -> 사산사 | S26: =IF(G26>H26,"OK",IF(G26=H26,"O",IF(G26<H26,"X"))) -> O | T26: 4950 | U26: =H26 -> 5 | V26: =IF(Q26="국",0,T26)*5*U26 -> 123750 | W26: =(IF(Q26="국",0,T26)*3*U26) -> 74250
A27: =A26+1 -> 25 | B27: 무주 | C27: 적상 | D27: 사산 | E27: 441-5 | F27: 도 | G27: 31 | H27: 31 | I27: 30.3 | J27: 무주군 | K27: 국 | P27: =H27-I27 -> 0.7 | Q27: =IF(K27="국","국","사") -> 국 | R27: =CONCATENATE(D27,Q27) -> 사산국 | S27: =IF(G27>H27,"OK",IF(G27=H27,"O",IF(G27<H27,"X"))) -> O | T27: 4950 | U27: =H27 -> 31 | V27: =IF(Q27="국",0,T27)*5*U27 -> 0 | W27: =(IF(Q27="국",0,T27)*3*U27) -> 0
A28: =A27+1 -> 26 | B28: 무주 | C28: 적상 | D28: 사산 | E28: 441-1 | F28: 도 | G28: 167 | H28: 167 | I28: 71.99 | J28: 무주군 적상면 사산리 442 | K28: 김수홍 | P28: =H28-I28 -> 95.01 | Q28: =IF(K28="국","국","사") -> 사 | R28: =CONCATENATE(D28,Q28) -> 사산사 | S28: =IF(G28>H28,"OK",IF(G28=H28,"O",IF(G28<H28,"X"))) -> O | T28: 4950 | U28: =H28 -> 167 | V28: =IF(Q28="국",0,T28)*5*U28 -> 4133250 | W28: =(IF(Q28="국",0,T28)*3*U28) -> 2479950
A29: =A28+1 -> 27 | B29: 무주 | C29: 적상 | D29: 사산 | E29: 440-1 | F29: 도 | G29: 152 | H29: 20 | I29: 19.89 | J29: 국토해양부 | K29: 국 | O29: 부분 | P29: =H29-I29 -> 0.11 | Q29: =IF(K29="국","국","사") -> 국 | R29: =CONCATENATE(D29,Q29) -> 사산국 | S29: =IF(G29>H29,"OK",IF(G29=H29,"O",IF(G29<H29,"X"))) -> OK | T29: 4950 | U29: =H29 -> 20 | V29: =IF(Q29="국",0,T29)*5*U29 -> 0 | W29: =(IF(Q29="국",0,T29)*3*U29) -> 0
A30: =A29+1 -> 28 | B30: 무주 | C30: 적상 | D30: 사산 | E30: 1274-1 | F30: 도 | G30: 78 | H30: 14 | I30: 14.44 | J30: 국토교통부 | K30: 국 | O30: 전체 | P30: =H30-I30 -> -0.44 | Q30: =IF(K30="국","국","사") -> 국 | R30: =CONCATENATE(D30,Q30) -> 사산국 | S30: =IF(G30>H30,"OK",IF(G30=H30,"O",IF(G30<H30,"X"))) -> OK | T30: 4950 | U30: =H30 -> 14 | V30: =IF(Q30="국",0,T30)*5*U30 -> 0 | W30: =(IF(Q30="국",0,T30)*3*U30) -> 0
A31: =A30+1 -> 29 | B31: 무주 | C31: 적상 | D31: 사산 | E31: 433-8 | F31: 도 | G31: 495 | H31: 415 | I31: 414.53 | J31: 국토교통부 | K31: 국 | O31: 부분 | P31: =H31-I31 -> 0.47 | Q31: =IF(K31="국","국","사") -> 국 | R31: =CONCATENATE(D31,Q31) -> 사산국 | S31: =IF(G31>H31,"OK",IF(G31=H31,"O",IF(G31<H31,"X"))) -> OK | T31: 4950 | U31: =H31 -> 415 | V31: =IF(Q31="국",0,T31)*5*U31 -> 0 | W31: =(IF(Q31="국",0,T31)*3*U31) -> 0
A32: =A31+1 -> 30 | B32: 무주 | C32: 적상 | D32: 사산 | E32: 1274-6 | F32: 도 | G32: 89 | H32: 89 | I32: 101.55 | J32: 국토교통부 | K32: 국 | P32: =H32-I32 -> -12.55 | Q32: =IF(K32="국","국","사") -> 국 | R32: =CONCATENATE(D32,Q32) -> 사산국 | S32: =IF(G32>H32,"OK",IF(G32=H32,"O",IF(G32<H32,"X"))) -> O | T32: 4950 | U32: =H32 -> 89 | V32: =IF(Q32="국",0,T32)*5*U32 -> 0 | W32: =(IF(Q32="국",0,T32)*3*U32) -> 0
A33: =A32+1 -> 31 | B33: 무주 | C33: 적상 | D33: 사산 | E33: 1274-5 | F33: 도 | G33: 2363 | H33: 742 | I33: 742.47 | J33: 국토교통부 | K33: 국 | P33: =H33-I33 -> -0.47 | Q33: =IF(K33="국","국","사") -> 국 | R33: =CONCATENATE(D33,Q33) -> 사산국 | S33: =IF(G33>H33,"OK",IF(G33=H33,"O",IF(G33<H33,"X"))) -> OK | T33: 9400 | U33: =H33 -> 742 | V33: =IF(Q33="국",0,T33)*5*U33 -> 0 | W33: =(IF(Q33="국",0,T33)*3*U33) -> 0
A34: =A33+1 -> 32 | B34: 무주 | C34: 적상 | D34: 사산 | E34: 509-1 | F34: 대 | G34: 194 | H34: 128 | I34: 128.38 | J34: 무주군 | K34: 국 | P34: =H34-I34 -> -0.38 | Q34: =IF(K34="국","국","사") -> 국 | R34: =CONCATENATE(D34,Q34) -> 사산국 | S34: =IF(G34>H34,"OK",IF(G34=H34,"O",IF(G34<H34,"X"))) -> OK | T34: 24800 | U34: =H34 -> 128 | V34: =IF(Q34="국",0,T34)*5*U34 -> 0 | W34: =(IF(Q34="국",0,T34)*3*U34) -> 0
A35: =A34+1 -> 33 | B35: 무주 | C35: 적상 | D35: 사산 | E35: 1257-2 | F35: 천 | G35: 1573 | H35: 36 | I35: 36.14 | J35: 국토교통부 | K35: 국 | P35: =H35-I35 -> -0.14 | Q35: =IF(K35="국","국","사") -> 국 | R35: =CONCATENATE(D35,Q35) -> 사산국 | S35: =IF(G35>H35,"OK",IF(G35=H35,"O",IF(G35<H35,"X"))) -> OK | T35: 4950 | U35: =H35 -> 36 | V35: =IF(Q35="국",0,T35)*5*U35 -> 0 | W35: =(IF(Q35="국",0,T35)*3*U35) -> 0
A36: =A35+1 -> 34 | B36: 무주 | C36: 적상 | D36: 사산 | E36: 510-3 | F36: 천 | G36: 103 | H36: 26 | I36: 22.55 | J36: 무주군 적상면 사산리 508-1 | K36: 이순필 | P36: =H36-I36 -> 3.45 | Q36: =IF(K36="국","국","사") -> 사 | R36: =CONCATENATE(D36,Q36) -> 사산사 | S36: =IF(G36>H36,"OK",IF(G36=H36,"O",IF(G36<H36,"X"))) -> OK | T36: 3790 | U36: =H36 -> 26 | V36: =IF(Q36="국",0,T36)*5*U36 -> 492700 | W36: =(IF(Q36="국",0,T36)*3*U36) -> 295620
A37: =A36+1 -> 35 | B37: 무주 | C37: 적상 | D37: 사산 | E37: 429 | F37: 답 | G37: 989 | H37: 3 | I37: 3.27 | J37: 부산시 남구 못골번영로 72번나길 35(대연동) | K37: 정기식 | P37: =H37-I37 -> -0.27 | Q37: =IF(K37="국","국","사") -> 사 | R37: =CONCATENATE(D37,Q37) -> 사산사 | S37: =IF(G37>H37,"OK",IF(G37=H37,"O",IF(G37<H37,"X"))) -> OK | T37: 15600 | U37: =H37 -> 3 | V37: =IF(Q37="국",0,T37)*5*U37 -> 234000 | W37: =(IF(Q37="국",0,T37)*3*U37) -> 140400
A38: =A37+1 -> 36 | B38: 무주 | C38: 적상 | D38: 사산 | E38: 429-1 | F38: 답 | G38: 3 | H38: 3 | I38: 2.56 | J38: 부산시 남구 못골번영로 72번나길 35(대연동) | K38: 정기식 | P38: =H38-I38 -> 0.44 | Q38: =IF(K38="국","국","사") -> 사 | R38: =CONCATENATE(D38,Q38) -> 사산사 | S38: =IF(G38>H38,"OK",IF(G38=H38,"O",IF(G38<H38,"X"))) -> O | T38: 13500 | U38: =H38 -> 3 | V38: =IF(Q38="국",0,T38)*5*U38 -> 202500 | W38: =(IF(Q38="국",0,T38)*3*U38) -> 121500
A39: =A38+1 -> 37 | B39: 무주 | C39: 적상 | D39: 사산 | E39: 510-1 | F39: 천 | G39: 101 | H39: 20 | I39: 19.24 | J39: 무주군 적상면 사산리 508-1 | K39: 이순필 | P39: =H39-I39 -> 0.76 | Q39: =IF(K39="국","국","사") -> 사 | R39: =CONCATENATE(D39,Q39) -> 사산사 | S39: =IF(G39>H39,"OK",IF(G39=H39,"O",IF(G39<H39,"X"))) -> OK | T39: 4950 | U39: =H39 -> 20 | V39: =IF(Q39="국",0,T39)*5*U39 -> 495000 | W39: =(IF(Q39="국",0,T39)*3*U39) -> 297000
A40: =A39+1 -> 38 | B40: 무주 | C40: 적상 | D40: 사산 | E40: 510-4 | F40: 천 | G40: 451 | H40: 451 | I40: 450.09 | J40: 무주군 | K40: 국 | P40: =H40-I40 -> 0.91 | Q40: =IF(K40="국","국","사") -> 국 | R40: =CONCATENATE(D40,Q40) -> 사산국 | S40: =IF(G40>H40,"OK",IF(G40=H40,"O",IF(G40<H40,"X"))) -> O | T40: 4450 | U40: =H40 -> 451 | V40: =IF(Q40="국",0,T40)*5*U40 -> 0 | W40: =(IF(Q40="국",0,T40)*3*U40) -> 0
A41: =A40+1 -> 39 | B41: 무주 | C41: 적상 | D41: 사산 | E41: 510-5 | F41: 답 | G41: 3 | H41: 3 | I41: 2.7 | J41: 무주군 | K41: 국 | P41: =H41-I41 -> 0.3 | Q41: =IF(K41="국","국","사") -> 국 | R41: =CONCATENATE(D41,Q41) -> 사산국 | S41: =IF(G41>H41,"OK",IF(G41=H41,"O",IF(G41<H41,"X"))) -> O | T41: 10500 | U41: =H41 -> 3 | V41: =IF(Q41="국",0,T41)*5*U41 -> 0 | W41: =(IF(Q41="국",0,T41)*3*U41) -> 0
A42: =A41+1 -> 40 | B42: 무주 | C42: 적상 | D42: 사산 | E42: 511-1 | F42: 답 | G42: 38 | H42: 38 | I42: 46.95 | J42: 무주군 | K42: 국 | P42: =H42-I42 -> -8.95 | Q42: =IF(K42="국","국","사") -> 국 | R42: =CONCATENATE(D42,Q42) -> 사산국 | S42: =IF(G42>H42,"OK",IF(G42=H42,"O",IF(G42<H42,"X"))) -> O | T42: 10500 | U42: =H42 -> 38 | V42: =IF(Q42="국",0,T42)*5*U42 -> 0 | W42: =(IF(Q42="국",0,T42)*3*U42) -> 0
A43: =A42+1 -> 41 | B43: 무주 | C43: 적상 | D43: 사산 | E43: 1257-3 | F43: 천 | G43: 37979 | H43: 13326 | I43: =13240.49+85.53 -> 13326.02 | J43: 국토교통부 | K43: 국 | O43: 부분 | P43: =H43-I43 -> -0.02 | Q43: =IF(K43="국","국","사") -> 국 | R43: =CONCATENATE(D43,Q43) -> 사산국 | S43: =IF(G43>H43,"OK",IF(G43=H43,"O",IF(G43<H43,"X"))) -> OK | T43: 7590 | U43: =H43 -> 13326 | V43: =IF(Q43="국",0,T43)*5*U43 -> 0 | W43: =(IF(Q43="국",0,T43)*3*U43) -> 0
A44: =A43+1 -> 42 | B44: 무주 | C44: 적상 | D44: 사산 | E44: 1275-1 | F44: 도 | G44: 120 | H44: 120 | I44: 85.17 | J44: 국토교통부 | K44: 국 | P44: =H44-I44 -> 34.83 | Q44: =IF(K44="국","국","사") -> 국 | R44: =CONCATENATE(D44,Q44) -> 사산국 | S44: =IF(G44>H44,"OK",IF(G44=H44,"O",IF(G44<H44,"X"))) -> O | T44: 4450 | U44: =H44 -> 120 | V44: =IF(Q44="국",0,T44)*5*U44 -> 0 | W44: =(IF(Q44="국",0,T44)*3*U44) -> 0
A45: =A44+1 -> 43 | B45: 무주 | C45: 적상 | D45: 사산 | E45: 1275 | F45: 도 | G45: 45 | H45: 4 | I45: 3.56 | J45: 국토교통부 | K45: 국 | P45: =H45-I45 -> 0.44 | Q45: =IF(K45="국","국","사") -> 국 | R45: =CONCATENATE(D45,Q45) -> 사산국 | S45: =IF(G45>H45,"OK",IF(G45=H45,"O",IF(G45<H45,"X"))) -> OK | T45: 4950 | U45: =H45 -> 4 | V45: =IF(Q45="국",0,T45)*5*U45 -> 0 | W45: =(IF(Q45="국",0,T45)*3*U45) -> 0
A46: =A45+1 -> 44 | B46: 무주 | C46: 적상 | D46: 사산 | E46: 515-2 | F46: 답 | G46: 422 | H46: 13 | I46: 14.65 | J46: 경기도 화성시 반월동 132-2 남양빌라 가동 202호 | K46: 박정옥 외1인 | P46: =H46-I46 -> -1.65 | Q46: =IF(K46="국","국","사") -> 사 | R46: =CONCATENATE(D46,Q46) -> 사산사 | S46: =IF(G46>H46,"OK",IF(G46=H46,"O",IF(G46<H46,"X"))) -> OK | T46: 16800 | U46: =H46 -> 13 | V46: =IF(Q46="국",0,T46)*5*U46 -> 1092000 | W46: =(IF(Q46="국",0,T46)*3*U46) -> 655200
A47: =A46+1 -> 45 | B47: 무주 | C47: 적상 | D47: 사산 | E47: 515 | F47: 대 | G47: 660 | H47: 2 | I47: 2.74 | J47: 경기도 화성시 반월동 132-2 남양빌라 가동 202호 | K47: 박정옥 외1인 | P47: =H47-I47 -> -0.74 | Q47: =IF(K47="국","국","사") -> 사 | R47: =CONCATENATE(D47,Q47) -> 사산사 | S47: =IF(G47>H47,"OK",IF(G47=H47,"O",IF(G47<H47,"X"))) -> OK | T47: 20900 | U47: =H47 -> 2 | V47: =IF(Q47="국",0,T47)*5*U47 -> 209000 | W47: =(IF(Q47="국",0,T47)*3*U47) -> 125400
A48: =A47+1 -> 46 | B48: 무주 | C48: 적상 | D48: 사산 | E48: 1259 | F48: 도 | G48: 1438 | H48: 24 | I48: 24 | J48: 국(건설부) | K48: 국 | P48: =H48-I48 -> 0 | Q48: =IF(K48="국","국","사") -> 국 | R48: =CONCATENATE(D48,Q48) -> 사산국 | S48: =IF(G48>H48,"OK",IF(G48=H48,"O",IF(G48<H48,"X"))) -> OK | T48: 8580 | U48: =H48 -> 24 | V48: =IF(Q48="국",0,T48)*5*U48 -> 0 | W48: =(IF(Q48="국",0,T48)*3*U48) -> 0
A49: =A48+1 -> 47 | B49: 무주 | C49: 적상 | D49: 사산 | E49: 1257-6 | F49: 천 | G49: 11381 | H49: 190 | I49: 190.36 | J49: 국토교통부 | K49: 국 | P49: =H49-I49 -> -0.36 | Q49: =IF(K49="국","국","사") -> 국 | R49: =CONCATENATE(D49,Q49) -> 사산국 | S49: =IF(G49>H49,"OK",IF(G49=H49,"O",IF(G49<H49,"X"))) -> OK | T49: 4450 | U49: =H49 -> 190 | V49: =IF(Q49="국",0,T49)*5*U49 -> 0 | W49: =(IF(Q49="국",0,T49)*3*U49) -> 0
A50: =A49+1 -> 48 | B50: 무주 | C50: 적상 | D50: 사산 | E50: 1260 | F50: 도 | G50: 3944 | H50: 109 | I50: 109.77 | J50: 국토교통부 | K50: 국 | O50: 부분 | P50: =H50-I50 -> -0.77 | Q50: =IF(K50="국","국","사") -> 국 | R50: =CONCATENATE(D50,Q50) -> 사산국 | S50: =IF(G50>H50,"OK",IF(G50=H50,"O",IF(G50<H50,"X"))) -> OK | T50: 5610 | U50: =H50 -> 109 | V50: =IF(Q50="국",0,T50)*5*U50 -> 0 | W50: =(IF(Q50="국",0,T50)*3*U50) -> 0
A51: =A50+1 -> 49 | B51: 무주 | C51: 적상 | D51: 사산 | E51: 516-3 | F51: 답 | G51: 71 | H51: 71 | I51: 68.79 | J51: 무주군 적상면 사산리 492 | K51: 박종호 | P51: =H51-I51 -> 2.21 | Q51: =IF(K51="국","국","사") -> 사 | R51: =CONCATENATE(D51,Q51) -> 사산사 | S51: =IF(G51>H51,"OK",IF(G51=H51,"O",IF(G51<H51,"X"))) -> O | T51: 12800 | U51: =H51 -> 71 | V51: =IF(Q51="국",0,T51)*5*U51 -> 4544000 | W51: =(IF(Q51="국",0,T51)*3*U51) -> 2726400
A52: =A51+1 -> 50 | B52: 무주 | C52: 적상 | D52: 사산 | E52: 516-8 | F52: 도 | G52: 8 | H52: 8 | I52: 9.75 | J52: 무주군 | K52: 국 | P52: =H52-I52 -> -1.75 | Q52: =IF(K52="국","국","사") -> 국 | R52: =CONCATENATE(D52,Q52) -> 사산국 | S52: =IF(G52>H52,"OK",IF(G52=H52,"O",IF(G52<H52,"X"))) -> O | T52: 4450 | U52: =H52 -> 8 | V52: =IF(Q52="국",0,T52)*5*U52 -> 0 | W52: =(IF(Q52="국",0,T52)*3*U52) -> 0
A53: =A52+1 -> 51 | B53: 무주 | C53: 적상 | D53: 사산 | E53: 516-6 | F53: 도 | G53: 96 | H53: 96 | I53: 96.63 | J53: 무주군 적상면 사산리 651 | K53: 권진수 | P53: =H53-I53 -> -0.63 | Q53: =IF(K53="국","국","사") -> 사 | R53: =CONCATENATE(D53,Q53) -> 사산사 | S53: =IF(G53>H53,"OK",IF(G53=H53,"O",IF(G53<H53,"X"))) -> O | T53: 4450 | U53: =H53 -> 96 | V53: =IF(Q53="국",0,T53)*5*U53 -> 2136000 | W53: =(IF(Q53="국",0,T53)*3*U53) -> 1281600
A54: =A53+1 -> 52 | B54: 무주 | C54: 적상 | D54: 사산 | E54: 516-7 | F54: 답 | G54: 964 | H54: 29 | I54: 27.23 | J54: 광주광역시 북부 서강로 54번길 55 108동 302호 (운암동, 벽산블루밍메가씨티아파트) | K54: 신홍규 | P54: =H54-I54 -> 1.77 | Q54: =IF(K54="국","국","사") -> 사 | R54: =CONCATENATE(D54,Q54) -> 사산사 | S54: =IF(G54>H54,"OK",IF(G54=H54,"O",IF(G54<H54,"X"))) -> OK | T54: 16000 | U54: =H54 -> 29 | V54: =IF(Q54="국",0,T54)*5*U54 -> 2320000 | W54: =(IF(Q54="국",0,T54)*3*U54) -> 1392000
A55: =A54+1 -> 53 | B55: 무주 | C55: 적상 | D55: 사산 | E55: 433-1 | F55: 도 | G55: 535 | H55: 60 | I55: 59.99 | J55: 국토교통부 | K55: 국 | O55: 부분 | P55: =H55-I55 -> 0.01 | Q55: =IF(K55="국","국","사") -> 국 | R55: =CONCATENATE(D55,Q55) -> 사산국 | S55: =IF(G55>H55,"OK",IF(G55=H55,"O",IF(G55<H55,"X"))) -> OK | T55: 4950 | U55: =H55 -> 60 | V55: =IF(Q55="국",0,T55)*5*U55 -> 0 | W55: =(IF(Q55="국",0,T55)*3*U55) -> 0
A56: =A55+1 -> 54 | B56: 무주 | C56: 적상 | D56: 사산 | E56: 433-9 | F56: 도 | G56: 53 | H56: 53 | I56: 53.5 | J56: 국토교통부 | K56: 국 | P56: =H56-I56 -> -0.5 | Q56: =IF(K56="국","국","사") -> 국 | R56: =CONCATENATE(D56,Q56) -> 사산국 | S56: =IF(G56>H56,"OK",IF(G56=H56,"O",IF(G56<H56,"X"))) -> O | T56: 4950 | U56: =H56 -> 53 | V56: =IF(Q56="국",0,T56)*5*U56 -> 0 | W56: =(IF(Q56="국",0,T56)*3*U56) -> 0
A57: =A56+1 -> 55 | B57: 무주 | C57: 적상 | D57: 사산 | E57: 433-4 | F57: 도 | G57: 139 | H57: 53 | I57: 53.35 | J57: 국토교통부 | K57: 국 | P57: =H57-I57 -> -0.35 | Q57: =IF(K57="국","국","사") -> 국 | R57: =CONCATENATE(D57,Q57) -> 사산국 | S57: =IF(G57>H57,"OK",IF(G57=H57,"O",IF(G57<H57,"X"))) -> OK | T57: 4950 | U57: =H57 -> 53 | V57: =IF(Q57="국",0,T57)*5*U57 -> 0 | W57: =(IF(Q57="국",0,T57)*3*U57) -> 0
A58: =A57+1 -> 56 | B58: 무주 | C58: 적상 | D58: 사산 | E58: 433-11 | F58: 도 | G58: 398 | H58: 57 | I58: 56.6 | J58: 국토교통부 | K58: 국 | P58: =H58-I58 -> 0.4 | Q58: =IF(K58="국","국","사") -> 국 | R58: =CONCATENATE(D58,Q58) -> 사산국 | S58: =IF(G58>H58,"OK",IF(G58=H58,"O",IF(G58<H58,"X"))) -> OK | T58: 4950 | U58: =H58 -> 57 | V58: =IF(Q58="국",0,T58)*5*U58 -> 0 | W58: =(IF(Q58="국",0,T58)*3*U58) -> 0
A59: =A58+1 -> 57 | B59: 무주 | C59: 적상 | D59: 사산 | E59: 433-10 | F59: 도 | G59: 202 | H59: 131 | I59: 130.98 | J59: 국토교통부 | K59: 국 | P59: =H59-I59 -> 0.02 | Q59: =IF(K59="국","국","사") -> 국 | R59: =CONCATENATE(D59,Q59) -> 사산국 | S59: =IF(G59>H59,"OK",IF(G59=H59,"O",IF(G59<H59,"X"))) -> OK | T59: 4950 | U59: =H59 -> 131 | V59: =IF(Q59="국",0,T59)*5*U59 -> 0 | W59: =(IF(Q59="국",0,T59)*3*U59) -> 0
A60: =A59+1 -> 58 | B60: 무주 | C60: 적상 | D60: 사산 | E60: 1274-7 | F60: 도 | G60: 24 | H60: 24 | I60: 31.49 | J60: 국토교통부 | K60: 국 | P60: =H60-I60 -> -7.49 | Q60: =IF(K60="국","국","사") -> 국 | R60: =CONCATENATE(D60,Q60) -> 사산국 | S60: =IF(G60>H60,"OK",IF(G60=H60,"O",IF(G60<H60,"X"))) -> O | T60: 4950 | U60: =H60 -> 24 | V60: =IF(Q60="국",0,T60)*5*U60 -> 0 | W60: =(IF(Q60="국",0,T60)*3*U60) -> 0
A61: =A60+1 -> 59 | B61: 무주 | C61: 적상 | D61: 사산 | E61: 1257-4 | F61: 천 | G61: 1421 | H61: 121 | I61: 120.66 | J61: 기획재정부 | K61: 국 | P61: =H61-I61 -> 0.34 | Q61: =IF(K61="국","국","사") -> 국 | R61: =CONCATENATE(D61,Q61) -> 사산국 | S61: =IF(G61>H61,"OK",IF(G61=H61,"O",IF(G61<H61,"X"))) -> OK | T61: 4450 | U61: =H61 -> 121 | V61: =IF(Q61="국",0,T61)*5*U61 -> 0 | W61: =(IF(Q61="국",0,T61)*3*U61) -> 0
A62: =A61+1 -> 60 | B62: 무주 | C62: 적상 | D62: 사산 | E62: 500-1 | F62: 도 | G62: 66 | H62: 66 | I62: 7.45 | J62: 무주군 적상면 사산리 | K62: 김차업 | P62: =H62-I62 -> 58.55 | Q62: =IF(K62="국","국","사") -> 사 | R62: =CONCATENATE(D62,Q62) -> 사산사 | S62: =IF(G62>H62,"OK",IF(G62=H62,"O",IF(G62<H62,"X"))) -> O | T62: 6270 | U62: =H62 -> 66 | V62: =IF(Q62="국",0,T62)*5*U62 -> 2069100 | W62: =(IF(Q62="국",0,T62)*3*U62) -> 1241460
A63: =A62+1 -> 61 | B63: 무주 | C63: 적상 | D63: 사산 | E63: 500-4 | F63: 전 | G63: 11 | H63: 11 | I63: 8.36 | J63: 무주군 적상면 사산리 124 | K63: 김종덕 | L63: 부산광역시 북구청, 부산광역시 진구청 | M63: 진구청 | N63: 압류 | P63: =H63-I63 -> 2.64 | Q63: =IF(K63="국","국","사") -> 사 | R63: =CONCATENATE(D63,Q63) -> 사산사 | S63: =IF(G63>H63,"OK",IF(G63=H63,"O",IF(G63<H63,"X"))) -> O | T63: 14400 | U63: =H63 -> 11 | V63: =IF(Q63="국",0,T63)*5*U63 -> 792000 | W63: =(IF(Q63="국",0,T63)*3*U63) -> 475200
A64: =A63+1 -> 62 | B64: 무주 | C64: 적상 | D64: 사산 | E64: 500-3 | F64: 도 | G64: 215 | H64: 215 | I64: 15.79 | J64: 무주군 적상면 사산리 | K64: 김차업 | P64: =H64-I64 -> 199.21 | Q64: =IF(K64="국","국","사") -> 사 | R64: =CONCATENATE(D64,Q64) -> 사산사 | S64: =IF(G64>H64,"OK",IF(G64=H64,"O",IF(G64<H64,"X"))) -> O | T64: 6270 | U64: =H64 -> 215 | V64: =IF(Q64="국",0,T64)*5*U64 -> 6740250 | W64: =(IF(Q64="국",0,T64)*3*U64) -> 4044150
A65: =A64+1 -> 63 | B65: 무주 | C65: 적상 | D65: 사산 | E65: 500-5 | F65: 전 | G65: 6 | H65: 6 | I65: 5.06 | J65: 무주군 적상면 사산리 124 | K65: 김종덕 | L65: 부산광역시 북구청, 부산광역시 진구청 | M65: 진구청 | N65: 압류 | P65: =H65-I65 -> 0.94 | Q65: =IF(K65="국","국","사") -> 사 | R65: =CONCATENATE(D65,Q65) -> 사산사 | S65: =IF(G65>H65,"OK",IF(G65=H65,"O",IF(G65<H65,"X"))) -> O | T65: 14400 | U65: =H65 -> 6 | V65: =IF(Q65="국",0,T65)*5*U65 -> 432000 | W65: =(IF(Q65="국",0,T65)*3*U65) -> 259200
A66: =A65+1 -> 64 | B66: 무주 | C66: 적상 | D66: 사산 | E66: 521-2 | F66: 전 | G66: 17 | H66: 17 | I66: 9.32 | J66: 무주군 | K66: 국 | P66: =H66-I66 -> 7.68 | Q66: =IF(K66="국","국","사") -> 국 | R66: =CONCATENATE(D66,Q66) -> 사산국 | S66: =IF(G66>H66,"OK",IF(G66=H66,"O",IF(G66<H66,"X"))) -> O | T66: 12300 | U66: =H66 -> 17 | V66: =IF(Q66="국",0,T66)*5*U66 -> 0 | W66: =(IF(Q66="국",0,T66)*3*U66) -> 0
A67: =A66+1 -> 65 | B67: 무주 | C67: 적상 | D67: 사산 | E67: 521-5 | F67: 전 | G67: 512 | H67: 263 | I67: 261.85 | J67: 전라북도 무주군 적상면 마산길 28-41 | K67: 정춘선 | P67: =H67-I67 -> 1.15 | Q67: =IF(K67="국","국","사") -> 사 | R67: =CONCATENATE(D67,Q67) -> 사산사 | S67: =IF(G67>H67,"OK",IF(G67=H67,"O",IF(G67<H67,"X"))) -> OK | T67: 17400 | U67: =H67 -> 263 | V67: =IF(Q67="국",0,T67)*5*U67 -> 22881000 | W67: =(IF(Q67="국",0,T67)*3*U67) -> 13728600
A68: =A67+1 -> 66 | B68: 무주 | C68: 적상 | D68: 사산 | E68: 521-1 | F68: 전 | G68: 8 | H68: 8 | I68: 18.65 | J68: 무주군 | K68: 국 | P68: =H68-I68 -> -10.65 | Q68: =IF(K68="국","국","사") -> 국 | R68: =CONCATENATE(D68,Q68) -> 사산국 | S68: =IF(G68>H68,"OK",IF(G68=H68,"O",IF(G68<H68,"X"))) -> O | T68: 12000 | U68: =H68 -> 8 | V68: =IF(Q68="국",0,T68)*5*U68 -> 0 | W68: =(IF(Q68="국",0,T68)*3*U68) -> 0
A69: =A68+1 -> 67 | B69: 무주 | C69: 적상 | D69: 사산 | E69: 521-4 | F69: 전 | G69: 159 | H69: 51 | I69: 47.54 | J69: 전라북도 무주군 적상면 치마재로 15 | K69: 박해숙 | L69: 경상남도 거창군 거창읍 수남로 2241 | M69: 거창사과원예농업 협동조합 | N69: 근저당 | P69: =H69-I69 -> 3.46 | Q69: =IF(K69="국","국","사") -> 사 | R69: =CONCATENATE(D69,Q69) -> 사산사 | S69: =IF(G69>H69,"OK",IF(G69=H69,"O",IF(G69<H69,"X"))) -> OK | T69: 25600 | U69: =H69 -> 51 | V69: =IF(Q69="국",0,T69)*5*U69 -> 6528000 | W69: =(IF(Q69="국",0,T69)*3*U69) -> 3916800
A70: =A69+1 -> 68 | B70: 무주 | C70: 적상 | D70: 사산 | E70: 1257-5 | F70: 천 | G70: 50 | H70: 15 | I70: 15.2 | J70: 국토교통부 | K70: 국 | P70: =H70-I70 -> -0.2 | Q70: =IF(K70="국","국","사") -> 국 | R70: =CONCATENATE(D70,Q70) -> 사산국 | S70: =IF(G70>H70,"OK",IF(G70=H70,"O",IF(G70<H70,"X"))) -> OK | T70: 4450 | U70: =H70 -> 15 | V70: =IF(Q70="국",0,T70)*5*U70 -> 0 | W70: =(IF(Q70="국",0,T70)*3*U70) -> 0
A71: =A70+1 -> 69 | B71: 무주 | C71: 적상 | D71: 사산 | E71: 518-6 | F71: 답 | G71: 180 | H71: 19 | I71: 19.09 | J71: 무주군 | K71: 국 | O71: 전체 | P71: =H71-I71 -> -0.09 | Q71: =IF(K71="국","국","사") -> 국 | R71: =CONCATENATE(D71,Q71) -> 사산국 | S71: =IF(G71>H71,"OK",IF(G71=H71,"O",IF(G71<H71,"X"))) -> OK | T71: 4450 | U71: =H71 -> 19 | V71: =IF(Q71="국",0,T71)*5*U71 -> 0 | W71: =(IF(Q71="국",0,T71)*3*U71) -> 0
A72: =A71+1 -> 70 | B72: 무주 | C72: 적상 | D72: 사산 | E72: 286-2 | F72: 답 | G72: 281 | H72: 31 | I72: 29.32 | J72: 서울 관악구 봉천동 900-42 다산빌라 401 | K72: 정현길 | P72: =H72-I72 -> 1.68 | Q72: =IF(K72="국","국","사") -> 사 | R72: =CONCATENATE(D72,Q72) -> 사산사 | S72: =IF(G72>H72,"OK",IF(G72=H72,"O",IF(G72<H72,"X"))) -> OK | T72: 14000 | U72: =H72 -> 31 | V72: =IF(Q72="국",0,T72)*5*U72 -> 2170000 | W72: =(IF(Q72="국",0,T72)*3*U72) -> 1302000
A73: =A72+1 -> 71 | B73: 무주 | C73: 적상 | D73: 사산 | E73: 286-7 | F73: 도 | G73: 28 | H73: 28 | I73: 28.24 | J73: 무주군 | K73: 국 | P73: =H73-I73 -> -0.24 | Q73: =IF(K73="국","국","사") -> 국 | R73: =CONCATENATE(D73,Q73) -> 사산국 | S73: =IF(G73>H73,"OK",IF(G73=H73,"O",IF(G73<H73,"X"))) -> O | T73: 5280 | U73: =H73 -> 28 | V73: =IF(Q73="국",0,T73)*5*U73 -> 0 | W73: =(IF(Q73="국",0,T73)*3*U73) -> 0
A74: =A73+1 -> 72 | B74: 무주 | C74: 적상 | D74: 사산 | E74: 285-2 | F74: 도 | G74: 45 | H74: 12 | I74: 12.38 | J74: 무주군 | K74: 국 | P74: =H74-I74 -> -0.38 | Q74: =IF(K74="국","국","사") -> 국 | R74: =CONCATENATE(D74,Q74) -> 사산국 | S74: =IF(G74>H74,"OK",IF(G74=H74,"O",IF(G74<H74,"X"))) -> OK | T74: 5280 | U74: =H74 -> 12 | V74: =IF(Q74="국",0,T74)*5*U74 -> 0 | W74: =(IF(Q74="국",0,T74)*3*U74) -> 0
A75: =A74+1 -> 73 | B75: 무주 | C75: 적상 | D75: 사산 | E75: 285-3 | F75: 답 | G75: 235 | H75: 59 | I75: 58.78 | J75: 무주군 | K75: 국 | P75: =H75-I75 -> 0.22 | Q75: =IF(K75="국","국","사") -> 국 | R75: =CONCATENATE(D75,Q75) -> 사산국 | S75: =IF(G75>H75,"OK",IF(G75=H75,"O",IF(G75<H75,"X"))) -> OK | T75: 14000 | U75: =H75 -> 59 | V75: =IF(Q75="국",0,T75)*5*U75 -> 0 | W75: =(IF(Q75="국",0,T75)*3*U75) -> 0
A76: =A75+1 -> 74 | B76: 무주 | C76: 적상 | D76: 사산 | E76: 520-1 | F76: 도 | G76: 244 | H76: 5 | I76: 4.6 | J76: 국토해양부 | K76: 국 | O76: 전체 | P76: =H76-I76 -> 0.4 | Q76: =IF(K76="국","국","사") -> 국 | R76: =CONCATENATE(D76,Q76) -> 사산국 | S76: =IF(G76>H76,"OK",IF(G76=H76,"O",IF(G76<H76,"X"))) -> OK | T76: 5280 | U76: =H76 -> 5 | V76: =IF(Q76="국",0,T76)*5*U76 -> 0 | W76: =(IF(Q76="국",0,T76)*3*U76) -> 0
A77: =A76+1 -> 75 | B77: 무주 | C77: 적상 | D77: 사산 | E77: 520-2 | F77: 답 | G77: 75 | H77: 1 | I77: 1.14 | J77: 국토해양부 | K77: 국 | O77: 전체 | P77: =H77-I77 -> -0.14 | Q77: =IF(K77="국","국","사") -> 국 | R77: =CONCATENATE(D77,Q77) -> 사산국 | S77: =IF(G77>H77,"OK",IF(G77=H77,"O",IF(G77<H77,"X"))) -> OK | T77: 5280 | U77: =H77 -> 1 | V77: =IF(Q77="국",0,T77)*5*U77 -> 0 | W77: =(IF(Q77="국",0,T77)*3*U77) -> 0
A78: =A77+1 -> 76 | B78: 무주 | C78: 적상 | D78: 사산 | E78: 519-1 | F78: 천 | G78: 4 | H78: 4 | I78: 4.6 | J78: 국토교통부 | K78: 국 | O78: 전체 | P78: =H78-I78 -> -0.6 | Q78: =IF(K78="국","국","사") -> 국 | R78: =CONCATENATE(D78,Q78) -> 사산국 | S78: =IF(G78>H78,"OK",IF(G78=H78,"O",IF(G78<H78,"X"))) -> O | T78: 5280 | U78: =H78 -> 4 | V78: =IF(Q78="국",0,T78)*5*U78 -> 0 | W78: =(IF(Q78="국",0,T78)*3*U78) -> 0
A79: =A78+1 -> 77 | B79: 무주 | C79: 적상 | D79: 사산 | E79: 519 | F79: 천 | G79: 69 | H79: 61 | I79: 61.1 | J79: 국토교통부 | K79: 국 | O79: 전체 | P79: =H79-I79 -> -0.1 | Q79: =IF(K79="국","국","사") -> 국 | R79: =CONCATENATE(D79,Q79) -> 사산국 | S79: =IF(G79>H79,"OK",IF(G79=H79,"O",IF(G79<H79,"X"))) -> OK | T79: 5280 | U79: =H79 -> 61 | V79: =IF(Q79="국",0,T79)*5*U79 -> 0 | W79: =(IF(Q79="국",0,T79)*3*U79) -> 0
A80: =A79+1 -> 78 | B80: 무주 | C80: 적상 | D80: 사산 | E80: 1274-10 | F80: 도 | G80: 323 | H80: 20 | I80: 19.79 | J80: 국토교통부 | K80: 국 | O80: 전체 | P80: =H80-I80 -> 0.21 | Q80: =IF(K80="국","국","사") -> 국 | R80: =CONCATENATE(D80,Q80) -> 사산국 | S80: =IF(G80>H80,"OK",IF(G80=H80,"O",IF(G80<H80,"X"))) -> OK | U80: =H80 -> 20 | V80: =IF(Q80="국",0,T80)*5*U80 -> 0 | W80: =(IF(Q80="국",0,T80)*3*U80) -> 0
P81: =H81-I81 -> 0 | Q81: =IF(K81="국","국","사") -> 사 | R81: =CONCATENATE(D81,Q81) -> 사 | S81: =IF(G81>H81,"OK",IF(G81=H81,"O",IF(G81<H81,"X"))) -> O | T81: 891 | U81: =H81 -> 0
A82: =A80+1 -> 79 | B82: 무주 | C82: 적상 | D82: 사산 | E82: 산128-4 | F82: 도 | G82: 835 | H82: 16 | I82: 16.34 | J82: 국토교통부 | K82: 국 | O82: 전체 | P82: =H82-I82 -> -0.34 | Q82: =IF(K82="국","국","사") -> 국 | R82: =CONCATENATE(D82,Q82) -> 사산국 | S82: =IF(G82>H82,"OK",IF(G82=H82,"O",IF(G82<H82,"X"))) -> OK | T82: 5610 | U82: =H82 -> 16 | V82: =IF(Q82="국",0,T82)*5*U82 -> 0 | W82: =(IF(Q82="국",0,T82)*3*U82) -> 0
A83: =A82+1 -> 80 | B83: 무주 | C83: 적상 | D83: 사산 | E83: 284-1 | F83: 도 | G83: 594 | H83: 58 | I83: 57.86 | J83: 국토교통부 | K83: 국 | O83: 부분 | P83: =H83-I83 -> 0.14 | Q83: =IF(K83="국","국","사") -> 국 | R83: =CONCATENATE(D83,Q83) -> 사산국 | S83: =IF(G83>H83,"OK",IF(G83=H83,"O",IF(G83<H83,"X"))) -> OK | T83: 5280 | U83: =H83 -> 58 | V83: =IF(Q83="국",0,T83)*5*U83 -> 0 | W83: =(IF(Q83="국",0,T83)*3*U83) -> 0
A84: =A83+1 -> 81 | B84: 무주 | C84: 적상 | D84: 사산 | E84: 284-2 | F84: 도 | G84: 5 | H84: 5 | I84: 6.79 | J84: 무주군 | K84: 국 | P84: =H84-I84 -> -1.79 | Q84: =IF(K84="국","국","사") -> 국 | R84: =CONCATENATE(D84,Q84) -> 사산국 | S84: =IF(G84>H84,"OK",IF(G84=H84,"O",IF(G84<H84,"X"))) -> O | T84: 5280 | U84: =H84 -> 5 | V84: =IF(Q84="국",0,T84)*5*U84 -> 0 | W84: =(IF(Q84="국",0,T84)*3*U84) -> 0
A85: =A84+1 -> 82 | B85: 무주 | C85: 적상 | D85: 사산 | E85: 284 | F85: 도 | G85: 284 | H85: 69 | I85: 69.46 | J85: 국토교통부 | K85: 국 | P85: =H85-I85 -> -0.46 | Q85: =IF(K85="국","국","사") -> 국 | R85: =CONCATENATE(D85,Q85) -> 사산국 | S85: =IF(G85>H85,"OK",IF(G85=H85,"O",IF(G85<H85,"X"))) -> OK | T85: 5280 | U85: =H85 -> 69 | V85: =IF(Q85="국",0,T85)*5*U85 -> 0 | W85: =(IF(Q85="국",0,T85)*3*U85) -> 0
A86: =A85+1 -> 83 | B86: 무주 | C86: 적상 | D86: 사산 | E86: 1257-7 | F86: 천 | G86: 52 | H86: 52 | I86: 53.88 | J86: 국토교통부 | K86: 국 | P86: =H86-I86 -> -1.88 | Q86: =IF(K86="국","국","사") -> 국 | R86: =CONCATENATE(D86,Q86) -> 사산국 | S86: =IF(G86>H86,"OK",IF(G86=H86,"O",IF(G86<H86,"X"))) -> O | T86: 5280 | U86: =H86 -> 52 | V86: =IF(Q86="국",0,T86)*5*U86 -> 0 | W86: =(IF(Q86="국",0,T86)*3*U86) -> 0
A87: =A86+1 -> 84 | B87: 무주 | C87: 적상 | D87: 사산 | E87: 283-5 | F87: 도 | G87: 993 | H87: 28 | I87: 28.01 | J87: 국토교통부 | K87: 국 | P87: =H87-I87 -> -0.01 | Q87: =IF(K87="국","국","사") -> 국 | R87: =CONCATENATE(D87,Q87) -> 사산국 | S87: =IF(G87>H87,"OK",IF(G87=H87,"O",IF(G87<H87,"X"))) -> OK | T87: 5280 | U87: =H87 -> 28 | V87: =IF(Q87="국",0,T87)*5*U87 -> 0 | W87: =(IF(Q87="국",0,T87)*3*U87) -> 0
A88: =A87+1 -> 85 | B88: 무주 | C88: 적상 | D88: 사산 | E88: 283-4 | F88: 도 | G88: 654 | H88: 55 | I88: 55.1 | J88: 국토교통부 | K88: 국 | P88: =H88-I88 -> -0.1 | Q88: =IF(K88="국","국","사") -> 국 | R88: =CONCATENATE(D88,Q88) -> 사산국 | S88: =IF(G88>H88,"OK",IF(G88=H88,"O",IF(G88<H88,"X"))) -> OK | T88: 5280 | U88: =H88 -> 55 | V88: =IF(Q88="국",0,T88)*5*U88 -> 0 | W88: =(IF(Q88="국",0,T88)*3*U88) -> 0
A89: =A88+1 -> 86 | B89: 무주 | C89: 적상 | D89: 사산 | E89: 283-1 | F89: 도 | G89: 34 | H89: 34 | I89: 33.04 | J89: 국토교통부 | K89: 국 | P89: =H89-I89 -> 0.96 | Q89: =IF(K89="국","국","사") -> 국 | R89: =CONCATENATE(D89,Q89) -> 사산국 | S89: =IF(G89>H89,"OK",IF(G89=H89,"O",IF(G89<H89,"X"))) -> O | T89: 5280 | U89: =H89 -> 34 | V89: =IF(Q89="국",0,T89)*5*U89 -> 0 | W89: =(IF(Q89="국",0,T89)*3*U89) -> 0
A90: =A89+1 -> 87 | B90: 무주 | C90: 적상 | D90: 사산 | E90: 1257-9 | F90: 천 | G90: 311 | H90: 42 | I90: 42.15 | J90: 국토교통부 | K90: 국 | P90: =H90-I90 -> -0.15 | Q90: =IF(K90="국","국","사") -> 국 | R90: =CONCATENATE(D90,Q90) -> 사산국 | S90: =IF(G90>H90,"OK",IF(G90=H90,"O",IF(G90<H90,"X"))) -> OK | T90: 5280 | U90: =H90 -> 42 | V90: =IF(Q90="국",0,T90)*5*U90 -> 0 | W90: =(IF(Q90="국",0,T90)*3*U90) -> 0
A91: =A90+1 -> 88 | B91: 무주 | C91: 적상 | D91: 사산 | E91: 283-2 | F91: 답 | G91: 101 | H91: 101 | I91: 100.2 | J91: 무주군 적상면 사산리 443-9 | K91: 곽경양 | P91: =H91-I91 -> 0.8 | Q91: =IF(K91="국","국","사") -> 사 | R91: =CONCATENATE(D91,Q91) -> 사산사 | S91: =IF(G91>H91,"OK",IF(G91=H91,"O",IF(G91<H91,"X"))) -> O | T91: 14000 | U91: =H91 -> 101 | V91: =IF(Q91="국",0,T91)*5*U91 -> 7070000 | W91: =(IF(Q91="국",0,T91)*3*U91) -> 4242000
A92: =A91+1 -> 89 | B92: 무주 | C92: 적상 | D92: 사산 | E92: 283-6 | F92: 답 | G92: 17 | H92: 17 | I92: 17.65 | J92: 무주군 | K92: 국 | P92: =H92-I92 -> -0.65 | Q92: =IF(K92="국","국","사") -> 국 | R92: =CONCATENATE(D92,Q92) -> 사산국 | S92: =IF(G92>H92,"OK",IF(G92=H92,"O",IF(G92<H92,"X"))) -> O | T92: 5280 | U92: =H92 -> 17 | V92: =IF(Q92="국",0,T92)*5*U92 -> 0 | W92: =(IF(Q92="국",0,T92)*3*U92) -> 0
A93: =A92+1 -> 90 | B93: 무주 | C93: 적상 | D93: 사산 | E93: 282-3 | F93: 도 | G93: 48 | H93: 3 | I93: 3.05 | J93: 국토교통부 | K93: 국 | P93: =H93-I93 -> -0.05 | Q93: =IF(K93="국","국","사") -> 국 | R93: =CONCATENATE(D93,Q93) -> 사산국 | S93: =IF(G93>H93,"OK",IF(G93=H93,"O",IF(G93<H93,"X"))) -> OK | T93: 5280 | U93: =H93 -> 3 | V93: =IF(Q93="국",0,T93)*5*U93 -> 0 | W93: =(IF(Q93="국",0,T93)*3*U93) -> 0
A94: =A93+1 -> 91 | B94: 무주 | C94: 적상 | D94: 사산 | E94: 282-1 | F94: 도 | G94: 730 | H94: 18 | I94: 17.89 | J94: 국토교통부 | K94: 국 | P94: =H94-I94 -> 0.11 | Q94: =IF(K94="국","국","사") -> 국 | R94: =CONCATENATE(D94,Q94) -> 사산국 | S94: =IF(G94>H94,"OK",IF(G94=H94,"O",IF(G94<H94,"X"))) -> OK | T94: 5280 | U94: =H94 -> 18 | V94: =IF(Q94="국",0,T94)*5*U94 -> 0 | W94: =(IF(Q94="국",0,T94)*3*U94) -> 0
A95: =A94+1 -> 92 | B95: 무주 | C95: 적상 | D95: 사산 | E95: 282-2 | F95: 답 | G95: 54 | H95: 54 | I95: 54.77 | J95: 무주군 | K95: 국 | P95: =H95-I95 -> -0.77 | Q95: =IF(K95="국","국","사") -> 국 | R95: =CONCATENATE(D95,Q95) -> 사산국 | S95: =IF(G95>H95,"OK",IF(G95=H95,"O",IF(G95<H95,"X"))) -> O | T95: 5280 | U95: =H95 -> 54 | V95: =IF(Q95="국",0,T95)*5*U95 -> 0 | W95: =(IF(Q95="국",0,T95)*3*U95) -> 0
... A97: =A96+1 -> 94 | B97: 무주 | C97: 적상 | D97: 사산 | E97: 1257-11 | F97: 천 | G97: 167 | H97: 167 | I97: 171.74 | J97: 국토교통부 | K97: 국 | P97: =H97-I97 -> -4.74 | Q97: =IF(K97="국","국","사") -> 국 | R97: =CONCATENATE(D97,Q97) -> 사산국 | S97: =IF(G97>H97,"OK",IF(G97=H97,"O",IF(G97<H97,"X"))) -> O | T97: 7920 | U97: =H97 -> 167 | V97: =IF(Q97="국",0,T97)*5*U97 -> 0 | W97: =(IF(Q97="국",0,T97)*3*U97) -> 0
A98: =A97+1 -> 95 | B98: 무주 | C98: 적상 | D98: 사산 | E98: 243-2 | F98: 도 | G98: 79 | H98: 79 | I98: 80.87 | J98: 무주군 | K98: 국 | O98: 부분 | P98: =H98-I98 -> -1.87 | Q98: =IF(K98="국","국","사") -> 국 | R98: =CONCATENATE(D98,Q98) -> 사산국 | S98: =IF(G98>H98,"OK",IF(G98=H98,"O",IF(G98<H98,"X"))) -> O | T98: 7920 | U98: =H98 -> 79 | V98: =IF(Q98="국",0,T98)*5*U98 -> 0 | W98: =(IF(Q98="국",0,T98)*3*U98) -> 0
A99: =A98+1 -> 96 | B99: 무주 | C99: 적상 | D99: 사산 | E99: 243-1 | F99: 잡 | G99: 66 | H99: 66 | I99: 65.71 | J99: 무주군 적상면 사산리 233 | K99: 류금용 | O99: 부분 | P99: =H99-I99 -> 0.29 | Q99: =IF(K99="국","국","사") -> 사 | R99: =CONCATENATE(D99,Q99) -> 사산사 | S99: =IF(G99>H99,"OK",IF(G99=H99,"O",IF(G99<H99,"X"))) -> O | T99: 7920 | U99: =H99 -> 66 | V99: =IF(Q99="국",0,T99)*5*U99 -> 2613600 | W99: =(IF(Q99="국",0,T99)*3*U99) -> 1568160
A100: =A99+1 -> 97 | B100: 무주 | C100: 적상 | D100: 사산 | E100: 282 | F100: 답 | G100: 1312 | H100: 1312 | I100: 1332.64 | J100: 무주군 적상면 사산리 232-1 | K100: 정태평 | P100: =H100-I100 -> -20.64 | Q100: =IF(K100="국","국","사") -> 사 | R100: =CONCATENATE(D100,Q100) -> 사산사 | S100: =IF(G100>H100,"OK",IF(G100=H100,"O",IF(G100<H100,"X"))) -> O | T100: 16000 | U100: =H100 -> 1312 | V100: =IF(Q100="국",0,T100)*5*U100 -> 104960000 | W100: =(IF(Q100="국",0,T100)*3*U100) -> 62976000
A101: =A100+1 -> 98 | B101: 무주 | C101: 적상 | D101: 사산 | E101: 278 | F101: 답 | G101: 2932 | H101: 332 | I101: 326.46 | J101: 전라북도 무주군 무주읍 읍내리 1122 | K101: 덕유산자연약초 영농조합법인 | P101: =H101-I101 -> 5.54 | Q101: =IF(K101="국","국","사") -> 사 | R101: =CONCATENATE(D101,Q101) -> 사산사 | S101: =IF(G101>H101,"OK",IF(G101=H101,"O",IF(G101<H101,"X"))) -> OK | T101: 17900 | U101: =H101 -> 332 | V101: =IF(Q101="국",0,T101)*5*U101 -> 29714000 | W101: =(IF(Q101="국",0,T101)*3*U101) -> 17828400
...
