Workbook

Sheet Sheet1
A1: 연번 | B1: 납세자 | C1: 과세대상 | D1: 용도 | E1: 구조 | F1: 위반면적 | G1: 우편번호 | H1: 납세자기본주소 | I1: 납세자상세주소 | J1: 담당자
A2: 1 | B2: 전*수 | C2: 신길동 95-58 | D2: 주거4층옥상 | E2: 판넬/판넬 | F2: 8.5㎡ | G2: 17389 | H2: 경기도 이천시 마장면 덕이로 4*번길 1*-1* | J2: 송기철
A3: 2 | B3: 김*현 | C3: 신길동 124-11 | D3: 주거(202호) | E3: 판넬/판넬 | F3: 6.9㎡ | G3: 07798 | H3: 서울특별시 강서구 마곡서로 13* | I3: 71*동 90*호 | J3: 송기철
A4: 3 | B4: 최*성 | C4: 당산동6가 110-84 | D4: 주거(4층) | E4: 판넬/판넬 | F4: 8㎡ | G4: 16975 | H4: 경기도 용인시 기흥구 기흥로1*번길 1*-7 | I4: *층 | J4: 이창균
A5: 4 | B5: 권*헌 | C5: 도림동 124-4 | D5: 주거(1층) | E5: 판넬/판넬 | F5: 4㎡ | G5: 14765 | H5: 경기도 부천시 소사로16*번길 9* | J5: 이창균
A6: 5 | B6: 박*권외 2 | C6: 영등포동8가 2 | D6: 점포(2층) | E6: 천막/파이프 | F6: 15㎡ | G6: 48741 | H6: 부산광역시 동구 조방로 1* | I6: 181*호 | J6: 송기철
A7: 6 | B7: 오*석 | C7: 대림동 653-10 | D7: 주거(3층) | E7: 판넬/샤시 | F7: 5㎡ | G7: 07368 | H7: 서울특별시 영등포구 도신로2*가길 * | J7: 신환진
A8: 7 | B8: 오*석 | C8: 대림동 653-10 | D8: 주거(4층) | E8: 판넬/샤시 | F8: 3㎡ | G8: 07368 | H8: 서울특별시 영등포구 도신로2*가길 * | J8: 신환진
A9: 8 | B9: 윤*상 | C9: 대림동 714-1 (천향오) | D9: 점포(1층) | E9: 천막/철파이프 | F9: 5㎡ | G9: 07415 | H9: 서울특별시 영등포구 대림로2*길 2* | J9: 신환진
A10: 9 | B10: 김*례 | C10: 당산동 121-140 | D10: 주거(502호) | E10: 판넬/샤시 | F10: 8㎡ | G10: 03167 | H10: 서울 종로구 경희궁*길 2* | J10: 이창균
A11: 10 | B11: 김*만 | C11: 대림동 903-23 | D11: 주거(401호) | E11: 판넬/판넬 | F11: 8㎡ | G11: 07427 | H11: 서울특별시 영등포구 디지털로7*길 6-* | I11: 40*호 | J11: 강용찬
A12: 11 | B12: 허*두 | C12: 신길동 226-10 | D12: 주거(옥상) | E12: 판넬/판넬 | F12: 13㎡ | G12: 07385 | H12: 서울특별시 영등포구 신길로4*길 1*-* | J12: 김판석
A13: 12 | B13: 허*두 | C13: 신길동 226-10 | D13: 주거(창고)옥상 | E13: 판넬/판넬 | F13: 3㎡ | G13: 07385 | H13: 서울특별시 영등포구 신길로4*길 1*-* | J13: 김판석
A14: 13 | B14: 이*희 | C14: 당산동1가 169 | D14: 점포1층 | E14: 천막/파이프 | F14: 5㎡ | G14: 08346 | H14: 서울특별시 구로구 개봉로1*길 4*-2* | I14: 40*호 | J14: 이창균
A15: 14 | B15: 장*원 | C15: 대림동 1093-32 | D15: 주거(4층) | E15: 판넬/판넬 | F15: 40㎡ | G15: 07705 | H15: 서울 강서구 강서로4*다길 3* | J15: 이창균
A16: 15 | B16: 조*형외 1 | C16: 대림동 854-20 | D16: 주거(4층) | E16: 판넬/판넬 | F16: 18㎡ | G16: 07429 | H16: 서울시 영등포구 대림로2*가길 9-* | J16: 강용찬
A17: 16 | B17: 윤*상 | C17: 대림동 714-1, (연길) | D17: 점포(1층) | E17: 천막/파이프 | F17: 6㎡ | G17: 07415 | H17: 서울특별시 영등포구 대림로2*길 2* | J17: 신환진
A18: 17 | B18: 윤*상 | C18: 대림동 714-1, (왕족발) | D18: 점포(1층) | E18: 천막/파이프 | F18: 6㎡ | G18: 07415 | H18: 서울특별시 영등포구 대림로2*길 2* | J18: 신환진
A19: 18 | B19: 윤*상 | C19: 대림동 714-1, (떡복기) | D19: 점포(1층) | E19: 천막/파이프 | F19: 6㎡ | G19: 07415 | H19: 서울특별시 영등포구 대림로2*길 2* | J19: 신환진
A20: 19 | B20: 윤*상 | C20: 대림동 714-1, (약국) | D20: 점포(1층) | E20: 천막/파이프 | F20: 4㎡ | G20: 07415 | H20: 서울특별시 영등포구 대림로2*길 2* | J20: 신환진
A21: 20 | B21: 최*정 | C21: 대림동 1025-44 | D21: 주거(옥상) | E21: 판넬/판넬 | F21: 56㎡ | G21: 07446 | H21: 서울특별시 영등포구 디지털로5*길 2*-1* | J21: 이창균
A22: 21 | B22: 이*수 | C22: 대림동 662-16 | D22: 주거(1층) | E22: 판넬/판넬 | F22: 7.75㎡ | G22: 07381 | H22: 서울특별시 영등포구 가마산로4*길 1*-* | J22: 신환진
A23: 22 | B23: 이*수 | C23: 대림동 662-16 | D23: 주거(4층) | E23: 판넬/판넬 | F23: 2.7㎡ | G23: 07381 | H23: 서울특별시 영등포구 가마산로4*길 1*-* | J23: 신환진
A24: 23 | B24: 이*수 | C24: 대림동 662-16 | D24: 주거(4층) | E24: 판넬/판넬 | F24: 5.23㎡ | G24: 07381 | H24: 서울특별시 영등포구 가마산로4*길 1*-* | J24: 신환진
A25: 24 | B25: 김*임 | C25: 대림동 1080-56 | D25: 주거(3층) | E25: 판넬/판넬 | F25: 18㎡ | G25: 07447 | H25: 서울특별시 영등포구 디지털로3*길 1*-* | J25: 이창균
A26: 25 | B26: 배*길 | C26: 대림동 987-1 | D26: 주거(옥탑1층) | E26: 철파이프조 | F26: 14㎡ | G26: 07442 | H26: 서울시 영등포구 대림로 *나길 1*-* | I26: 60*호 | J26: 강용찬
A27: 26 | B27: 배*길 | C27: 대림동 987-1 | D27: 주거(6층) | E27: 철파이프조 | F27: 4㎡ | G27: 07442 | H27: 서울시 영등포구 대림로 *나길 1*-* | I27: 60*호 | J27: 강용찬
A28: 27 | B28: 김*영 | C28: 대림동 1080-18 | D28: 주거(4층) | E28: 판넬/판넬 | F28: 7㎡ | G28: 07072 | H28: 서울시 동작구 신대방*가길 3* | I28: 10*동 70*호 | J28: 이창균
A29: 28 | B29: 김*영 | C29: 대림동 1080-18 | D29: 주거(5층) | E29: 판넬/판넬 | F29: 12㎡ | G29: 07072 | H29: 서울시 동작구 신대방*가길 3* | I29: 10*동 70*호 | J29: 이창균
A30: 29 | B30: 장*정외1 | C30: 대림동 858-28 | D30: 주거(3층) | E30: 판넬/샤시 | F30: 3㎡ | G30: 04167 | H30: 서울특별시 마포구 마포대로 3* | I30: *동 200*호 | J30: 강용찬
A31: 30 | B31: 장*정외1 | C31: 대림동 858-28 | D31: 주거(옥탑) | E31: 판넬/판넬 | F31: 14㎡ | G31: 04167 | H31: 서울특별시 마포구 마포대로 3* | I31: *동 200*호 | J31: 강용찬
A32: 31 | B32: 김*심 | C32: 대림동 1095-28 | D32: 주거(4층) | E32: 판넬/판넬 | F32: 7㎡ | G32: 07448 | H32: 서울특별시 영등포구 디지털로3*길 1*-* | J32: 이창균
A33: 32 | B33: 박*승 | C33: 대림동 1095-31 | D33: 주거(4층) | E33: 판넬/판넬 | F33: 7㎡ | G33: 07448 | H33: 서울특별시 영등포구 디지털로3*길 1*-* | I33: 40*호 | J33: 이창균
A34: 33 | B34: 김*연 | C34: 대림동 1079-41 | D34: 주거(5층) | E34: 판넬/판넬 | F34: 15㎡ | G34: 08006 | H34: 서울시 양천구 목동동로1*길 1*-* | J34: 이창균
A35: 34 | B35: 김*연 | C35: 대림동 1079-41 | D35: 주거(1층) | E35: 판넬/판넬 | F35: 3㎡ | G35: 08006 | H35: 서울시 양천구 목동동로1*길 1*-* | J35: 이창균
A36: 35 | B36: 김*웅외2 | C36: 신길동 3653 | D36: 주거1층(후면) | E36: 판넬/판넬 | F36: 70㎡ | G36: 04317 | H36: 서울특별시 용산구 백범로 31* | I36: 10*동 140*호 | J36: 송기철
A37: 36 | B37: 김*웅 | C37: 신길동 2579-30 | D37: 점포(1층) | E37: 판넬/샤시 | F37: 30㎡ | G37: 04317 | H37: 서울특별시 용산구 백범로 31* | I37: 10*동 140*호 | J37: 송기철
A38: 37 | B38: 교*자산신탁주식회사 | C38: 대림동 738-19 | D38: 주거(401호) | E38: 판넬/판넬 | F38: 15㎡ | G38: 06194 | H38: 서울특별시 강남구 테헤란로 42* | J38: 신환진
A39: 38 | B39: 교*자산신탁주식회사 | C39: 대림동 738-19 | D39: 주거(402호) | E39: 판넬/판넬 | F39: 15㎡ | G39: 06194 | H39: 서울특별시 강남구 테헤란로 42* | J39: 신환진
A40: 39 | B40: 교*자산신탁주식회사 | C40: 대림동 738-19 | D40: 주거(501호) | E40: 판넬/판넬 | F40: 16㎡ | G40: 06194 | H40: 서울특별시 강남구 테헤란로 42* | J40: 신환진
A41: 40 | B41: 교*자산신탁주식회사 | C41: 대림동 738-19 | D41: 주거(502호) | E41: 판넬/판넬 | F41: 16㎡ | G41: 06194 | H41: 서울특별시 강남구 테헤란로 42* | J41: 신환진
A42: 41 | B42: 강*구 | C42: 문래동3가 16-80 | D42: 점포(1층) | E42: 판넬/판넬 | F42: 85㎡ | G42: 07300 | H42: 서울시 영등포구 문래동*가 1*-8* | J42: 강용찬
A43: 42 | B43: 성*모 | C43: 신길동 453-5 | D43: 점포(1층창고) | E43: 넥산/판넬 | F43: 20㎡ | G43: 12579 | H43: 경기도 양평군 양서면 목왕리길 11*-* | J43: 송기철
A44: 43 | B44: 유*용 | C44: 양평동4가 78-7 | D44: 주거(5층) | E44: 판넬/판넬 | F44: 12㎡ | G44: 07208 | H44: 서울특별시 영등포구 양평로1*길 * | J44: 신환진
A45: 44 | B45: 최*섭 | C45: 신길동 113-35 | D45: 주거(3층) | E45: 판넬/판넬 | F45: 10㎡ | G45: 07351 | H45: 서울특별시 영등포구 영등포로 7*길 2* | I45: 40*호 | J45: 송기철
A46: 45 | B46: 송*성 | C46: 신길동 124-10 (704호) | D46: 주거(7층) | E46: 판넬/판넬 | F46: 6㎡ | G46: 07350 | H46: 서울시 영등포구 도신로6*길 3* | I46: 10*동 20*호 | J46: 송기철
A47: 46 | B47: 정*조외1 | C47: 대림동 1023-25 | D47: 주거(옥상) | E47: 판넬/판넬 | F47: 60㎡ | G47: 07446 | H47: 서울특별시 영등포구 디지털로5*길 2*-1* | I47: 옥* | J47: 이창균
A48: 47 | B48: 김*석 | C48: 대림동 1015-67 | D48: 주거(옥상) | E48: 판넬/판넬 | F48: 35㎡ | G48: 07448 | H48: 서울특별시 영등포구 도림천로 42* | I48: 10*동 40*호 | J48: 이창균
A49: 48 | B49: 김*섭외1 | C49: 대림동 832-5 | D49: 주거(옥상) | E49: 판넬/판넬 | F49: 29㎡ | G49: 07429 | H49: 서울특별시 영등포구 디지털로6*길 6-* | J49: 이창균
A50: 49 | B50: 손*정 | C50: 대림동 833-8 | D50: 주거(옥상) | E50: 판넬/판넬 | F50: 35㎡ | G50: 07445 | H50: 서울특별시 영등포구 도림천로2*길 3*-1 | J50: 이창균
A51: 50 | B51: 박*숙외1 | C51: 대림동 1080-9 | D51: 주거(옥상우측) | E51: 판넬/판넬 | F51: 12㎡ | G51: 07421 | H51: 서울 영등포구 디지털로4*길 * | J51: 이창균
A52: 51 | B52: 박*숙외1 | C52: 대림동 1080-9 | D52: 주거(옥상좌측) | E52: 판넬/판넬 | F52: 20㎡ | G52: 07421 | H52: 서울 영등포구 디지털로4*길 * | J52: 이창균
A53: 52 | B53: 방*식 | C53: 대림동 738-15 | D53: 주거(402호) | E53: 판넬/샤시/유리 | F53: 5㎡ | G53: 07412 | H53: 서울시 영등포구 대림로3*나길 1* | I53: 40*호 | J53: 신환진
A54: 53 | B54: 김*순 | C54: 대림동 1015-58 | D54: 주거(옥상) | E54: 판넬/판넬 | F54: 17㎡ | G54: 07443 | H54: 서울 영등포구 대림로*가길 1* | J54: 이창균
A55: 54 | B55: 이*순외2 | C55: 당산동6가 236-1 | D55: 주거(옥상) | E55: 판넬/판넬 | F55: 30㎡ | G55: 07223 | H55: 서울특별시 영등포구 당산로5*길 2* | J55: 이창균
A56: 55 | B56: 이*순외2 | C56: 당산동6가 236-1 | D56: 주거(602호베란다) | E56: 판넬/판넬 | F56: 6㎡ | G56: 07223 | H56: 서울특별시 영등포구 당산로5*길 2* | J56: 이창균
A57: 56 | B57: 이*순외2 | C57: 당산동6가 236-1 | D57: 주거(603호베란다) | E57: 판넬/판넬 | F57: 7㎡ | G57: 07223 | H57: 서울특별시 영등포구 당산로5*길 2* | J57: 이창균
A58: 57 | B58: 이*순외2 | C58: 당산동6가 236-1 | D58: 주거(701호베란다) | E58: 판넬/판넬 | F58: 12㎡ | G58: 07223 | H58: 서울특별시 영등포구 당산로5*길 2* | J58: 이창균
A59: 58 | B59: 문*희 | C59: 대림동 691-4 | D59: 주거(703호) | E59: 판넬/판넬 | F59: 21.3㎡ | G59: 07410 | H59: 서울시 영등포구 도림로 4*길 2* | I59: 70*호 | J59: 신환진
A60: 59 | B60: 교*자산신탁주식회사 | C60: 대림동 691-4 | D60: 주거(704호) | E60: 판넬/판넬 | F60: 21.3㎡ | G60: 06194 | H60: 서울시 강남구 테헤란로 42* | J60: 신환진
A61: 60 | B61: 김*곤 | C61: 당산동 121-20 | D61: 주거(5층) | E61: 판넬/샤시 | F61: 10㎡ | G61: 07229 | H61: 서울시 영등포구 국회대로5*길 2* *층 | J61: 이창균
A62: 61 | B62: 김*곤 | C62: 당산동 121-20 | D62: 주거(6층) | E62: 판넬/샤시 | F62: 10㎡ | G62: 07229 | H62: 서울시 영등포구 국회대로5*길 2* *층 | J62: 이창균
A63: 62 | B63: 김*곤 | C63: 당산동 121-20 | D63: 주거(7층) | E63: 판넬/샤시 | F63: 8㎡ | G63: 07229 | H63: 서울시 영등포구 국회대로5*길 2* *층 | J63: 이창균
A64: 63 | B64: 정*숙 | C64: 당산동4가 32-143 | D64: 주거(옥탑) | E64: 유리/샤시 | F64: 6㎡ | G64: 07220 | H64: 서울특별시 영등포구 당산로3*길 *-1 | J64: 이창균
A65: 64 | B65: 김*순외1 | C65: 당산동4가 32-18 | D65: 고시원(5층베란다) | E65: 판넬/샤시/유리 | F65: 11㎡ | G65: 07298 | H65: 서울시 영등포구 당산로*길 1* | I65: 11*동 50*호 | J65: 이창균
A66: 65 | B66: 김*주외1 | C66: 당산동4가 73-4 | D66: 주거 | E66: 판넬 | F66: 16㎡ | G66: 07219 | H66: 서울특별시 영등포구 당산로 16*-1* | J66: 이창균
A67: 66 | B67: 나*경 | C67: 당산동4가 74-3 | D67: 주거(2층) | E67: 판넬/판넬 | F67: 7㎡ | G67: 07217 | H67: 서울시 영등포구 당산로3*길 2-* | J67: 이창균
A68: 67 | B68: 이*리 | C68: 당산동5가 33-1(1301호) | D68: 오피스텔베란다(1301호) | E68: 넥산/샤시 | F68: 7㎡ | G68: 07213 | H68: 서울특별시 영등포구 양평로 6* 130*호 | J68: 이창균
A69: 68 | B69: 이*복 | C69: 당산동5가 33-1(1302호) | D69: 오피스텔베란다(1302호) | E69: 넥산/샤시 | F69: 7㎡ | G69: 07213 | H69: 서울특별시 영등포구 양평로 6* 130*호 | J69: 이창균
A70: 69 | B70: 김*중외1 | C70: 당산동5가 7-35 | D70: 주거(옥탑) | E70: 판넬/판넬 | F70: 29.6㎡ | G70: 06560 | H70: 서울시 서초구 방배중앙로 2*길 5* | I70: 30*동 100*호 | J70: 이창균
A71: 70 | B71: 홍*우 | C71: 당산동6가 110-36 | D71: 주거 | E71: 판넬/판넬 | F71: 3㎡ | G71: 07223 | H71: 서울 영등포구 당산로4*길 2*-7 | J71: 이창균
A72: 71 | B72: 최*분 | C72: 당산동6가 110-36 | D72: 주거 | E72: 판넬/판넬 | F72: 3㎡ | G72: 07223 | H72: 서울시 영등포구 당산로4*길 2*-7 | J72: 이창균
A73: 72 | B73: 이*근 | C73: 당산동6가 110-39 | D73: 주거 | E73: 판넬 | F73: 7㎡ | G73: 07223 | H73: 서울시 영등포구 당산로5*길 2*-7 | J73: 이창균
A74: 73 | B74: 이*랑 | C74: 당산동6가 234-5 | D74: 주거(5층) | E74: 판넬/샤시/유리 | F74: 8㎡ | G74: 07223 | H74: 서울시 영등포구 당산로4*길 2* | J74: 이창균
A75: 74 | B75: 이*식 | C75: 당산동6가 346-1 | D75: 사무실1층 | E75: 판넬/판넬 | F75: 20㎡ | G75: 07223 | H75: 서울특별시 영등포구 당산로5*길 1*-1 | J75: 이창균
A76: 75 | B76: 이*식 | C76: 당산동6가 346-1 | D76: 창고(1층) | E76: 판넬/판넬 | F76: 35㎡ | G76: 07223 | H76: 서울특별시 영등포구 당산로5*길 1*-1 | J76: 이창균
A77: 76 | B77: 이*식 | C77: 당산동6가 351-2 | D77: 작업장 | E77: 앵글/함석 | F77: 99㎡ | G77: 07223 | H77: 서울특별시 영등포구 당산로5*길 1*-1 | J77: 이창균
A78: 77 | B78: 김*선 | C78: 대림동 1015-55 | D78: 주거(옥탑) | E78: 판넬/판넬 | F78: 3㎡ | G78: 63026 | H78: 제주도 제주시 한림읍 한수풀로 5* | I78: *동 50*호 | J78: 이창균
A79: 78 | B79: 방*경 | C79: 대림동 1022-36 | D79: 주거(3층) | E79: 유리/샤시 | F79: 5㎡ | G79: 08338 | H79: 서울시 구로구 개봉로1*바길 2* | J79: 이창균
A80: 79 | B80: 박*숙 | C80: 대림동 1023-8 | D80: 주거 | E80: 판넬 | F80: 3㎡ | G80: 07070 | H80: 서울시 동작구 신대방1*길 2* | J80: 이창균
A81: 80 | B81: 권*안외1 | C81: 대림동 1025-70 | D81: 주거 | E81: 판넬/판넬 | F81: 10㎡ | G81: 55520 | H81: 전라북도 무주군 무주읍 신교로 4* | I81: 10*동 120*호 | J81: 이창균
A82: 81 | B82: 이*춘 | C82: 대림동 1025-71 | D82: 주거(3층) | E82: 유리/샤시 | F82: 9㎡ | G82: 03940 | H82: 서울특별시 마포구 월드컵북로 22*-7 | I82: 10*동 60*호 | J82: 이창균
A83: 82 | B83: 이*춘 | C83: 대림동 1025-71 | D83: 주거(3층옥탑) | E83: 판넬/판넬 | F83: 10㎡ | G83: 03940 | H83: 서울특별시 마포구 월드컵북로 22*-7 | I83: 10*동 60*호 | J83: 이창균
A84: 83 | B84: 김*주 | C84: 대림동 1025-74 | D84: 주거(3층) | E84: 판넬/샤시/유리 | F84: 10㎡ | G84: 08378 | H84: 서울특별시 구로구 디지털로 31* 10*동 150*호 | J84: 이창균
A85: 84 | B85: 김*주 | C85: 대림동 1025-74 | D85: 주거(3층옥탑) | E85: 판넬/판넬 | F85: 12㎡ | G85: 08378 | H85: 서울특별시 구로구 디지털로 31* 10*동 150*호 | J85: 이창균
A86: 85 | B86: 장*순 | C86: 대림동 1034-3 | D86: 점포(1층) | E86: 판넬/샤시/유리 | F86: 4㎡ | G86: 07599 | H86: 서울특별시 강서구 마곡서*로 11*-1* | I86: 50*동 120*호 | J86: 이창균
A87: 86 | B87: 김*욱 | C87: 대림동 1036-14 | D87: 창고 | E87: 유리/샤시 | F87: 13.5㎡ | G87: 07421 | H87: 서울특별시 영등포구 디지털로 4*길 1* | J87: 이창균
A88: 87 | B88: 오*균 | C88: 대림동 1037-20 | D88: 주거 | E88: 판넬/판넬 | F88: 10㎡ | G88: 07419 | H88: 서울 영등포구 디지털로3*다길 2*-1 | J88: 이창균
A89: 88 | B89: 박*규 | C89: 대림동 1050-27 | D89: 점포(1층) | E89: 천막/앵글파이프 | F89: 30㎡ | G89: 28103 | H89: 충청북도 청주시 흥덕구 옥산면 동림*길 7* | J89: 이창균
A90: 89 | B90: 이*일 | C90: 대림동 1051-84 | D90: 창고(1층) | E90: 판넬/판넬 | F90: 5㎡ | G90: 06760 | H90: 서울시 서초구 방배선행길 * | I90: 10*동 70*호 | J90: 이창균
A91: 90 | B91: 권*자 | C91: 대림동 1052-37 | D91: 점포창고1층 | E91: 판넬/블록 | F91: 19㎡ | G91: 06906 | H91: 서울시 동작구 매봉로 13* | I91: *동 110*호 | J91: 신환진
A92: 91 | B92: 이*훈외1 | C92: 대림동 1056-16 | D92: 주거(1층) | E92: 판넬/판넬 | F92: 5㎡ | G92: 08301 | H92: 서울특별시 구로구 가마산로2*길1*-7 | I92: 120*호 | J92: 이창균
A93: 92 | B93: 이*중 | C93: 대림동 1057-4 | D93: 주거 | E93: 판넬/판넬 | F93: 6㎡ | G93: 07420 | H93: 서울특별시 영등포구 도림천로1*길 1*-1 | J93: 이창균
A94: 93 | B94: 이*중 | C94: 대림동 1057-4 | D94: 주거(3층) | E94: 판넬/판넬 | F94: 6㎡ | G94: 07420 | H94: 서울특별시 영등포구 도림천로1*길 1*-1 | J94: 이창균
A95: 94 | B95: 봉*호외8 | C95: 대림동 1057-64 | D95: 사무실(1층) | E95: 컨테이너 | F95: 6㎡ | G95: 07415 | H95: 서울시 영등포구 도림로3*길 1* | J95: 이창균
A96: 95 | B96: 봉*호외8 | C96: 대림동 1057-64 | D96: 점포 | E96: 컨테이너 | F96: 12.5㎡ | G96: 07415 | H96: 서울시 영등포구 도림로3*길 1* | J96: 이창균
A97: 96 | B97: 봉*호외8 | C97: 대림동 1057-64 | D97: 점포(1층) | E97: 판넬/샤시/유리 | F97: 4㎡ | G97: 07415 | H97: 서울시 영등포구 도림로3*길 1* | J97: 이창균
A98: 97 | B98: 봉*호외8 | C98: 대림동 1057-64 | D98: 점포(1층안쪽) | E98: 판넬/판넬 | F98: 2㎡ | G98: 07415 | H98: 서울시 영등포구 도림로3*길 1* | J98: 이창균
A99: 98 | B99: 이*순 | C99: 대림동 1058-19 | D99: 주거(옥탑) | E99: 판넬/판넬 | F99: 7㎡ | G99: 07419 | H99: 서울 영등포구 디지털로3*길 3*-2(대림동) | J99: 이창균
A100: 99 | B100: 임*금 | C100: 대림동 1060-7 | D100: 주거(옥탑) | E100: 판넬/판넬 | F100: 3㎡ | G100: 07420 | H100: 서울 영등포구 도림천로 38*-2* | J100: 이창균
...

Sheet Sheet2
A1: =REPLACE(Sheet1!B2,2,1,"*") -> 전*수 | C1: 납세자
A2: =REPLACE(Sheet1!B3,2,1,"*") -> 김*현 | C2: 전정수 | D2: =REPLACE(C2,2,1,"*") -> 전*수 | G2: =REPLACE(F2,2,1,"*") -> *
A3: =REPLACE(Sheet1!B4,2,1,"*") -> 최*성 | C3: 김정현 | D3: =REPLACE(C3,2,1,"*") -> 김*현 | G3: =REPLACE(F3,2,1,"*") -> *
A4: =REPLACE(Sheet1!B5,2,1,"*") -> 권*헌 | C4: 최지성 | D4: =REPLACE(C4,2,1,"*") -> 최*성 | G4: =REPLACE(F4,2,1,"*") -> *
A5: =REPLACE(Sheet1!B6,2,1,"*") -> 박*권외 2 | C5: 권태헌 | D5: =REPLACE(C5,2,1,"*") -> 권*헌 | G5: =REPLACE(F5,2,1,"*") -> *
A6: =REPLACE(Sheet1!B7,2,1,"*") -> 오*석 | C6: 박병권외 2 | D6: =REPLACE(C6,2,1,"*") -> 박*권외 2 | G6: =REPLACE(F6,2,1,"*") -> *
A7: =REPLACE(Sheet1!B8,2,1,"*") -> 오*석 | C7: 오현석 | D7: =REPLACE(C7,2,1,"*") -> 오*석 | G7: =REPLACE(F7,2,1,"*") -> *
A8: =REPLACE(Sheet1!B9,2,1,"*") -> 윤*상 | C8: 오현석 | D8: =REPLACE(C8,2,1,"*") -> 오*석 | G8: =REPLACE(F8,2,1,"*") -> *
A9: =REPLACE(Sheet1!B10,2,1,"*") -> 김*례 | C9: 윤요상 | D9: =REPLACE(C9,2,1,"*") -> 윤*상 | G9: =REPLACE(F9,2,1,"*") -> *
A10: =REPLACE(Sheet1!B11,2,1,"*") -> 김*만 | C10: 김선례 | D10: =REPLACE(C10,2,1,"*") -> 김*례 | G10: =REPLACE(F10,2,1,"*") -> *
A11: =REPLACE(Sheet1!B12,2,1,"*") -> 허*두 | C11: 김덕만 | D11: =REPLACE(C11,2,1,"*") -> 김*만 | G11: =REPLACE(F11,2,1,"*") -> *
A12: =REPLACE(Sheet1!B13,2,1,"*") -> 허*두 | C12: 허회두 | D12: =REPLACE(C12,2,1,"*") -> 허*두 | G12: =REPLACE(F12,2,1,"*") -> *
A13: =REPLACE(Sheet1!B14,2,1,"*") -> 이*희 | C13: 허회두 | D13: =REPLACE(C13,2,1,"*") -> 허*두 | G13: =REPLACE(F13,2,1,"*") -> *
... A421: =REPLACE(Sheet1!B422,2,1,"*") -> 장*복 | C421: 장기복 | D421: =REPLACE(C421,2,1,"*") -> 장*복 | G421: =REPLACE(F421,2,1,"*") -> *
C422: 장기복 | D422: =REPLACE(C422,2,1,"*") -> 장*복 | G422: =REPLACE(F422,2,1,"*") -> *

Sheet Sheet3
