Workbook

Sheet Sheet1
A1: 연번 | B1: 납세자 | C1: 과세대상 | D1: 용도 | E1: 구조 | F1: 위반면적 | G1: 우편번호 | H1: 납세자기본주소 | I1: 납세자상세주소 | J1: 담당자
A2: 1 | B2: 전*수 | C2: 신길동 95-58 | D2: 주거4층옥상 | E2: 판넬/판넬 | F2: 8.5㎡ | G2: 17389 | H2: 경기도 이천시 마장면 덕이로 4*번길 1*-1* | J2: 송기철
A3: 2 | B3: 김*현 | C3: 신길동 124-11 | D3: 주거(202호) | E3: 판넬/판넬 | F3: 6.9㎡ | G3: 07798 | H3: 서울특별시 강서구 마곡서로 13* | I3: 71*동 90*호 | J3: 송기철
A4: 3 | B4: 최*성 | C4: 당산동6가 110-84 | D4: 주거(4층) | E4: 판넬/판넬 | F4: 8㎡ | G4: 16975 | H4: 경기도 용인시 기흥구 기흥로1*번길 1*-7 | I4: *층 | J4: 이창균
A5: 4 | B5: 권*헌 | C5: 도림동 124-4 | D5: 주거(1층) | E5: 판넬/판넬 | F5: 4㎡ | G5: 14765 | H5: 경기도 부천시 소사로16*번길 9* | J5: 이창균
A6: 5 | B6: 박*권외 2 | C6: 영등포동8가 2 | D6: 점포(2층) | E6: 천막/파이프 | F6: 15㎡ | G6: 48741 | H6: 부산광역시 동구 조방로 1* | I6: 181*호 | J6: 송기철
A7: 6 | B7: 오*석 | C7: 대림동 653-10 | D7: 주거(3층) | E7: 판넬/샤시 | F7: 5㎡ | G7: 07368 | H7: 서울특별시 영등포구 도신로2*가길 * | J7: 신환진
A8: 7 | B8: 오*석 | C8: 대림동 653-10 | D8: 주거(4층) | E8: 판넬/샤시 | F8: 3㎡ | G8: 07368 | H8: 서울특별시 영등포구 도신로2*가길 * | J8: 신환진
A9: 8 | B9: 윤*상 | C9: 대림동 714-1 (천향오) | D9: 점포(1층) | E9: 천막/철파이프 | F9: 5㎡ | G9: 07415 | H9: 서울특별시 영등포구 대림로2*길 2* | J9: 신환진
A10: 9 | B10: 김*례 | C10: 당산동 121-140 | D10: 주거(502호) | E10: 판넬/샤시 | F10: 8㎡ | G10: 03167 | H10: 서울 종로구 경희궁*길 2* | J10: 이창균
A11: 10 | B11: 김*만 | C11: 대림동 903-23 | D11: 주거(401호) | E11: 판넬/판넬 | F11: 8㎡ | G11: 07427 | H11: 서울특별시 영등포구 디지털로7*길 6-* | I11: 40*호 | J11: 강용찬
A12: 11 | B12: 허*두 | C12: 신길동 226-10 | D12: 주거(옥상) | E12: 판넬/판넬 | F12: 13㎡ | G12: 07385 | H12: 서울특별시 영등포구 신길로4*길 1*-* | J12: 김판석
A13: 12 | B13: 허*두 | C13: 신길동 226-10 | D13: 주거(창고)옥상 | E13: 판넬/판넬 | F13: 3㎡ | G13: 07385 | H13: 서울특별시 영등포구 신길로4*길 1*-* | J13: 김판석
A14: 13 | B14: 이*희 | C14: 당산동1가 169 | D14: 점포1층 | E14: 천막/파이프 | F14: 5㎡ | G14: 08346 | H14: 서울특별시 구로구 개봉로1*길 4*-2* | I14: 40*호 | J14: 이창균
A15: 14 | B15: 장*원 | C15: 대림동 1093-32 | D15: 주거(4층) | E15: 판넬/판넬 | F15: 40㎡ | G15: 07705 | H15: 서울 강서구 강서로4*다길 3* | J15: 이창균
A16: 15 | B16: 조*형외 1 | C16: 대림동 854-20 | D16: 주거(4층) | E16: 판넬/판넬 | F16: 18㎡ | G16: 07429 | H16: 서울시 영등포구 대림로2*가길 9-* | J16: 강용찬
A17: 16 | B17: 윤*상 | C17: 대림동 714-1, (연길) | D17: 점포(1층) | E17: 천막/파이프 | F17: 6㎡ | G17: 07415 | H17: 서울특별시 영등포구 대림로2*길 2* | J17: 신환진
A18: 17 | B18: 윤*상 | C18: 대림동 714-1, (왕족발) | D18: 점포(1층) | E18: 천막/파이프 | F18: 6㎡ | G18: 07415 | H18: 서울특별시 영등포구 대림로2*길 2* | J18: 신환진
A19: 18 | B19: 윤*상 | C19: 대림동 714-1, (떡복기) | D19: 점포(1층) | E19: 천막/파이프 | F19: 6㎡ | G19: 07415 | H19: 서울특별시 영등포구 대림로2*길 2* | J19: 신환진
A20: 19 | B20: 윤*상 | C20: 대림동 714-1, (약국) | D20: 점포(1층) | E20: 천막/파이프 | F20: 4㎡ | G20: 07415 | H20: 서울특별시 영등포구 대림로2*길 2* | J20: 신환진
A21: 20 | B21: 최*정 | C21: 대림동 1025-44 | D21: 주거(옥상) | E21: 판넬/판넬 | F21: 56㎡ | G21: 07446 | H21: 서울특별시 영등포구 디지털로5*길 2*-1* | J21: 이창균
A22: 21 | B22: 이*수 | C22: 대림동 662-16 | D22: 주거(1층) | E22: 판넬/판넬 | F22: 7.75㎡ | G22: 07381 | H22: 서울특별시 영등포구 가마산로4*길 1*-* | J22: 신환진
A23: 22 | B23: 이*수 | C23: 대림동 662-16 | D23: 주거(4층) | E23: 판넬/판넬 | F23: 2.7㎡ | G23: 07381 | H23: 서울특별시 영등포구 가마산로4*길 1*-* | J23: 신환진
A24: 23 | B24: 이*수 | C24: 대림동 662-16 | D24: 주거(4층) | E24: 판넬/판넬 | F24: 5.23㎡ | G24: 07381 | H24: 서울특별시 영등포구 가마산로4*길 1*-* | J24: 신환진
A25: 24 | B25: 김*임 | C25: 대림동 1080-56 | D25: 주거(3층) | E25: 판넬/판넬 | F25: 18㎡ | G25: 07447 | H25: 서울특별시 영등포구 디지털로3*길 1*-* | J25: 이창균
A26: 25 | B26: 배*길 | C26: 대림동 987-1 | D26: 주거(옥탑1층) | E26: 철파이프조 | F26: 14㎡ | G26: 07442 | H26: 서울시 영등포구 대림로 *나길 1*-* | I26: 60*호 | J26: 강용찬
A27: 26 | B27: 배*길 | C27: 대림동 987-1 | D27: 주거(6층) | E27: 철파이프조 | F27: 4㎡ | G27: 07442 | H27: 서울시 영등포구 대림로 *나길 1*-* | I27: 60*호 | J27: 강용찬
A28: 27 | B28: 김*영 | C28: 대림동 1080-18 | D28: 주거(4층) | E28: 판넬/판넬 | F28: 7㎡ | G28: 07072 | H28: 서울시 동작구 신대방*가길 3* | I28: 10*동 70*호 | J28: 이창균
A29: 28 | B29: 김*영 | C29: 대림동 1080-18 | D29: 주거(5층) | E29: 판넬/판넬 | F29: 12㎡ | G29: 07072 | H29: 서울시 동작구 신대방*가길 3* | I29: 10*동 70*호 | J29: 이창균
A30: 29 | B30: 장*정외1 | C30: 대림동 858-28 | D30: 주거(3층) | E30: 판넬/샤시 | F30: 3㎡ | G30: 04167 | H30: 서울특별시 마포구 마포대로 3* | I30: *동 200*호 | J30: 강용찬
A31: 30 | B31: 장*정외1 | C31: 대림동 858-28 | D31: 주거(옥탑) | E31: 판넬/판넬 | F31: 14㎡ | G31: 04167 | H31: 서울특별시 마포구 마포대로 3* | I31: *동 200*호 | J31: 강용찬
A32: 31 | B32: 김*심 | C32: 대림동 1095-28 | D32: 주거(4층) | E32: 판넬/판넬 | F32: 7㎡ | G32: 07448 | H32: 서울특별시 영등포구 디지털로3*길 1*-* | J32: 이창균
A33: 32 | B33: 박*승 | C33: 대림동 1095-31 | D33: 주거(4층) | E33: 판넬/판넬 | F33: 7㎡ | G33: 07448 | H33: 서울특별시 영등포구 디지털로3*길 1*-* | I33: 40*호 | J33: 이창균
A34: 33 | B34: 김*연 | C34: 대림동 1079-41 | D34: 주거(5층) | E34: 판넬/판넬 | F34: 15㎡ | G34: 08006 | H34: 서울시 양천구 목동동로1*길 1*-* | J34: 이창균
A35: 34 | B35: 김*연 | C35: 대림동 1079-41 | D35: 주거(1층) | E35: 판넬/판넬 | F35: 3㎡ | G35: 08006 | H35: 서울시 양천구 목동동로1*길 1*-* | J35: 이창균
A36: 35 | B36: 김*웅외2 | C36: 신길동 3653 | D36: 주거1층(후면) | E36: 판넬/판넬 | F36: 70㎡ | G36: 04317 | H36: 서울특별시 용산구 백범로 31* | I36: 10*동 140*호 | J36: 송기철
A37: 36 | B37: 김*웅 | C37: 신길동 2579-30 | D37: 점포(1층) | E37: 판넬/샤시 | F37: 30㎡ | G37: 04317 | H37: 서울특별시 용산구 백범로 31* | I37: 10*동 140*호 | J37: 송기철
A38: 37 | B38: 교*자산신탁주식회사 | C38: 대림동 738-19 | D38: 주거(401호) | E38: 판넬/판넬 | F38: 15㎡ | G38: 06194 | H38: 서울특별시 강남구 테헤란로 42* | J38: 신환진
A39: 38 | B39: 교*자산신탁주식회사 | C39: 대림동 738-19 | D39: 주거(402호) | E39: 판넬/판넬 | F39: 15㎡ | G39: 06194 | H39: 서울특별시 강남구 테헤란로 42* | J39: 신환진
A40: 39 | B40: 교*자산신탁주식회사 | C40: 대림동 738-19 | D40: 주거(501호) | E40: 판넬/판넬 | F40: 16㎡ | G40: 06194 | H40: 서울특별시 강남구 테헤란로 42* | J40: 신환진
...

Sheet Sheet2
A1: =REPLACE(Sheet1!B2,2,1,"*") -> 전*수 | C1: 납세자
A2: =REPLACE(Sheet1!B3,2,1,"*") -> 김*현 | C2: 전정수 | D2: =REPLACE(C2,2,1,"*") -> 전*수 | G2: =REPLACE(F2,2,1,"*") -> *
A3: =REPLACE(Sheet1!B4,2,1,"*") -> 최*성 | C3: 김정현 | D3: =REPLACE(C3,2,1,"*") -> 김*현 | G3: =REPLACE(F3,2,1,"*") -> *
A4: =REPLACE(Sheet1!B5,2,1,"*") -> 권*헌 | C4: 최지성 | D4: =REPLACE(C4,2,1,"*") -> 최*성 | G4: =REPLACE(F4,2,1,"*") -> *
A5: =REPLACE(Sheet1!B6,2,1,"*") -> 박*권외 2 | C5: 권태헌 | D5: =REPLACE(C5,2,1,"*") -> 권*헌 | G5: =REPLACE(F5,2,1,"*") -> *
A6: =REPLACE(Sheet1!B7,2,1,"*") -> 오*석 | C6: 박병권외 2 | D6: =REPLACE(C6,2,1,"*") -> 박*권외 2 | G6: =REPLACE(F6,2,1,"*") -> *
A7: =REPLACE(Sheet1!B8,2,1,"*") -> 오*석 | C7: 오현석 | D7: =REPLACE(C7,2,1,"*") -> 오*석 | G7: =REPLACE(F7,2,1,"*") -> *
A8: =REPLACE(Sheet1!B9,2,1,"*") -> 윤*상 | C8: 오현석 | D8: =REPLACE(C8,2,1,"*") -> 오*석 | G8: =REPLACE(F8,2,1,"*") -> *
A9: =REPLACE(Sheet1!B10,2,1,"*") -> 김*례 | C9: 윤요상 | D9: =REPLACE(C9,2,1,"*") -> 윤*상 | G9: =REPLACE(F9,2,1,"*") -> *
A10: =REPLACE(Sheet1!B11,2,1,"*") -> 김*만 | C10: 김선례 | D10: =REPLACE(C10,2,1,"*") -> 김*례 | G10: =REPLACE(F10,2,1,"*") -> *
A11: =REPLACE(Sheet1!B12,2,1,"*") -> 허*두 | C11: 김덕만 | D11: =REPLACE(C11,2,1,"*") -> 김*만 | G11: =REPLACE(F11,2,1,"*") -> *
A12: =REPLACE(Sheet1!B13,2,1,"*") -> 허*두 | C12: 허회두 | D12: =REPLACE(C12,2,1,"*") -> 허*두 | G12: =REPLACE(F12,2,1,"*") -> *
A13: =REPLACE(Sheet1!B14,2,1,"*") -> 이*희 | C13: 허회두 | D13: =REPLACE(C13,2,1,"*") -> 허*두 | G13: =REPLACE(F13,2,1,"*") -> *
... A421: =REPLACE(Sheet1!B422,2,1,"*") -> 장*복 | C421: 장기복 | D421: =REPLACE(C421,2,1,"*") -> 장*복 | G421: =REPLACE(F421,2,1,"*") -> *
C422: 장기복 | D422: =REPLACE(C422,2,1,"*") -> 장*복 | G422: =REPLACE(F422,2,1,"*") -> *

Sheet Sheet3
