Workbook

Sheet 배달결과
A2: 2019년 교통유발부담금 정기분 고지서 송시송달 상세내역
A4: 순번 | B4: 부과년도 | C4: 소유자명 | D4: 소유자도로명주소 | E4: 배송일자
A5: 1 | B5: 2019 | C5: (주) 데우스이* | D5: 강원도 원주시 서원대로 383 한신프라자 501호 （개운동） | E5: 2019-10-08
A6: 2 | B6: 2019 | C6: (주)경남무* | D6: 경상남도 양산시 양산역로 95 302호 （중부동, 리버사이드빌딩） | E6: 2019-10-08
A7: 3 | B7: 2019 | C7: (주)글로벌빌* | D7: 경상남도 양산시 물금읍 오봉로 5-3 2층 | E7: 2019-10-08
A8: 4 | B8: 2019 | C8: (주)금강프라* | D8: 부산광역시 금정구 금강로 427 5층 1호 （구서동） | E8: 2019-10-08
A9: 5 | B9: 2019 | C9: (주)대동주* | D9: 경상남도 창원시 성산구 중앙대로84번길 3 （상남동 범한빌딩） | E9: 2019-10-08
A10: 6 | B10: 2019 | C10: (주)덕* | D10: 부산광역시 수영구 연수로315번길 16 104동 905호 （망미동, 더샵파크리치） | E10: 2019-10-08
A11: 7 | B11: 2019 | C11: (주)동균엠* | D11: 경상남도 양산시 산막공단남11길 65-2 2층 （북정동） | E11: 2019-10-08
A12: 8 | B12: 2019 | C12: (주)디딤씨앤* | D12: 부산광역시 연제구 월드컵대로 221-9 2층 （거제동） | E12: 2019-10-08
A13: 9 | B13: 2019 | C13: (주)리베스트개* | D13: 부산광역시 연제구 법원로 20 1005호 （거제동, 로제스티빌딩） | E13: 2019-10-08
A14: 10 | B14: 2019 | C14: (주)무지개축* | D14: 경상남도 양산시 하북면 송골길 14-32 2동 | E14: 2019-10-08
A15: 11 | B15: 2019 | C15: (주)바른물* | D15: 경상남도 양산시 동면 남양산길 17 （남양산대형트럭매매상사） | E15: 2019-10-08
A16: 12 | B16: 2019 | C16: (주)비아이* | D16: 경상남도 양산시 물금읍 증산역로 153 정우프라자 504호 | E16: 2019-10-08
... A30: 26 | B30: 2019 | C30: (주)해아* | D30: 경상남도 양산시 고향의봄1길 8 양산수사우나 （신기동） | E30: 2019-10-08
A31: 27 | B31: 2019 | C31: =LEFT(Sheet2!AD28,2)&"*" -> 강경* | D31: 부산광역시 연제구 아시아드대로28번길 9 , 103동 203호 （거제동, 대우아파트） | E31: 2019-10-08
A32: 28 | B32: 2019 | C32: =LEFT(Sheet2!AD29,2)&"*" -> 강금* | D32: 경상남도 양산시 양주4길 19-3 （중부동） | E32: 2019-10-08
A33: 29 | B33: 2019 | C33: =LEFT(Sheet2!AD30,2)&"*" -> 강다* | D33: 경상남도 양산시 물금읍 서들로 179 , 113동 1401호 （반도유보라3차아파트） | E33: 2019-10-08
A34: 30 | B34: 2019 | C34: =LEFT(Sheet2!AD31,2)&"*" -> 강봉* | D34: 경상남도 양산시 물금읍 신주로 69 , 102동 1101호 （신창비바패밀리） | E34: 2019-10-08
A35: 31 | B35: 2019 | C35: =LEFT(Sheet2!AD32,2)&"*" -> 강봉* | D35: 부산광역시 서구 대티로 161 , 101동 704호 （서대신동3가, 대신 롯데캐슬） | E35: 2019-10-08
A36: 32 | B36: 2019 | C36: =LEFT(Sheet2!AD33,2)&"*" -> 강세* | D36: 부산광역시 해운대구 세실로 80 , 103동 1703호 （좌동, 해운대KCC스위첸아파트） | E36: 2019-10-08
A37: 33 | B37: 2019 | C37: =LEFT(Sheet2!AD34,2)&"*" -> 강정* | D37: 부산광역시 사상구 엄궁북로 61 , 403동 601호 （엄궁동, 엄궁롯데캐슬리버） | E37: 2019-10-08
A38: 34 | B38: 2019 | C38: =LEFT(Sheet2!AD35,2)&"*" -> 강해* | D38: 경상남도 밀양시 산내면 임고6길 109-9 | E38: 2019-10-08
A39: 35 | B39: 2019 | C39: =LEFT(Sheet2!AD36,2)&"*" -> 강희* | D39: 경상남도 양산시 물금읍 신주로 69 , 113동 1101호 （신창비바패밀리） | E39: 2019-10-08
A40: 36 | B40: 2019 | C40: =LEFT(Sheet2!AD37,2)&"*" -> 견록* | D40: 경상남도 양산시 물금읍 백호2길 101 유타운5층 | E40: 2019-10-08
A41: 37 | B41: 2019 | C41: =LEFT(Sheet2!AD38,2)&"*" -> 견록* | D41: 경상남도 양산시 물금읍 백호2길 101 유타운5층 | E41: 2019-10-08
A42: 38 | B42: 2019 | C42: =LEFT(Sheet2!AD39,2)&"*" -> 고경* | D42: 경상남도 양산시 양주로 33 , 105동 501호 （남부동, 양산1차 이-편한세상） | E42: 2019-10-08
... A537: 533 | B537: 2019 | C537: =LEFT(Sheet2!AD534,2)&"*" -> 황종* | D537: 부산광역시 해운대구 센텀동로 25 , 101동 3302호 （우동, 대우월드마크센텀） | E537: 2019-10-08

Sheet Sheet2
AD1: 이름
AD2: (주) 데우스이엠
AD3: (주)경남무역
AD4: (주)글로벌빌딩
AD5: (주)금강프라자
AD6: (주)대동주택
AD7: (주)덕분
AD8: (주)동균엠텍
AD9: (주)디딤씨앤씨
AD10: (주)리베스트개발
AD11: (주)무지개축산
AD12: (주)바른물류
... AD534: 황종화

Sheet Sheet3
